BEGIN:VCALENDAR
VERSION:2.0
PRODID:-//Le Montmartre - ECPv6.15.13//NONSGML v1.0//EN
CALSCALE:GREGORIAN
METHOD:PUBLISH
X-WR-CALNAME:Le Montmartre
X-ORIGINAL-URL:https://www.lemontmartre.ca
X-WR-CALDESC:Évènements pour Le Montmartre
REFRESH-INTERVAL;VALUE=DURATION:PT1H
X-Robots-Tag:noindex
X-PUBLISHED-TTL:PT1H
BEGIN:VTIMEZONE
TZID:America/Montreal
BEGIN:DAYLIGHT
TZOFFSETFROM:-0500
TZOFFSETTO:-0400
TZNAME:EDT
DTSTART:20250309T070000
END:DAYLIGHT
BEGIN:STANDARD
TZOFFSETFROM:-0400
TZOFFSETTO:-0500
TZNAME:EST
DTSTART:20251102T060000
END:STANDARD
BEGIN:DAYLIGHT
TZOFFSETFROM:-0500
TZOFFSETTO:-0400
TZNAME:EDT
DTSTART:20260308T070000
END:DAYLIGHT
BEGIN:STANDARD
TZOFFSETFROM:-0400
TZOFFSETTO:-0500
TZNAME:EST
DTSTART:20261101T060000
END:STANDARD
BEGIN:DAYLIGHT
TZOFFSETFROM:-0500
TZOFFSETTO:-0400
TZNAME:EDT
DTSTART:20270314T070000
END:DAYLIGHT
BEGIN:STANDARD
TZOFFSETFROM:-0400
TZOFFSETTO:-0500
TZNAME:EST
DTSTART:20271107T060000
END:STANDARD
END:VTIMEZONE
BEGIN:VEVENT
DTSTART;TZID=America/Montreal:20260303T070000
DTEND;TZID=America/Montreal:20260303T072000
DTSTAMP:20260420T001825
CREATED:20260104T234059Z
LAST-MODIFIED:20260104T234059Z
UID:10011604-1772521200-1772522400@www.lemontmartre.ca
SUMMARY:Laudes
DESCRIPTION:
URL:https://www.lemontmartre.ca/event/laudes-2/2026-03-03/
LOCATION:Sanctuaire Montmartre\, 1679\, chemin Saint-Louis\, Québec\, Québec\, G1S 1G5\, Canada
CATEGORIES:Offices religieux
END:VEVENT
BEGIN:VEVENT
DTSTART;TZID=America/Montreal:20260302T193000
DTEND;TZID=America/Montreal:20260302T210000
DTSTAMP:20260420T001825
CREATED:20260117T050509Z
LAST-MODIFIED:20260124T005459Z
UID:10012262-1772479800-1772485200@www.lemontmartre.ca
SUMMARY:«PRENDRE SOIN DE NOTRE ÊTRE AU FIL DES SAISONS DE NOTRE VIE» En compagnie et à l’écoute des "Écrits Spirituels" de François de Laval
DESCRIPTION:Formation en PRÉSENTIEL et en ZOOM*. \n*ZOOM sera accessible seulement aux personnes qui habitent à l’extérieur de la ville de Québec et pour qui il est impossible de se rendre à la rencontre en présentiel.
URL:https://www.lemontmartre.ca/event/prendre-soin-de-notre-etre-au-fil-des-saisons-de-notre-vie-en-compagnie-et-a-lecoute-des-ecrits-spirituels-de-francois-de-laval/2026-03-02/
LOCATION:Sanctuaire Montmartre\, 1679\, chemin Saint-Louis\, Québec\, Québec\, G1S 1G5\, Canada
CATEGORIES:Formations
ATTACH;FMTTYPE=image/jpeg:https://www.lemontmartre.ca/wp-content/uploads/2026/01/Formation-Francois-de-Laval-Edouard-Shatov-Hiver-Ete-2026-Facebook-Cover.jpg
END:VEVENT
BEGIN:VEVENT
DTSTART;TZID=America/Montreal:20260302T173000
DTEND;TZID=America/Montreal:20260302T175000
DTSTAMP:20260420T001825
CREATED:20260105T001422Z
LAST-MODIFIED:20260105T001422Z
UID:10012104-1772472600-1772473800@www.lemontmartre.ca
SUMMARY:Vêpres
DESCRIPTION:Les vêpres sont précédées de méditation dite oraison pendant 30 minutes.
URL:https://www.lemontmartre.ca/event/vepres-2/2026-03-02/
LOCATION:Sanctuaire Montmartre\, 1679\, chemin Saint-Louis\, Québec\, Québec\, G1S 1G5\, Canada
CATEGORIES:Offices religieux
END:VEVENT
BEGIN:VEVENT
DTSTART;TZID=America/Montreal:20260302T111500
DTEND;TZID=America/Montreal:20260302T115000
DTSTAMP:20260420T001825
CREATED:20260105T000306Z
LAST-MODIFIED:20260105T000306Z
UID:10011804-1772450100-1772452200@www.lemontmartre.ca
SUMMARY:Messe à 11h15
DESCRIPTION:
URL:https://www.lemontmartre.ca/event/messe-a-11h15/2026-03-02/
LOCATION:Sanctuaire Montmartre\, 1679\, chemin Saint-Louis\, Québec\, Québec\, G1S 1G5\, Canada
CATEGORIES:Offices religieux
END:VEVENT
BEGIN:VEVENT
DTSTART;TZID=America/Montreal:20260302T072500
DTEND;TZID=America/Montreal:20260302T075500
DTSTAMP:20260420T001825
CREATED:20260214T021845Z
LAST-MODIFIED:20260214T021845Z
UID:10011697-1772436300-1772438100@www.lemontmartre.ca
SUMMARY:Messe à 7h25
DESCRIPTION:
URL:https://www.lemontmartre.ca/event/messe-a-7h25-2/2026-03-02/
LOCATION:Sanctuaire Montmartre\, 1679\, chemin Saint-Louis\, Québec\, Québec\, G1S 1G5\, Canada
CATEGORIES:Offices religieux
END:VEVENT
BEGIN:VEVENT
DTSTART;TZID=America/Montreal:20260302T070000
DTEND;TZID=America/Montreal:20260302T072000
DTSTAMP:20260420T001825
CREATED:20260104T234059Z
LAST-MODIFIED:20260104T234059Z
UID:10011603-1772434800-1772436000@www.lemontmartre.ca
SUMMARY:Laudes
DESCRIPTION:
URL:https://www.lemontmartre.ca/event/laudes-2/2026-03-02/
LOCATION:Sanctuaire Montmartre\, 1679\, chemin Saint-Louis\, Québec\, Québec\, G1S 1G5\, Canada
CATEGORIES:Offices religieux
END:VEVENT
BEGIN:VEVENT
DTSTART;TZID=America/Montreal:20260301T080000
DTEND;TZID=America/Montreal:20260301T082000
DTSTAMP:20260420T001825
CREATED:20260105T003233Z
LAST-MODIFIED:20260105T003233Z
UID:10012211-1772352000-1772353200@www.lemontmartre.ca
SUMMARY:Laudes
DESCRIPTION:
URL:https://www.lemontmartre.ca/event/laudes-3/2026-03-01/
LOCATION:Sanctuaire Montmartre\, 1679\, chemin Saint-Louis\, Québec\, Québec\, G1S 1G5\, Canada
CATEGORIES:Offices religieux
END:VEVENT
BEGIN:VEVENT
DTSTART;TZID=America/Montreal:20260228T173000
DTEND;TZID=America/Montreal:20260228T175000
DTSTAMP:20260420T001825
CREATED:20260105T001422Z
LAST-MODIFIED:20260105T001422Z
UID:10012103-1772299800-1772301000@www.lemontmartre.ca
SUMMARY:Vêpres
DESCRIPTION:Les vêpres sont précédées de méditation dite oraison pendant 30 minutes.
URL:https://www.lemontmartre.ca/event/vepres-2/2026-02-28/
LOCATION:Sanctuaire Montmartre\, 1679\, chemin Saint-Louis\, Québec\, Québec\, G1S 1G5\, Canada
CATEGORIES:Offices religieux
END:VEVENT
BEGIN:VEVENT
DTSTART;TZID=America/Montreal:20260228T111500
DTEND;TZID=America/Montreal:20260228T115000
DTSTAMP:20260420T001825
CREATED:20260105T000306Z
LAST-MODIFIED:20260105T000306Z
UID:10011803-1772277300-1772279400@www.lemontmartre.ca
SUMMARY:Messe à 11h15
DESCRIPTION:
URL:https://www.lemontmartre.ca/event/messe-a-11h15/2026-02-28/
LOCATION:Sanctuaire Montmartre\, 1679\, chemin Saint-Louis\, Québec\, Québec\, G1S 1G5\, Canada
CATEGORIES:Offices religieux
END:VEVENT
BEGIN:VEVENT
DTSTART;TZID=America/Montreal:20260227T173000
DTEND;TZID=America/Montreal:20260227T175000
DTSTAMP:20260420T001825
CREATED:20260105T001422Z
LAST-MODIFIED:20260105T001422Z
UID:10012102-1772213400-1772214600@www.lemontmartre.ca
SUMMARY:Vêpres
DESCRIPTION:Les vêpres sont précédées de méditation dite oraison pendant 30 minutes.
URL:https://www.lemontmartre.ca/event/vepres-2/2026-02-27/
LOCATION:Sanctuaire Montmartre\, 1679\, chemin Saint-Louis\, Québec\, Québec\, G1S 1G5\, Canada
CATEGORIES:Offices religieux
END:VEVENT
BEGIN:VEVENT
DTSTART;TZID=America/Montreal:20260227T170000
DTEND;TZID=America/Montreal:20260227T173000
DTSTAMP:20260420T001825
CREATED:20260105T002130Z
LAST-MODIFIED:20260105T004525Z
UID:10012187-1772211600-1772213400@www.lemontmartre.ca
SUMMARY:Adoration
DESCRIPTION:
URL:https://www.lemontmartre.ca/event/adoration-2/2026-02-27/
LOCATION:Sanctuaire Montmartre\, 1679\, chemin Saint-Louis\, Québec\, Québec\, G1S 1G5\, Canada
CATEGORIES:Offices religieux
END:VEVENT
BEGIN:VEVENT
DTSTART;TZID=America/Montreal:20260227T111500
DTEND;TZID=America/Montreal:20260227T115000
DTSTAMP:20260420T001825
CREATED:20260105T000306Z
LAST-MODIFIED:20260105T000306Z
UID:10011802-1772190900-1772193000@www.lemontmartre.ca
SUMMARY:Messe à 11h15
DESCRIPTION:
URL:https://www.lemontmartre.ca/event/messe-a-11h15/2026-02-27/
LOCATION:Sanctuaire Montmartre\, 1679\, chemin Saint-Louis\, Québec\, Québec\, G1S 1G5\, Canada
CATEGORIES:Offices religieux
END:VEVENT
BEGIN:VEVENT
DTSTART;TZID=America/Montreal:20260227T072500
DTEND;TZID=America/Montreal:20260227T075500
DTSTAMP:20260420T001825
CREATED:20260214T021845Z
LAST-MODIFIED:20260214T021845Z
UID:10011696-1772177100-1772178900@www.lemontmartre.ca
SUMMARY:Messe à 7h25
DESCRIPTION:
URL:https://www.lemontmartre.ca/event/messe-a-7h25-2/2026-02-27/
LOCATION:Sanctuaire Montmartre\, 1679\, chemin Saint-Louis\, Québec\, Québec\, G1S 1G5\, Canada
CATEGORIES:Offices religieux
END:VEVENT
BEGIN:VEVENT
DTSTART;TZID=America/Montreal:20260227T070000
DTEND;TZID=America/Montreal:20260227T072000
DTSTAMP:20260420T001825
CREATED:20260104T234059Z
LAST-MODIFIED:20260104T234059Z
UID:10011602-1772175600-1772176800@www.lemontmartre.ca
SUMMARY:Laudes
DESCRIPTION:
URL:https://www.lemontmartre.ca/event/laudes-2/2026-02-27/
LOCATION:Sanctuaire Montmartre\, 1679\, chemin Saint-Louis\, Québec\, Québec\, G1S 1G5\, Canada
CATEGORIES:Offices religieux
END:VEVENT
BEGIN:VEVENT
DTSTART;TZID=America/Montreal:20260226T173000
DTEND;TZID=America/Montreal:20260226T175000
DTSTAMP:20260420T001825
CREATED:20260105T001422Z
LAST-MODIFIED:20260105T001422Z
UID:10012101-1772127000-1772128200@www.lemontmartre.ca
SUMMARY:Vêpres
DESCRIPTION:Les vêpres sont précédées de méditation dite oraison pendant 30 minutes.
URL:https://www.lemontmartre.ca/event/vepres-2/2026-02-26/
LOCATION:Sanctuaire Montmartre\, 1679\, chemin Saint-Louis\, Québec\, Québec\, G1S 1G5\, Canada
CATEGORIES:Offices religieux
END:VEVENT
BEGIN:VEVENT
DTSTART;TZID=America/Montreal:20260226T111500
DTEND;TZID=America/Montreal:20260226T115000
DTSTAMP:20260420T001825
CREATED:20260105T000306Z
LAST-MODIFIED:20260105T000306Z
UID:10011801-1772104500-1772106600@www.lemontmartre.ca
SUMMARY:Messe à 11h15
DESCRIPTION:
URL:https://www.lemontmartre.ca/event/messe-a-11h15/2026-02-26/
LOCATION:Sanctuaire Montmartre\, 1679\, chemin Saint-Louis\, Québec\, Québec\, G1S 1G5\, Canada
CATEGORIES:Offices religieux
END:VEVENT
BEGIN:VEVENT
DTSTART;TZID=America/Montreal:20260226T072500
DTEND;TZID=America/Montreal:20260226T075500
DTSTAMP:20260420T001825
CREATED:20260214T021845Z
LAST-MODIFIED:20260214T021845Z
UID:10011695-1772090700-1772092500@www.lemontmartre.ca
SUMMARY:Messe à 7h25
DESCRIPTION:
URL:https://www.lemontmartre.ca/event/messe-a-7h25-2/2026-02-26/
LOCATION:Sanctuaire Montmartre\, 1679\, chemin Saint-Louis\, Québec\, Québec\, G1S 1G5\, Canada
CATEGORIES:Offices religieux
END:VEVENT
BEGIN:VEVENT
DTSTART;TZID=America/Montreal:20260226T070000
DTEND;TZID=America/Montreal:20260226T072000
DTSTAMP:20260420T001825
CREATED:20260104T234059Z
LAST-MODIFIED:20260104T234059Z
UID:10011601-1772089200-1772090400@www.lemontmartre.ca
SUMMARY:Laudes
DESCRIPTION:
URL:https://www.lemontmartre.ca/event/laudes-2/2026-02-26/
LOCATION:Sanctuaire Montmartre\, 1679\, chemin Saint-Louis\, Québec\, Québec\, G1S 1G5\, Canada
CATEGORIES:Offices religieux
END:VEVENT
BEGIN:VEVENT
DTSTART;TZID=America/Montreal:20260225T173000
DTEND;TZID=America/Montreal:20260225T175000
DTSTAMP:20260420T001825
CREATED:20260105T001422Z
LAST-MODIFIED:20260105T001422Z
UID:10012100-1772040600-1772041800@www.lemontmartre.ca
SUMMARY:Vêpres
DESCRIPTION:Les vêpres sont précédées de méditation dite oraison pendant 30 minutes.
URL:https://www.lemontmartre.ca/event/vepres-2/2026-02-25/
LOCATION:Sanctuaire Montmartre\, 1679\, chemin Saint-Louis\, Québec\, Québec\, G1S 1G5\, Canada
CATEGORIES:Offices religieux
END:VEVENT
BEGIN:VEVENT
DTSTART;TZID=America/Montreal:20260225T150000
DTEND;TZID=America/Montreal:20260225T163000
DTSTAMP:20260420T001825
CREATED:20260117T045810Z
LAST-MODIFIED:20260124T004824Z
UID:10012252-1772031600-1772037000@www.lemontmartre.ca
SUMMARY:«DIEU EST À L'OEUVRE EN CET ÂGE».  "Les Actes des Apôtres" comme compagnon de route pour la vie heureuse et unifiée au quotidien
DESCRIPTION:Formation en PRÉSENTIEL et en ZOOM* \n*ZOOM sera accessible seulement aux personnes qui habitent à l’extérieur de la ville de Québec et pour qui il est impossible de se rendre à la rencontre en présentiel.
URL:https://www.lemontmartre.ca/event/dieu-est-a-loeuvre-en-cet-age-les-actes-des-apotres-comme-compagnon-de-route-pour-la-vie-heureuse-et-unifiee-au-quotidien-2/2026-02-25/
LOCATION:Sanctuaire Montmartre\, 1679\, chemin Saint-Louis\, Québec\, Québec\, G1S 1G5\, Canada
CATEGORIES:Formations
ATTACH;FMTTYPE=image/jpeg:https://www.lemontmartre.ca/wp-content/uploads/2025/09/Formation-Actes-des-Apotres-Edouard-Shatov-Automne-2025-Facebook-Cover-scaled.jpg
END:VEVENT
BEGIN:VEVENT
DTSTART;TZID=America/Montreal:20260225T111500
DTEND;TZID=America/Montreal:20260225T115000
DTSTAMP:20260420T001825
CREATED:20260105T000306Z
LAST-MODIFIED:20260105T000306Z
UID:10011800-1772018100-1772020200@www.lemontmartre.ca
SUMMARY:Messe à 11h15
DESCRIPTION:
URL:https://www.lemontmartre.ca/event/messe-a-11h15/2026-02-25/
LOCATION:Sanctuaire Montmartre\, 1679\, chemin Saint-Louis\, Québec\, Québec\, G1S 1G5\, Canada
CATEGORIES:Offices religieux
END:VEVENT
BEGIN:VEVENT
DTSTART;TZID=America/Montreal:20260225T072500
DTEND;TZID=America/Montreal:20260225T075500
DTSTAMP:20260420T001825
CREATED:20260214T021845Z
LAST-MODIFIED:20260214T021845Z
UID:10011694-1772004300-1772006100@www.lemontmartre.ca
SUMMARY:Messe à 7h25
DESCRIPTION:
URL:https://www.lemontmartre.ca/event/messe-a-7h25-2/2026-02-25/
LOCATION:Sanctuaire Montmartre\, 1679\, chemin Saint-Louis\, Québec\, Québec\, G1S 1G5\, Canada
CATEGORIES:Offices religieux
END:VEVENT
BEGIN:VEVENT
DTSTART;TZID=America/Montreal:20260225T070000
DTEND;TZID=America/Montreal:20260225T072000
DTSTAMP:20260420T001825
CREATED:20260104T234059Z
LAST-MODIFIED:20260104T234059Z
UID:10011600-1772002800-1772004000@www.lemontmartre.ca
SUMMARY:Laudes
DESCRIPTION:
URL:https://www.lemontmartre.ca/event/laudes-2/2026-02-25/
LOCATION:Sanctuaire Montmartre\, 1679\, chemin Saint-Louis\, Québec\, Québec\, G1S 1G5\, Canada
CATEGORIES:Offices religieux
END:VEVENT
BEGIN:VEVENT
DTSTART;TZID=America/Montreal:20260224T173000
DTEND;TZID=America/Montreal:20260224T175000
DTSTAMP:20260420T001825
CREATED:20260105T001422Z
LAST-MODIFIED:20260105T001422Z
UID:10012099-1771954200-1771955400@www.lemontmartre.ca
SUMMARY:Vêpres
DESCRIPTION:Les vêpres sont précédées de méditation dite oraison pendant 30 minutes.
URL:https://www.lemontmartre.ca/event/vepres-2/2026-02-24/
LOCATION:Sanctuaire Montmartre\, 1679\, chemin Saint-Louis\, Québec\, Québec\, G1S 1G5\, Canada
CATEGORIES:Offices religieux
END:VEVENT
BEGIN:VEVENT
DTSTART;TZID=America/Montreal:20260224T111500
DTEND;TZID=America/Montreal:20260224T115000
DTSTAMP:20260420T001825
CREATED:20260105T000306Z
LAST-MODIFIED:20260105T000306Z
UID:10011799-1771931700-1771933800@www.lemontmartre.ca
SUMMARY:Messe à 11h15
DESCRIPTION:
URL:https://www.lemontmartre.ca/event/messe-a-11h15/2026-02-24/
LOCATION:Sanctuaire Montmartre\, 1679\, chemin Saint-Louis\, Québec\, Québec\, G1S 1G5\, Canada
CATEGORIES:Offices religieux
END:VEVENT
BEGIN:VEVENT
DTSTART;TZID=America/Montreal:20260224T072500
DTEND;TZID=America/Montreal:20260224T075500
DTSTAMP:20260420T001825
CREATED:20260214T021845Z
LAST-MODIFIED:20260214T021845Z
UID:10011693-1771917900-1771919700@www.lemontmartre.ca
SUMMARY:Messe à 7h25
DESCRIPTION:
URL:https://www.lemontmartre.ca/event/messe-a-7h25-2/2026-02-24/
LOCATION:Sanctuaire Montmartre\, 1679\, chemin Saint-Louis\, Québec\, Québec\, G1S 1G5\, Canada
CATEGORIES:Offices religieux
END:VEVENT
BEGIN:VEVENT
DTSTART;TZID=America/Montreal:20260224T070000
DTEND;TZID=America/Montreal:20260224T072000
DTSTAMP:20260420T001825
CREATED:20260104T234059Z
LAST-MODIFIED:20260104T234059Z
UID:10011599-1771916400-1771917600@www.lemontmartre.ca
SUMMARY:Laudes
DESCRIPTION:
URL:https://www.lemontmartre.ca/event/laudes-2/2026-02-24/
LOCATION:Sanctuaire Montmartre\, 1679\, chemin Saint-Louis\, Québec\, Québec\, G1S 1G5\, Canada
CATEGORIES:Offices religieux
END:VEVENT
BEGIN:VEVENT
DTSTART;TZID=America/Montreal:20260223T173000
DTEND;TZID=America/Montreal:20260223T175000
DTSTAMP:20260420T001825
CREATED:20260105T001422Z
LAST-MODIFIED:20260105T001422Z
UID:10012098-1771867800-1771869000@www.lemontmartre.ca
SUMMARY:Vêpres
DESCRIPTION:Les vêpres sont précédées de méditation dite oraison pendant 30 minutes.
URL:https://www.lemontmartre.ca/event/vepres-2/2026-02-23/
LOCATION:Sanctuaire Montmartre\, 1679\, chemin Saint-Louis\, Québec\, Québec\, G1S 1G5\, Canada
CATEGORIES:Offices religieux
END:VEVENT
BEGIN:VEVENT
DTSTART;TZID=America/Montreal:20260223T111500
DTEND;TZID=America/Montreal:20260223T115000
DTSTAMP:20260420T001825
CREATED:20260105T000306Z
LAST-MODIFIED:20260105T000306Z
UID:10011798-1771845300-1771847400@www.lemontmartre.ca
SUMMARY:Messe à 11h15
DESCRIPTION:
URL:https://www.lemontmartre.ca/event/messe-a-11h15/2026-02-23/
LOCATION:Sanctuaire Montmartre\, 1679\, chemin Saint-Louis\, Québec\, Québec\, G1S 1G5\, Canada
CATEGORIES:Offices religieux
END:VEVENT
BEGIN:VEVENT
DTSTART;TZID=America/Montreal:20260223T072500
DTEND;TZID=America/Montreal:20260223T075500
DTSTAMP:20260420T001825
CREATED:20260214T021845Z
LAST-MODIFIED:20260214T021845Z
UID:10011692-1771831500-1771833300@www.lemontmartre.ca
SUMMARY:Messe à 7h25
DESCRIPTION:
URL:https://www.lemontmartre.ca/event/messe-a-7h25-2/2026-02-23/
LOCATION:Sanctuaire Montmartre\, 1679\, chemin Saint-Louis\, Québec\, Québec\, G1S 1G5\, Canada
CATEGORIES:Offices religieux
END:VEVENT
END:VCALENDAR