BEGIN:VCALENDAR
VERSION:2.0
PRODID:-//Le Montmartre - ECPv6.15.13//NONSGML v1.0//EN
CALSCALE:GREGORIAN
METHOD:PUBLISH
X-ORIGINAL-URL:https://www.lemontmartre.ca
X-WR-CALDESC:Évènements pour Le Montmartre
REFRESH-INTERVAL;VALUE=DURATION:PT1H
X-Robots-Tag:noindex
X-PUBLISHED-TTL:PT1H
BEGIN:VTIMEZONE
TZID:America/Montreal
BEGIN:DAYLIGHT
TZOFFSETFROM:-0500
TZOFFSETTO:-0400
TZNAME:EDT
DTSTART:20250309T070000
END:DAYLIGHT
BEGIN:STANDARD
TZOFFSETFROM:-0400
TZOFFSETTO:-0500
TZNAME:EST
DTSTART:20251102T060000
END:STANDARD
BEGIN:DAYLIGHT
TZOFFSETFROM:-0500
TZOFFSETTO:-0400
TZNAME:EDT
DTSTART:20260308T070000
END:DAYLIGHT
BEGIN:STANDARD
TZOFFSETFROM:-0400
TZOFFSETTO:-0500
TZNAME:EST
DTSTART:20261101T060000
END:STANDARD
BEGIN:DAYLIGHT
TZOFFSETFROM:-0500
TZOFFSETTO:-0400
TZNAME:EDT
DTSTART:20270314T070000
END:DAYLIGHT
BEGIN:STANDARD
TZOFFSETFROM:-0400
TZOFFSETTO:-0500
TZNAME:EST
DTSTART:20271107T060000
END:STANDARD
END:VTIMEZONE
BEGIN:VEVENT
DTSTART;TZID=America/Montreal:20260309T111500
DTEND;TZID=America/Montreal:20260309T115000
DTSTAMP:20260419T190805
CREATED:20260105T000306Z
LAST-MODIFIED:20260105T000306Z
UID:10011810-1773054900-1773057000@www.lemontmartre.ca
SUMMARY:Messe à 11h15
DESCRIPTION:
URL:https://www.lemontmartre.ca/event/messe-a-11h15/2026-03-09/
LOCATION:Sanctuaire Montmartre\, 1679\, chemin Saint-Louis\, Québec\, Québec\, G1S 1G5\, Canada
CATEGORIES:Offices religieux
END:VEVENT
BEGIN:VEVENT
DTSTART;TZID=America/Montreal:20260309T072500
DTEND;TZID=America/Montreal:20260309T075500
DTSTAMP:20260419T190805
CREATED:20260214T021845Z
LAST-MODIFIED:20260214T021845Z
UID:10011701-1773041100-1773042900@www.lemontmartre.ca
SUMMARY:Messe à 7h25
DESCRIPTION:
URL:https://www.lemontmartre.ca/event/messe-a-7h25-2/2026-03-09/
LOCATION:Sanctuaire Montmartre\, 1679\, chemin Saint-Louis\, Québec\, Québec\, G1S 1G5\, Canada
CATEGORIES:Offices religieux
END:VEVENT
BEGIN:VEVENT
DTSTART;TZID=America/Montreal:20260309T070000
DTEND;TZID=America/Montreal:20260309T072000
DTSTAMP:20260419T190805
CREATED:20260104T234059Z
LAST-MODIFIED:20260104T234059Z
UID:10011608-1773039600-1773040800@www.lemontmartre.ca
SUMMARY:Laudes
DESCRIPTION:
URL:https://www.lemontmartre.ca/event/laudes-2/2026-03-09/
LOCATION:Sanctuaire Montmartre\, 1679\, chemin Saint-Louis\, Québec\, Québec\, G1S 1G5\, Canada
CATEGORIES:Offices religieux
END:VEVENT
BEGIN:VEVENT
DTSTART;TZID=America/Montreal:20260308T080000
DTEND;TZID=America/Montreal:20260308T082000
DTSTAMP:20260419T190805
CREATED:20260105T003233Z
LAST-MODIFIED:20260105T003233Z
UID:10012212-1772956800-1772958000@www.lemontmartre.ca
SUMMARY:Laudes
DESCRIPTION:
URL:https://www.lemontmartre.ca/event/laudes-3/2026-03-08/
LOCATION:Sanctuaire Montmartre\, 1679\, chemin Saint-Louis\, Québec\, Québec\, G1S 1G5\, Canada
CATEGORIES:Offices religieux
END:VEVENT
BEGIN:VEVENT
DTSTART;TZID=America/Montreal:20260307T173000
DTEND;TZID=America/Montreal:20260307T175000
DTSTAMP:20260419T190805
CREATED:20260105T001422Z
LAST-MODIFIED:20260105T001422Z
UID:10012109-1772904600-1772905800@www.lemontmartre.ca
SUMMARY:Vêpres
DESCRIPTION:Les vêpres sont précédées de méditation dite oraison pendant 30 minutes.
URL:https://www.lemontmartre.ca/event/vepres-2/2026-03-07/
LOCATION:Sanctuaire Montmartre\, 1679\, chemin Saint-Louis\, Québec\, Québec\, G1S 1G5\, Canada
CATEGORIES:Offices religieux
END:VEVENT
BEGIN:VEVENT
DTSTART;TZID=America/Montreal:20260307T111500
DTEND;TZID=America/Montreal:20260307T115000
DTSTAMP:20260419T190805
CREATED:20260105T000306Z
LAST-MODIFIED:20260105T000306Z
UID:10011809-1772882100-1772884200@www.lemontmartre.ca
SUMMARY:Messe à 11h15
DESCRIPTION:
URL:https://www.lemontmartre.ca/event/messe-a-11h15/2026-03-07/
LOCATION:Sanctuaire Montmartre\, 1679\, chemin Saint-Louis\, Québec\, Québec\, G1S 1G5\, Canada
CATEGORIES:Offices religieux
END:VEVENT
BEGIN:VEVENT
DTSTART;TZID=America/Montreal:20260306T193000
DTEND;TZID=America/Montreal:20260306T210000
DTSTAMP:20260419T190805
CREATED:20260105T002759Z
LAST-MODIFIED:20260105T002759Z
UID:10012200-1772825400-1772830800@www.lemontmartre.ca
SUMMARY:Messe suivie de l'adoration avec chants de Taizé
DESCRIPTION:
URL:https://www.lemontmartre.ca/event/messe-suivie-de-ladoration-avec-chants-de-taize-2/2026-03-06/
LOCATION:Sanctuaire Montmartre\, 1679\, chemin Saint-Louis\, Québec\, Québec\, G1S 1G5\, Canada
CATEGORIES:Offices religieux
END:VEVENT
BEGIN:VEVENT
DTSTART;TZID=America/Montreal:20260306T183000
DTEND;TZID=America/Montreal:20260306T193000
DTSTAMP:20260419T190805
CREATED:20260212T021239Z
LAST-MODIFIED:20260212T021818Z
UID:10012347-1772821800-1772825400@www.lemontmartre.ca
SUMMARY:Répétition de la chorale
DESCRIPTION:Pour préparer messe\, adoration avec des chants de Taizé et autres animations\n 
URL:https://www.lemontmartre.ca/event/repetition-de-la-chorale/2026-03-06/
LOCATION:Sanctuaire Montmartre\, 1679\, chemin Saint-Louis\, Québec\, Québec\, G1S 1G5\, Canada
CATEGORIES:Autres
END:VEVENT
BEGIN:VEVENT
DTSTART;TZID=America/Montreal:20260306T173000
DTEND;TZID=America/Montreal:20260306T175000
DTSTAMP:20260419T190805
CREATED:20260105T001422Z
LAST-MODIFIED:20260105T001422Z
UID:10012108-1772818200-1772819400@www.lemontmartre.ca
SUMMARY:Vêpres
DESCRIPTION:Les vêpres sont précédées de méditation dite oraison pendant 30 minutes.
URL:https://www.lemontmartre.ca/event/vepres-2/2026-03-06/
LOCATION:Sanctuaire Montmartre\, 1679\, chemin Saint-Louis\, Québec\, Québec\, G1S 1G5\, Canada
CATEGORIES:Offices religieux
END:VEVENT
BEGIN:VEVENT
DTSTART;TZID=America/Montreal:20260306T111500
DTEND;TZID=America/Montreal:20260306T115000
DTSTAMP:20260419T190805
CREATED:20260105T000306Z
LAST-MODIFIED:20260105T000306Z
UID:10011808-1772795700-1772797800@www.lemontmartre.ca
SUMMARY:Messe à 11h15
DESCRIPTION:
URL:https://www.lemontmartre.ca/event/messe-a-11h15/2026-03-06/
LOCATION:Sanctuaire Montmartre\, 1679\, chemin Saint-Louis\, Québec\, Québec\, G1S 1G5\, Canada
CATEGORIES:Offices religieux
END:VEVENT
BEGIN:VEVENT
DTSTART;TZID=America/Montreal:20260306T070000
DTEND;TZID=America/Montreal:20260306T072000
DTSTAMP:20260419T190805
CREATED:20260104T234059Z
LAST-MODIFIED:20260104T234059Z
UID:10011607-1772780400-1772781600@www.lemontmartre.ca
SUMMARY:Laudes
DESCRIPTION:
URL:https://www.lemontmartre.ca/event/laudes-2/2026-03-06/
LOCATION:Sanctuaire Montmartre\, 1679\, chemin Saint-Louis\, Québec\, Québec\, G1S 1G5\, Canada
CATEGORIES:Offices religieux
END:VEVENT
BEGIN:VEVENT
DTSTART;TZID=America/Montreal:20260305T173000
DTEND;TZID=America/Montreal:20260305T175000
DTSTAMP:20260419T190805
CREATED:20260105T001422Z
LAST-MODIFIED:20260105T001422Z
UID:10012107-1772731800-1772733000@www.lemontmartre.ca
SUMMARY:Vêpres
DESCRIPTION:Les vêpres sont précédées de méditation dite oraison pendant 30 minutes.
URL:https://www.lemontmartre.ca/event/vepres-2/2026-03-05/
LOCATION:Sanctuaire Montmartre\, 1679\, chemin Saint-Louis\, Québec\, Québec\, G1S 1G5\, Canada
CATEGORIES:Offices religieux
END:VEVENT
BEGIN:VEVENT
DTSTART;TZID=America/Montreal:20260305T111500
DTEND;TZID=America/Montreal:20260305T115000
DTSTAMP:20260419T190805
CREATED:20260105T000306Z
LAST-MODIFIED:20260105T000306Z
UID:10011807-1772709300-1772711400@www.lemontmartre.ca
SUMMARY:Messe à 11h15
DESCRIPTION:
URL:https://www.lemontmartre.ca/event/messe-a-11h15/2026-03-05/
LOCATION:Sanctuaire Montmartre\, 1679\, chemin Saint-Louis\, Québec\, Québec\, G1S 1G5\, Canada
CATEGORIES:Offices religieux
END:VEVENT
BEGIN:VEVENT
DTSTART;TZID=America/Montreal:20260305T072500
DTEND;TZID=America/Montreal:20260305T075500
DTSTAMP:20260419T190805
CREATED:20260214T021845Z
LAST-MODIFIED:20260214T021845Z
UID:10011700-1772695500-1772697300@www.lemontmartre.ca
SUMMARY:Messe à 7h25
DESCRIPTION:
URL:https://www.lemontmartre.ca/event/messe-a-7h25-2/2026-03-05/
LOCATION:Sanctuaire Montmartre\, 1679\, chemin Saint-Louis\, Québec\, Québec\, G1S 1G5\, Canada
CATEGORIES:Offices religieux
END:VEVENT
BEGIN:VEVENT
DTSTART;TZID=America/Montreal:20260305T070000
DTEND;TZID=America/Montreal:20260305T072000
DTSTAMP:20260419T190805
CREATED:20260104T234059Z
LAST-MODIFIED:20260104T234059Z
UID:10011606-1772694000-1772695200@www.lemontmartre.ca
SUMMARY:Laudes
DESCRIPTION:
URL:https://www.lemontmartre.ca/event/laudes-2/2026-03-05/
LOCATION:Sanctuaire Montmartre\, 1679\, chemin Saint-Louis\, Québec\, Québec\, G1S 1G5\, Canada
CATEGORIES:Offices religieux
END:VEVENT
BEGIN:VEVENT
DTSTART;TZID=America/Montreal:20260304T173000
DTEND;TZID=America/Montreal:20260304T175000
DTSTAMP:20260419T190805
CREATED:20260105T001422Z
LAST-MODIFIED:20260105T001422Z
UID:10012106-1772645400-1772646600@www.lemontmartre.ca
SUMMARY:Vêpres
DESCRIPTION:Les vêpres sont précédées de méditation dite oraison pendant 30 minutes.
URL:https://www.lemontmartre.ca/event/vepres-2/2026-03-04/
LOCATION:Sanctuaire Montmartre\, 1679\, chemin Saint-Louis\, Québec\, Québec\, G1S 1G5\, Canada
CATEGORIES:Offices religieux
END:VEVENT
BEGIN:VEVENT
DTSTART;TZID=America/Montreal:20260304T150000
DTEND;TZID=America/Montreal:20260304T163000
DTSTAMP:20260419T190805
CREATED:20260117T045810Z
LAST-MODIFIED:20260124T004824Z
UID:10012253-1772636400-1772641800@www.lemontmartre.ca
SUMMARY:«DIEU EST À L'OEUVRE EN CET ÂGE».  "Les Actes des Apôtres" comme compagnon de route pour la vie heureuse et unifiée au quotidien
DESCRIPTION:Formation en PRÉSENTIEL et en ZOOM* \n*ZOOM sera accessible seulement aux personnes qui habitent à l’extérieur de la ville de Québec et pour qui il est impossible de se rendre à la rencontre en présentiel.
URL:https://www.lemontmartre.ca/event/dieu-est-a-loeuvre-en-cet-age-les-actes-des-apotres-comme-compagnon-de-route-pour-la-vie-heureuse-et-unifiee-au-quotidien-2/2026-03-04/
LOCATION:Sanctuaire Montmartre\, 1679\, chemin Saint-Louis\, Québec\, Québec\, G1S 1G5\, Canada
CATEGORIES:Formations
ATTACH;FMTTYPE=image/jpeg:https://www.lemontmartre.ca/wp-content/uploads/2025/09/Formation-Actes-des-Apotres-Edouard-Shatov-Automne-2025-Facebook-Cover-scaled.jpg
END:VEVENT
BEGIN:VEVENT
DTSTART;TZID=America/Montreal:20260304T111500
DTEND;TZID=America/Montreal:20260304T115000
DTSTAMP:20260419T190805
CREATED:20260105T000306Z
LAST-MODIFIED:20260105T000306Z
UID:10011806-1772622900-1772625000@www.lemontmartre.ca
SUMMARY:Messe à 11h15
DESCRIPTION:
URL:https://www.lemontmartre.ca/event/messe-a-11h15/2026-03-04/
LOCATION:Sanctuaire Montmartre\, 1679\, chemin Saint-Louis\, Québec\, Québec\, G1S 1G5\, Canada
CATEGORIES:Offices religieux
END:VEVENT
BEGIN:VEVENT
DTSTART;TZID=America/Montreal:20260304T072500
DTEND;TZID=America/Montreal:20260304T075500
DTSTAMP:20260419T190805
CREATED:20260214T021845Z
LAST-MODIFIED:20260214T021845Z
UID:10011699-1772609100-1772610900@www.lemontmartre.ca
SUMMARY:Messe à 7h25
DESCRIPTION:
URL:https://www.lemontmartre.ca/event/messe-a-7h25-2/2026-03-04/
LOCATION:Sanctuaire Montmartre\, 1679\, chemin Saint-Louis\, Québec\, Québec\, G1S 1G5\, Canada
CATEGORIES:Offices religieux
END:VEVENT
BEGIN:VEVENT
DTSTART;TZID=America/Montreal:20260304T070000
DTEND;TZID=America/Montreal:20260304T072000
DTSTAMP:20260419T190805
CREATED:20260104T234059Z
LAST-MODIFIED:20260104T234059Z
UID:10011605-1772607600-1772608800@www.lemontmartre.ca
SUMMARY:Laudes
DESCRIPTION:
URL:https://www.lemontmartre.ca/event/laudes-2/2026-03-04/
LOCATION:Sanctuaire Montmartre\, 1679\, chemin Saint-Louis\, Québec\, Québec\, G1S 1G5\, Canada
CATEGORIES:Offices religieux
END:VEVENT
BEGIN:VEVENT
DTSTART;TZID=America/Montreal:20260303T190000
DTEND;TZID=America/Montreal:20260303T210000
DTSTAMP:20260419T190805
CREATED:20260214T014718Z
LAST-MODIFIED:20260214T014718Z
UID:10012380-1772564400-1772571600@www.lemontmartre.ca
SUMMARY:St Augustin – et le Pape Léon
DESCRIPTION:Formation avec Marcel Poirier\, augustin de l’Assomption
URL:https://www.lemontmartre.ca/event/st-augustin-et-le-pape-leon/2026-03-03/
LOCATION:Sanctuaire Montmartre\, 1679\, chemin Saint-Louis\, Québec\, Québec\, G1S 1G5\, Canada
CATEGORIES:Formations
ATTACH;FMTTYPE=image/jpeg:https://www.lemontmartre.ca/wp-content/uploads/2026/02/Formation-Augustin-Pape-Leon-Marcel-Poirier-2026-Facebook-Cover-Facebook-Cover.jpg
END:VEVENT
BEGIN:VEVENT
DTSTART;TZID=America/Montreal:20260303T173000
DTEND;TZID=America/Montreal:20260303T175000
DTSTAMP:20260419T190805
CREATED:20260105T001422Z
LAST-MODIFIED:20260105T001422Z
UID:10012105-1772559000-1772560200@www.lemontmartre.ca
SUMMARY:Vêpres
DESCRIPTION:Les vêpres sont précédées de méditation dite oraison pendant 30 minutes.
URL:https://www.lemontmartre.ca/event/vepres-2/2026-03-03/
LOCATION:Sanctuaire Montmartre\, 1679\, chemin Saint-Louis\, Québec\, Québec\, G1S 1G5\, Canada
CATEGORIES:Offices religieux
END:VEVENT
BEGIN:VEVENT
DTSTART;TZID=America/Montreal:20260303T111500
DTEND;TZID=America/Montreal:20260303T115000
DTSTAMP:20260419T190805
CREATED:20260105T000306Z
LAST-MODIFIED:20260105T000306Z
UID:10011805-1772536500-1772538600@www.lemontmartre.ca
SUMMARY:Messe à 11h15
DESCRIPTION:
URL:https://www.lemontmartre.ca/event/messe-a-11h15/2026-03-03/
LOCATION:Sanctuaire Montmartre\, 1679\, chemin Saint-Louis\, Québec\, Québec\, G1S 1G5\, Canada
CATEGORIES:Offices religieux
END:VEVENT
BEGIN:VEVENT
DTSTART;TZID=America/Montreal:20260303T072500
DTEND;TZID=America/Montreal:20260303T075500
DTSTAMP:20260419T190805
CREATED:20260214T021845Z
LAST-MODIFIED:20260214T021845Z
UID:10011698-1772522700-1772524500@www.lemontmartre.ca
SUMMARY:Messe à 7h25
DESCRIPTION:
URL:https://www.lemontmartre.ca/event/messe-a-7h25-2/2026-03-03/
LOCATION:Sanctuaire Montmartre\, 1679\, chemin Saint-Louis\, Québec\, Québec\, G1S 1G5\, Canada
CATEGORIES:Offices religieux
END:VEVENT
BEGIN:VEVENT
DTSTART;TZID=America/Montreal:20260303T070000
DTEND;TZID=America/Montreal:20260303T072000
DTSTAMP:20260419T190805
CREATED:20260104T234059Z
LAST-MODIFIED:20260104T234059Z
UID:10011604-1772521200-1772522400@www.lemontmartre.ca
SUMMARY:Laudes
DESCRIPTION:
URL:https://www.lemontmartre.ca/event/laudes-2/2026-03-03/
LOCATION:Sanctuaire Montmartre\, 1679\, chemin Saint-Louis\, Québec\, Québec\, G1S 1G5\, Canada
CATEGORIES:Offices religieux
END:VEVENT
BEGIN:VEVENT
DTSTART;TZID=America/Montreal:20260302T193000
DTEND;TZID=America/Montreal:20260302T210000
DTSTAMP:20260419T190805
CREATED:20260117T050509Z
LAST-MODIFIED:20260124T005459Z
UID:10012262-1772479800-1772485200@www.lemontmartre.ca
SUMMARY:«PRENDRE SOIN DE NOTRE ÊTRE AU FIL DES SAISONS DE NOTRE VIE» En compagnie et à l’écoute des "Écrits Spirituels" de François de Laval
DESCRIPTION:Formation en PRÉSENTIEL et en ZOOM*. \n*ZOOM sera accessible seulement aux personnes qui habitent à l’extérieur de la ville de Québec et pour qui il est impossible de se rendre à la rencontre en présentiel.
URL:https://www.lemontmartre.ca/event/prendre-soin-de-notre-etre-au-fil-des-saisons-de-notre-vie-en-compagnie-et-a-lecoute-des-ecrits-spirituels-de-francois-de-laval/2026-03-02/
LOCATION:Sanctuaire Montmartre\, 1679\, chemin Saint-Louis\, Québec\, Québec\, G1S 1G5\, Canada
CATEGORIES:Formations
ATTACH;FMTTYPE=image/jpeg:https://www.lemontmartre.ca/wp-content/uploads/2026/01/Formation-Francois-de-Laval-Edouard-Shatov-Hiver-Ete-2026-Facebook-Cover.jpg
END:VEVENT
BEGIN:VEVENT
DTSTART;TZID=America/Montreal:20260302T173000
DTEND;TZID=America/Montreal:20260302T175000
DTSTAMP:20260419T190805
CREATED:20260105T001422Z
LAST-MODIFIED:20260105T001422Z
UID:10012104-1772472600-1772473800@www.lemontmartre.ca
SUMMARY:Vêpres
DESCRIPTION:Les vêpres sont précédées de méditation dite oraison pendant 30 minutes.
URL:https://www.lemontmartre.ca/event/vepres-2/2026-03-02/
LOCATION:Sanctuaire Montmartre\, 1679\, chemin Saint-Louis\, Québec\, Québec\, G1S 1G5\, Canada
CATEGORIES:Offices religieux
END:VEVENT
BEGIN:VEVENT
DTSTART;TZID=America/Montreal:20260302T111500
DTEND;TZID=America/Montreal:20260302T115000
DTSTAMP:20260419T190805
CREATED:20260105T000306Z
LAST-MODIFIED:20260105T000306Z
UID:10011804-1772450100-1772452200@www.lemontmartre.ca
SUMMARY:Messe à 11h15
DESCRIPTION:
URL:https://www.lemontmartre.ca/event/messe-a-11h15/2026-03-02/
LOCATION:Sanctuaire Montmartre\, 1679\, chemin Saint-Louis\, Québec\, Québec\, G1S 1G5\, Canada
CATEGORIES:Offices religieux
END:VEVENT
BEGIN:VEVENT
DTSTART;TZID=America/Montreal:20260302T072500
DTEND;TZID=America/Montreal:20260302T075500
DTSTAMP:20260419T190805
CREATED:20260214T021845Z
LAST-MODIFIED:20260214T021845Z
UID:10011697-1772436300-1772438100@www.lemontmartre.ca
SUMMARY:Messe à 7h25
DESCRIPTION:
URL:https://www.lemontmartre.ca/event/messe-a-7h25-2/2026-03-02/
LOCATION:Sanctuaire Montmartre\, 1679\, chemin Saint-Louis\, Québec\, Québec\, G1S 1G5\, Canada
CATEGORIES:Offices religieux
END:VEVENT
BEGIN:VEVENT
DTSTART;TZID=America/Montreal:20260302T070000
DTEND;TZID=America/Montreal:20260302T072000
DTSTAMP:20260419T190805
CREATED:20260104T234059Z
LAST-MODIFIED:20260104T234059Z
UID:10011603-1772434800-1772436000@www.lemontmartre.ca
SUMMARY:Laudes
DESCRIPTION:
URL:https://www.lemontmartre.ca/event/laudes-2/2026-03-02/
LOCATION:Sanctuaire Montmartre\, 1679\, chemin Saint-Louis\, Québec\, Québec\, G1S 1G5\, Canada
CATEGORIES:Offices religieux
END:VEVENT
END:VCALENDAR