BEGIN:VCALENDAR
VERSION:2.0
PRODID:-//Le Montmartre - ECPv6.15.13//NONSGML v1.0//EN
CALSCALE:GREGORIAN
METHOD:PUBLISH
X-WR-CALNAME:Le Montmartre
X-ORIGINAL-URL:https://www.lemontmartre.ca
X-WR-CALDESC:Évènements pour Le Montmartre
REFRESH-INTERVAL;VALUE=DURATION:PT1H
X-Robots-Tag:noindex
X-PUBLISHED-TTL:PT1H
BEGIN:VTIMEZONE
TZID:America/Montreal
BEGIN:DAYLIGHT
TZOFFSETFROM:-0500
TZOFFSETTO:-0400
TZNAME:EDT
DTSTART:20250309T070000
END:DAYLIGHT
BEGIN:STANDARD
TZOFFSETFROM:-0400
TZOFFSETTO:-0500
TZNAME:EST
DTSTART:20251102T060000
END:STANDARD
BEGIN:DAYLIGHT
TZOFFSETFROM:-0500
TZOFFSETTO:-0400
TZNAME:EDT
DTSTART:20260308T070000
END:DAYLIGHT
BEGIN:STANDARD
TZOFFSETFROM:-0400
TZOFFSETTO:-0500
TZNAME:EST
DTSTART:20261101T060000
END:STANDARD
BEGIN:DAYLIGHT
TZOFFSETFROM:-0500
TZOFFSETTO:-0400
TZNAME:EDT
DTSTART:20270314T070000
END:DAYLIGHT
BEGIN:STANDARD
TZOFFSETFROM:-0400
TZOFFSETTO:-0500
TZNAME:EST
DTSTART:20271107T060000
END:STANDARD
END:VTIMEZONE
BEGIN:VEVENT
DTSTART;TZID=America/Montreal:20260522T170000
DTEND;TZID=America/Montreal:20260522T173000
DTSTAMP:20260420T113633
CREATED:20260105T002130Z
LAST-MODIFIED:20260105T004525Z
UID:10012197-1779469200-1779471000@www.lemontmartre.ca
SUMMARY:Adoration
DESCRIPTION:
URL:https://www.lemontmartre.ca/event/adoration-2/2026-05-22/
LOCATION:Sanctuaire Montmartre\, 1679\, chemin Saint-Louis\, Québec\, Québec\, G1S 1G5\, Canada
CATEGORIES:Offices religieux
END:VEVENT
BEGIN:VEVENT
DTSTART;TZID=America/Montreal:20260522T173000
DTEND;TZID=America/Montreal:20260522T175000
DTSTAMP:20260420T113633
CREATED:20260105T001422Z
LAST-MODIFIED:20260105T001422Z
UID:10012173-1779471000-1779472200@www.lemontmartre.ca
SUMMARY:Vêpres
DESCRIPTION:Les vêpres sont précédées de méditation dite oraison pendant 30 minutes.
URL:https://www.lemontmartre.ca/event/vepres-2/2026-05-22/
LOCATION:Sanctuaire Montmartre\, 1679\, chemin Saint-Louis\, Québec\, Québec\, G1S 1G5\, Canada
CATEGORIES:Offices religieux
END:VEVENT
BEGIN:VEVENT
DTSTART;TZID=America/Montreal:20260522T190000
DTEND;TZID=America/Montreal:20260522T200000
DTSTAMP:20260420T113633
CREATED:20260212T021239Z
LAST-MODIFIED:20260212T021818Z
UID:10012345-1779476400-1779480000@www.lemontmartre.ca
SUMMARY:Répétition de la chorale
DESCRIPTION:Pour préparer messe\, adoration avec des chants de Taizé et autres animations\n 
URL:https://www.lemontmartre.ca/event/repetition-de-la-chorale/2026-05-22/
LOCATION:Sanctuaire Montmartre\, 1679\, chemin Saint-Louis\, Québec\, Québec\, G1S 1G5\, Canada
CATEGORIES:Autres
END:VEVENT
BEGIN:VEVENT
DTSTART;TZID=America/Montreal:20260523T111500
DTEND;TZID=America/Montreal:20260523T115000
DTSTAMP:20260420T113633
CREATED:20260105T000306Z
LAST-MODIFIED:20260105T000306Z
UID:10011872-1779534900-1779537000@www.lemontmartre.ca
SUMMARY:Messe à 11h15
DESCRIPTION:
URL:https://www.lemontmartre.ca/event/messe-a-11h15/2026-05-23/
LOCATION:Sanctuaire Montmartre\, 1679\, chemin Saint-Louis\, Québec\, Québec\, G1S 1G5\, Canada
CATEGORIES:Offices religieux
END:VEVENT
BEGIN:VEVENT
DTSTART;TZID=America/Montreal:20260523T173000
DTEND;TZID=America/Montreal:20260523T175000
DTSTAMP:20260420T113633
CREATED:20260105T001422Z
LAST-MODIFIED:20260105T001422Z
UID:10012174-1779557400-1779558600@www.lemontmartre.ca
SUMMARY:Vêpres
DESCRIPTION:Les vêpres sont précédées de méditation dite oraison pendant 30 minutes.
URL:https://www.lemontmartre.ca/event/vepres-2/2026-05-23/
LOCATION:Sanctuaire Montmartre\, 1679\, chemin Saint-Louis\, Québec\, Québec\, G1S 1G5\, Canada
CATEGORIES:Offices religieux
END:VEVENT
BEGIN:VEVENT
DTSTART;TZID=America/Montreal:20260524T080000
DTEND;TZID=America/Montreal:20260524T082000
DTSTAMP:20260420T113633
CREATED:20260105T003233Z
LAST-MODIFIED:20260105T003233Z
UID:10012223-1779609600-1779610800@www.lemontmartre.ca
SUMMARY:Laudes
DESCRIPTION:
URL:https://www.lemontmartre.ca/event/laudes-3/2026-05-24/
LOCATION:Sanctuaire Montmartre\, 1679\, chemin Saint-Louis\, Québec\, Québec\, G1S 1G5\, Canada
CATEGORIES:Offices religieux
END:VEVENT
BEGIN:VEVENT
DTSTART;TZID=America/Montreal:20260525T070000
DTEND;TZID=America/Montreal:20260525T072000
DTSTAMP:20260420T113633
CREATED:20260104T234059Z
LAST-MODIFIED:20260104T234059Z
UID:10011653-1779692400-1779693600@www.lemontmartre.ca
SUMMARY:Laudes
DESCRIPTION:
URL:https://www.lemontmartre.ca/event/laudes-2/2026-05-25/
LOCATION:Sanctuaire Montmartre\, 1679\, chemin Saint-Louis\, Québec\, Québec\, G1S 1G5\, Canada
CATEGORIES:Offices religieux
END:VEVENT
BEGIN:VEVENT
DTSTART;TZID=America/Montreal:20260525T072500
DTEND;TZID=America/Montreal:20260525T075500
DTSTAMP:20260420T113633
CREATED:20260214T021845Z
LAST-MODIFIED:20260214T021845Z
UID:10011751-1779693900-1779695700@www.lemontmartre.ca
SUMMARY:Messe à 7h25
DESCRIPTION:
URL:https://www.lemontmartre.ca/event/messe-a-7h25-2/2026-05-25/
LOCATION:Sanctuaire Montmartre\, 1679\, chemin Saint-Louis\, Québec\, Québec\, G1S 1G5\, Canada
CATEGORIES:Offices religieux
END:VEVENT
BEGIN:VEVENT
DTSTART;TZID=America/Montreal:20260525T111500
DTEND;TZID=America/Montreal:20260525T115000
DTSTAMP:20260420T113633
CREATED:20260105T000306Z
LAST-MODIFIED:20260105T000306Z
UID:10011873-1779707700-1779709800@www.lemontmartre.ca
SUMMARY:Messe à 11h15
DESCRIPTION:
URL:https://www.lemontmartre.ca/event/messe-a-11h15/2026-05-25/
LOCATION:Sanctuaire Montmartre\, 1679\, chemin Saint-Louis\, Québec\, Québec\, G1S 1G5\, Canada
CATEGORIES:Offices religieux
END:VEVENT
BEGIN:VEVENT
DTSTART;TZID=America/Montreal:20260525T173000
DTEND;TZID=America/Montreal:20260525T175000
DTSTAMP:20260420T113633
CREATED:20260105T001422Z
LAST-MODIFIED:20260105T001422Z
UID:10012175-1779730200-1779731400@www.lemontmartre.ca
SUMMARY:Vêpres
DESCRIPTION:Les vêpres sont précédées de méditation dite oraison pendant 30 minutes.
URL:https://www.lemontmartre.ca/event/vepres-2/2026-05-25/
LOCATION:Sanctuaire Montmartre\, 1679\, chemin Saint-Louis\, Québec\, Québec\, G1S 1G5\, Canada
CATEGORIES:Offices religieux
END:VEVENT
BEGIN:VEVENT
DTSTART;TZID=America/Montreal:20260526T070000
DTEND;TZID=America/Montreal:20260526T072000
DTSTAMP:20260420T113633
CREATED:20260104T234059Z
LAST-MODIFIED:20260104T234059Z
UID:10011654-1779778800-1779780000@www.lemontmartre.ca
SUMMARY:Laudes
DESCRIPTION:
URL:https://www.lemontmartre.ca/event/laudes-2/2026-05-26/
LOCATION:Sanctuaire Montmartre\, 1679\, chemin Saint-Louis\, Québec\, Québec\, G1S 1G5\, Canada
CATEGORIES:Offices religieux
END:VEVENT
BEGIN:VEVENT
DTSTART;TZID=America/Montreal:20260526T072500
DTEND;TZID=America/Montreal:20260526T075500
DTSTAMP:20260420T113633
CREATED:20260214T021845Z
LAST-MODIFIED:20260214T021845Z
UID:10011752-1779780300-1779782100@www.lemontmartre.ca
SUMMARY:Messe à 7h25
DESCRIPTION:
URL:https://www.lemontmartre.ca/event/messe-a-7h25-2/2026-05-26/
LOCATION:Sanctuaire Montmartre\, 1679\, chemin Saint-Louis\, Québec\, Québec\, G1S 1G5\, Canada
CATEGORIES:Offices religieux
END:VEVENT
BEGIN:VEVENT
DTSTART;TZID=America/Montreal:20260526T111500
DTEND;TZID=America/Montreal:20260526T115000
DTSTAMP:20260420T113633
CREATED:20260105T000306Z
LAST-MODIFIED:20260105T000306Z
UID:10011874-1779794100-1779796200@www.lemontmartre.ca
SUMMARY:Messe à 11h15
DESCRIPTION:
URL:https://www.lemontmartre.ca/event/messe-a-11h15/2026-05-26/
LOCATION:Sanctuaire Montmartre\, 1679\, chemin Saint-Louis\, Québec\, Québec\, G1S 1G5\, Canada
CATEGORIES:Offices religieux
END:VEVENT
BEGIN:VEVENT
DTSTART;TZID=America/Montreal:20260526T173000
DTEND;TZID=America/Montreal:20260526T175000
DTSTAMP:20260420T113633
CREATED:20260105T001422Z
LAST-MODIFIED:20260105T001422Z
UID:10012176-1779816600-1779817800@www.lemontmartre.ca
SUMMARY:Vêpres
DESCRIPTION:Les vêpres sont précédées de méditation dite oraison pendant 30 minutes.
URL:https://www.lemontmartre.ca/event/vepres-2/2026-05-26/
LOCATION:Sanctuaire Montmartre\, 1679\, chemin Saint-Louis\, Québec\, Québec\, G1S 1G5\, Canada
CATEGORIES:Offices religieux
END:VEVENT
BEGIN:VEVENT
DTSTART;TZID=America/Montreal:20260527T070000
DTEND;TZID=America/Montreal:20260527T072000
DTSTAMP:20260420T113633
CREATED:20260104T234059Z
LAST-MODIFIED:20260104T234059Z
UID:10011655-1779865200-1779866400@www.lemontmartre.ca
SUMMARY:Laudes
DESCRIPTION:
URL:https://www.lemontmartre.ca/event/laudes-2/2026-05-27/
LOCATION:Sanctuaire Montmartre\, 1679\, chemin Saint-Louis\, Québec\, Québec\, G1S 1G5\, Canada
CATEGORIES:Offices religieux
END:VEVENT
BEGIN:VEVENT
DTSTART;TZID=America/Montreal:20260527T072500
DTEND;TZID=America/Montreal:20260527T075500
DTSTAMP:20260420T113633
CREATED:20260214T021845Z
LAST-MODIFIED:20260214T021845Z
UID:10011753-1779866700-1779868500@www.lemontmartre.ca
SUMMARY:Messe à 7h25
DESCRIPTION:
URL:https://www.lemontmartre.ca/event/messe-a-7h25-2/2026-05-27/
LOCATION:Sanctuaire Montmartre\, 1679\, chemin Saint-Louis\, Québec\, Québec\, G1S 1G5\, Canada
CATEGORIES:Offices religieux
END:VEVENT
BEGIN:VEVENT
DTSTART;TZID=America/Montreal:20260527T111500
DTEND;TZID=America/Montreal:20260527T115000
DTSTAMP:20260420T113633
CREATED:20260105T000306Z
LAST-MODIFIED:20260105T000306Z
UID:10011875-1779880500-1779882600@www.lemontmartre.ca
SUMMARY:Messe à 11h15
DESCRIPTION:
URL:https://www.lemontmartre.ca/event/messe-a-11h15/2026-05-27/
LOCATION:Sanctuaire Montmartre\, 1679\, chemin Saint-Louis\, Québec\, Québec\, G1S 1G5\, Canada
CATEGORIES:Offices religieux
END:VEVENT
BEGIN:VEVENT
DTSTART;TZID=America/Montreal:20260527T173000
DTEND;TZID=America/Montreal:20260527T175000
DTSTAMP:20260420T113633
CREATED:20260105T001422Z
LAST-MODIFIED:20260105T001422Z
UID:10012177-1779903000-1779904200@www.lemontmartre.ca
SUMMARY:Vêpres
DESCRIPTION:Les vêpres sont précédées de méditation dite oraison pendant 30 minutes.
URL:https://www.lemontmartre.ca/event/vepres-2/2026-05-27/
LOCATION:Sanctuaire Montmartre\, 1679\, chemin Saint-Louis\, Québec\, Québec\, G1S 1G5\, Canada
CATEGORIES:Offices religieux
END:VEVENT
BEGIN:VEVENT
DTSTART;TZID=America/Montreal:20260528T070000
DTEND;TZID=America/Montreal:20260528T072000
DTSTAMP:20260420T113633
CREATED:20260104T234059Z
LAST-MODIFIED:20260104T234059Z
UID:10011656-1779951600-1779952800@www.lemontmartre.ca
SUMMARY:Laudes
DESCRIPTION:
URL:https://www.lemontmartre.ca/event/laudes-2/2026-05-28/
LOCATION:Sanctuaire Montmartre\, 1679\, chemin Saint-Louis\, Québec\, Québec\, G1S 1G5\, Canada
CATEGORIES:Offices religieux
END:VEVENT
BEGIN:VEVENT
DTSTART;TZID=America/Montreal:20260528T072500
DTEND;TZID=America/Montreal:20260528T075500
DTSTAMP:20260420T113633
CREATED:20260214T021845Z
LAST-MODIFIED:20260214T021845Z
UID:10011754-1779953100-1779954900@www.lemontmartre.ca
SUMMARY:Messe à 7h25
DESCRIPTION:
URL:https://www.lemontmartre.ca/event/messe-a-7h25-2/2026-05-28/
LOCATION:Sanctuaire Montmartre\, 1679\, chemin Saint-Louis\, Québec\, Québec\, G1S 1G5\, Canada
CATEGORIES:Offices religieux
END:VEVENT
BEGIN:VEVENT
DTSTART;TZID=America/Montreal:20260528T111500
DTEND;TZID=America/Montreal:20260528T115000
DTSTAMP:20260420T113633
CREATED:20260105T000306Z
LAST-MODIFIED:20260105T000306Z
UID:10011876-1779966900-1779969000@www.lemontmartre.ca
SUMMARY:Messe à 11h15
DESCRIPTION:
URL:https://www.lemontmartre.ca/event/messe-a-11h15/2026-05-28/
LOCATION:Sanctuaire Montmartre\, 1679\, chemin Saint-Louis\, Québec\, Québec\, G1S 1G5\, Canada
CATEGORIES:Offices religieux
END:VEVENT
BEGIN:VEVENT
DTSTART;TZID=America/Montreal:20260528T173000
DTEND;TZID=America/Montreal:20260528T175000
DTSTAMP:20260420T113633
CREATED:20260105T001422Z
LAST-MODIFIED:20260105T001422Z
UID:10012178-1779989400-1779990600@www.lemontmartre.ca
SUMMARY:Vêpres
DESCRIPTION:Les vêpres sont précédées de méditation dite oraison pendant 30 minutes.
URL:https://www.lemontmartre.ca/event/vepres-2/2026-05-28/
LOCATION:Sanctuaire Montmartre\, 1679\, chemin Saint-Louis\, Québec\, Québec\, G1S 1G5\, Canada
CATEGORIES:Offices religieux
END:VEVENT
BEGIN:VEVENT
DTSTART;TZID=America/Montreal:20260529T070000
DTEND;TZID=America/Montreal:20260529T072000
DTSTAMP:20260420T113633
CREATED:20260104T234059Z
LAST-MODIFIED:20260104T234059Z
UID:10011657-1780038000-1780039200@www.lemontmartre.ca
SUMMARY:Laudes
DESCRIPTION:
URL:https://www.lemontmartre.ca/event/laudes-2/2026-05-29/
LOCATION:Sanctuaire Montmartre\, 1679\, chemin Saint-Louis\, Québec\, Québec\, G1S 1G5\, Canada
CATEGORIES:Offices religieux
END:VEVENT
BEGIN:VEVENT
DTSTART;TZID=America/Montreal:20260529T072500
DTEND;TZID=America/Montreal:20260529T075500
DTSTAMP:20260420T113633
CREATED:20260214T021845Z
LAST-MODIFIED:20260214T021845Z
UID:10011755-1780039500-1780041300@www.lemontmartre.ca
SUMMARY:Messe à 7h25
DESCRIPTION:
URL:https://www.lemontmartre.ca/event/messe-a-7h25-2/2026-05-29/
LOCATION:Sanctuaire Montmartre\, 1679\, chemin Saint-Louis\, Québec\, Québec\, G1S 1G5\, Canada
CATEGORIES:Offices religieux
END:VEVENT
BEGIN:VEVENT
DTSTART;TZID=America/Montreal:20260529T111500
DTEND;TZID=America/Montreal:20260529T115000
DTSTAMP:20260420T113633
CREATED:20260105T000306Z
LAST-MODIFIED:20260105T000306Z
UID:10011877-1780053300-1780055400@www.lemontmartre.ca
SUMMARY:Messe à 11h15
DESCRIPTION:
URL:https://www.lemontmartre.ca/event/messe-a-11h15/2026-05-29/
LOCATION:Sanctuaire Montmartre\, 1679\, chemin Saint-Louis\, Québec\, Québec\, G1S 1G5\, Canada
CATEGORIES:Offices religieux
END:VEVENT
BEGIN:VEVENT
DTSTART;TZID=America/Montreal:20260529T170000
DTEND;TZID=America/Montreal:20260529T173000
DTSTAMP:20260420T113633
CREATED:20260105T002130Z
LAST-MODIFIED:20260105T004525Z
UID:10012198-1780074000-1780075800@www.lemontmartre.ca
SUMMARY:Adoration
DESCRIPTION:
URL:https://www.lemontmartre.ca/event/adoration-2/2026-05-29/
LOCATION:Sanctuaire Montmartre\, 1679\, chemin Saint-Louis\, Québec\, Québec\, G1S 1G5\, Canada
CATEGORIES:Offices religieux
END:VEVENT
BEGIN:VEVENT
DTSTART;TZID=America/Montreal:20260529T173000
DTEND;TZID=America/Montreal:20260529T175000
DTSTAMP:20260420T113633
CREATED:20260105T001422Z
LAST-MODIFIED:20260105T001422Z
UID:10012179-1780075800-1780077000@www.lemontmartre.ca
SUMMARY:Vêpres
DESCRIPTION:Les vêpres sont précédées de méditation dite oraison pendant 30 minutes.
URL:https://www.lemontmartre.ca/event/vepres-2/2026-05-29/
LOCATION:Sanctuaire Montmartre\, 1679\, chemin Saint-Louis\, Québec\, Québec\, G1S 1G5\, Canada
CATEGORIES:Offices religieux
END:VEVENT
BEGIN:VEVENT
DTSTART;TZID=America/Montreal:20260530T111500
DTEND;TZID=America/Montreal:20260530T115000
DTSTAMP:20260420T113633
CREATED:20260105T000306Z
LAST-MODIFIED:20260105T000306Z
UID:10011878-1780139700-1780141800@www.lemontmartre.ca
SUMMARY:Messe à 11h15
DESCRIPTION:
URL:https://www.lemontmartre.ca/event/messe-a-11h15/2026-05-30/
LOCATION:Sanctuaire Montmartre\, 1679\, chemin Saint-Louis\, Québec\, Québec\, G1S 1G5\, Canada
CATEGORIES:Offices religieux
END:VEVENT
BEGIN:VEVENT
DTSTART;TZID=America/Montreal:20260530T173000
DTEND;TZID=America/Montreal:20260530T175000
DTSTAMP:20260420T113633
CREATED:20260105T001422Z
LAST-MODIFIED:20260105T001422Z
UID:10012180-1780162200-1780163400@www.lemontmartre.ca
SUMMARY:Vêpres
DESCRIPTION:Les vêpres sont précédées de méditation dite oraison pendant 30 minutes.
URL:https://www.lemontmartre.ca/event/vepres-2/2026-05-30/
LOCATION:Sanctuaire Montmartre\, 1679\, chemin Saint-Louis\, Québec\, Québec\, G1S 1G5\, Canada
CATEGORIES:Offices religieux
END:VEVENT
BEGIN:VEVENT
DTSTART;TZID=America/Montreal:20260531T080000
DTEND;TZID=America/Montreal:20260531T082000
DTSTAMP:20260420T113633
CREATED:20260105T003233Z
LAST-MODIFIED:20260105T003233Z
UID:10012224-1780214400-1780215600@www.lemontmartre.ca
SUMMARY:Laudes
DESCRIPTION:
URL:https://www.lemontmartre.ca/event/laudes-3/2026-05-31/
LOCATION:Sanctuaire Montmartre\, 1679\, chemin Saint-Louis\, Québec\, Québec\, G1S 1G5\, Canada
CATEGORIES:Offices religieux
END:VEVENT
END:VCALENDAR