BEGIN:VCALENDAR
VERSION:2.0
PRODID:-//Le Montmartre - ECPv6.15.13//NONSGML v1.0//EN
CALSCALE:GREGORIAN
METHOD:PUBLISH
X-WR-CALNAME:Le Montmartre
X-ORIGINAL-URL:https://www.lemontmartre.ca
X-WR-CALDESC:Évènements pour Le Montmartre
REFRESH-INTERVAL;VALUE=DURATION:PT1H
X-Robots-Tag:noindex
X-PUBLISHED-TTL:PT1H
BEGIN:VTIMEZONE
TZID:America/Montreal
BEGIN:DAYLIGHT
TZOFFSETFROM:-0500
TZOFFSETTO:-0400
TZNAME:EDT
DTSTART:20240310T070000
END:DAYLIGHT
BEGIN:STANDARD
TZOFFSETFROM:-0400
TZOFFSETTO:-0500
TZNAME:EST
DTSTART:20241103T060000
END:STANDARD
BEGIN:DAYLIGHT
TZOFFSETFROM:-0500
TZOFFSETTO:-0400
TZNAME:EDT
DTSTART:20250309T070000
END:DAYLIGHT
BEGIN:STANDARD
TZOFFSETFROM:-0400
TZOFFSETTO:-0500
TZNAME:EST
DTSTART:20251102T060000
END:STANDARD
BEGIN:DAYLIGHT
TZOFFSETFROM:-0500
TZOFFSETTO:-0400
TZNAME:EDT
DTSTART:20260308T070000
END:DAYLIGHT
BEGIN:STANDARD
TZOFFSETFROM:-0400
TZOFFSETTO:-0500
TZNAME:EST
DTSTART:20261101T060000
END:STANDARD
END:VTIMEZONE
BEGIN:VEVENT
DTSTART;TZID=America/Montreal:20250926T170000
DTEND;TZID=America/Montreal:20250926T190000
DTSTAMP:20260420T154007
CREATED:20250906T124935Z
LAST-MODIFIED:20250917T015441Z
UID:10008648-1758906000-1758913200@www.lemontmartre.ca
SUMMARY:L’intergénérationnel et l’espérance. Connectons\, partageons\, apprenons et construisons
DESCRIPTION:5 À 7 AVEC TRACIE SWIM
URL:https://www.lemontmartre.ca/event/lintergenerationnel-et-lesperance-connectons-partageons-apprenons-et-construisons/
LOCATION:Centre Le Montmartre
CATEGORIES:Espace de rencontres
ATTACH;FMTTYPE=image/jpeg:https://www.lemontmartre.ca/wp-content/uploads/2025/09/5-A-7-DU-MONTMARTRE-26-septembre-2025-Facebook-Cover.jpg
END:VEVENT
BEGIN:VEVENT
DTSTART;TZID=America/Montreal:20250921T103000
DTEND;TZID=America/Montreal:20250921T114500
DTSTAMP:20260420T154007
CREATED:20250918T015957Z
LAST-MODIFIED:20250918T020212Z
UID:10009573-1758450600-1758455100@www.lemontmartre.ca
SUMMARY:Eucharistie
DESCRIPTION:
URL:https://www.lemontmartre.ca/event/laudes-2-3/2025-09-21/
LOCATION:Centre Le Montmartre
CATEGORIES:Offices religieux
END:VEVENT
BEGIN:VEVENT
DTSTART;TZID=America/Montreal:20250916T093000
DTEND;TZID=America/Montreal:20250916T110000
DTSTAMP:20260420T154007
CREATED:20250904T033527Z
LAST-MODIFIED:20250917T015536Z
UID:10008612-1758015000-1758020400@www.lemontmartre.ca
SUMMARY:CAFÉ «BONNE NOUVELLE»
DESCRIPTION:Regard chrétien sur les événements du monde \nAvec Marcel Poirier\, augustin de l’Assomption
URL:https://www.lemontmartre.ca/event/cafe-bonne-nouvelle-4/2025-09-16/
LOCATION:Centre Le Montmartre
CATEGORIES:Espace de rencontres
ATTACH;FMTTYPE=image/jpeg:https://www.lemontmartre.ca/wp-content/uploads/2025/09/CAFE-BONNE-NOUVELLE-2025-Facebook-Cover-Facebook-Cover-scaled.jpg
END:VEVENT
BEGIN:VEVENT
DTSTART;TZID=America/Montreal:20250914T114500
DTEND;TZID=America/Montreal:20250914T140000
DTSTAMP:20260420T154007
CREATED:20250904T024712Z
LAST-MODIFIED:20250904T024823Z
UID:10008595-1757850300-1757858400@www.lemontmartre.ca
SUMMARY:Repas communautaire
DESCRIPTION:À l’issue de l’eucharistie dominicale\, temps de convivialité avec repas.
URL:https://www.lemontmartre.ca/event/repas-communautaire-3/2025-09-14/
LOCATION:Centre Le Montmartre
CATEGORIES:Espace de rencontres
END:VEVENT
BEGIN:VEVENT
DTSTART;TZID=America/Montreal:20250914T103000
DTEND;TZID=America/Montreal:20250914T114500
DTSTAMP:20260420T154007
CREATED:20250918T015957Z
LAST-MODIFIED:20250918T020212Z
UID:10009572-1757845800-1757850300@www.lemontmartre.ca
SUMMARY:Eucharistie
DESCRIPTION:
URL:https://www.lemontmartre.ca/event/laudes-2-3/2025-09-14/
LOCATION:Centre Le Montmartre
CATEGORIES:Offices religieux
END:VEVENT
BEGIN:VEVENT
DTSTART;TZID=America/Montreal:20250912T190000
DTEND;TZID=America/Montreal:20250912T203000
DTSTAMP:20260420T154007
CREATED:20250904T024258Z
LAST-MODIFIED:20250917T015606Z
UID:10008594-1757703600-1757709000@www.lemontmartre.ca
SUMMARY:Tu nous feras prier. Écouter\, prier\, saisir\, comprendre et célébrer l’eucharistie
DESCRIPTION:RENCONTRE À LA LIBRAIRIE DU MONTMARTRE AVEC CATHERINE AUBIN
URL:https://www.lemontmartre.ca/event/tu-nous-feras-prier-ecouter-prier-saisir-comprendre-et-celebrer-leucharistie/
LOCATION:Centre Le Montmartre
CATEGORIES:Espace de rencontres
ATTACH;FMTTYPE=image/jpeg:https://www.lemontmartre.ca/wp-content/uploads/2025/09/CONF-MMARTRE-12-sept-2025_CathAubin_FB.jpg
END:VEVENT
BEGIN:VEVENT
DTSTART;TZID=America/Montreal:20250907T103000
DTEND;TZID=America/Montreal:20250907T114500
DTSTAMP:20260420T154007
CREATED:20250918T015957Z
LAST-MODIFIED:20250918T020212Z
UID:10009502-1757241000-1757245500@www.lemontmartre.ca
SUMMARY:Eucharistie
DESCRIPTION:
URL:https://www.lemontmartre.ca/event/laudes-2-3/2025-09-07/
LOCATION:Centre Le Montmartre
CATEGORIES:Offices religieux
END:VEVENT
BEGIN:VEVENT
DTSTART;TZID=America/Montreal:20250627T193000
DTEND;TZID=America/Montreal:20250627T210000
DTSTAMP:20260420T154007
CREATED:20250620T010005Z
LAST-MODIFIED:20250620T010005Z
UID:10008459-1751052600-1751058000@www.lemontmartre.ca
SUMMARY:Triduum du Sacré-Cœur: Cœur de Jésus qui mène vers la joie\, repos des cœurs blessés
DESCRIPTION:Prédication : Père Édouard Shatov\, Augustin de l’Assomption
URL:https://www.lemontmartre.ca/event/triduum-du-sacre-coeur-coeur-de-jesus-qui-mene-vers-la-joie-repos-des-coeurs-blesses/2025-06-27/
LOCATION:Centre Le Montmartre
CATEGORIES:Prière et intériorité
END:VEVENT
BEGIN:VEVENT
DTSTART;TZID=America/Montreal:20250626T193000
DTEND;TZID=America/Montreal:20250626T210000
DTSTAMP:20260420T154007
CREATED:20250620T010005Z
LAST-MODIFIED:20250620T010005Z
UID:10008458-1750966200-1750971600@www.lemontmartre.ca
SUMMARY:Triduum du Sacré-Cœur: Cœur de Jésus qui mène vers la joie\, repos des cœurs blessés
DESCRIPTION:Prédication : Père Édouard Shatov\, Augustin de l’Assomption
URL:https://www.lemontmartre.ca/event/triduum-du-sacre-coeur-coeur-de-jesus-qui-mene-vers-la-joie-repos-des-coeurs-blesses/2025-06-26/
LOCATION:Centre Le Montmartre
CATEGORIES:Prière et intériorité
END:VEVENT
BEGIN:VEVENT
DTSTART;TZID=America/Montreal:20250625T193000
DTEND;TZID=America/Montreal:20250625T210000
DTSTAMP:20260420T154007
CREATED:20250620T010005Z
LAST-MODIFIED:20250620T010005Z
UID:10008457-1750879800-1750885200@www.lemontmartre.ca
SUMMARY:Triduum du Sacré-Cœur: Cœur de Jésus qui mène vers la joie\, repos des cœurs blessés
DESCRIPTION:Prédication : Père Édouard Shatov\, Augustin de l’Assomption
URL:https://www.lemontmartre.ca/event/triduum-du-sacre-coeur-coeur-de-jesus-qui-mene-vers-la-joie-repos-des-coeurs-blesses/2025-06-25/
LOCATION:Centre Le Montmartre
CATEGORIES:Prière et intériorité
END:VEVENT
BEGIN:VEVENT
DTSTART;TZID=America/Montreal:20250613T193000
DTEND;TZID=America/Montreal:20250613T210000
DTSTAMP:20260420T154007
CREATED:20250607T010728Z
LAST-MODIFIED:20250607T010728Z
UID:10008455-1749843000-1749848400@www.lemontmartre.ca
SUMMARY:Le Pape Léon XIV. Un successeur de Pierre pour le monde d'aujourd'hui
DESCRIPTION:Conférence au Montmartre dans le cadre des défis et débats actuels\, avec Gilles Routhier
URL:https://www.lemontmartre.ca/event/le-pape-leon-xiv-un-successeur-de-pierre-pour-le-monde-daujourdhui/
LOCATION:Centre Le Montmartre
CATEGORIES:Conférences et débats
ATTACH;FMTTYPE=image/jpeg:https://www.lemontmartre.ca/wp-content/uploads/2025/06/Pape-Leon-XIV-2025-Conference-Facebook-Cover.jpg
END:VEVENT
BEGIN:VEVENT
DTSTART;TZID=America/Montreal:20250609T193000
DTEND;TZID=America/Montreal:20250609T210000
DTSTAMP:20260420T154007
CREATED:20250607T004609Z
LAST-MODIFIED:20250607T004609Z
UID:10006827-1749497400-1749502800@www.lemontmartre.ca
SUMMARY:«SE CONNAÎTRE ET SE TROUVER» avec Marie de l’Incarnation
DESCRIPTION:
URL:https://www.lemontmartre.ca/event/se-connaitre-et-se-trouver-avec-marie-de-lincarnation-3-2/
LOCATION:Centre Le Montmartre
CATEGORIES:Formations
ATTACH;FMTTYPE=image/jpeg:https://www.lemontmartre.ca/wp-content/uploads/2025/01/Formation-Marie-de-lIncarnation-HIver_Ete-2025-Facebook-Cover.jpg
END:VEVENT
BEGIN:VEVENT
DTSTART;TZID=America/Montreal:20250601T114500
DTEND;TZID=America/Montreal:20250601T140000
DTSTAMP:20260420T154007
CREATED:20250122T044010Z
LAST-MODIFIED:20250131T052203Z
UID:10007024-1748778300-1748786400@www.lemontmartre.ca
SUMMARY:Repas communautaire
DESCRIPTION:
URL:https://www.lemontmartre.ca/event/repas-communautaire-2-2/2025-06-01/
LOCATION:Centre Le Montmartre
CATEGORIES:Espace de rencontres
END:VEVENT
BEGIN:VEVENT
DTSTART;TZID=America/Montreal:20250528T140000
DTEND;TZID=America/Montreal:20250528T153000
DTSTAMP:20260420T154007
CREATED:20250314T023451Z
LAST-MODIFIED:20250314T023451Z
UID:10007498-1748440800-1748446200@www.lemontmartre.ca
SUMMARY:LA BONTÉ QUI NOUS REND PLUS VIVANTS
DESCRIPTION:Ouvrir le Livre de Tobie
URL:https://www.lemontmartre.ca/event/la-bonte-qui-nous-rend-plus-vivants/2025-05-28/
LOCATION:Centre Le Montmartre
CATEGORIES:Formations
ATTACH;FMTTYPE=image/jpeg:https://www.lemontmartre.ca/wp-content/uploads/2025/01/Livre-de-Tobie_Hiver_Ete_2025.jpg
END:VEVENT
BEGIN:VEVENT
DTSTART;TZID=America/Montreal:20250522T190000
DTEND;TZID=America/Montreal:20250522T203000
DTSTAMP:20260420T154007
CREATED:20250121T045422Z
LAST-MODIFIED:20250121T045422Z
UID:10006860-1747940400-1747945800@www.lemontmartre.ca
SUMMARY:Ateliers spirituels sur la pratique de la méditation
DESCRIPTION:
URL:https://www.lemontmartre.ca/event/ateliers-spirituels-sur-la-pratique-de-la-meditation/2025-05-22/
LOCATION:Centre Le Montmartre
CATEGORIES:Formations
ATTACH;FMTTYPE=image/jpeg:https://www.lemontmartre.ca/wp-content/uploads/2025/01/Ateliers-spirituels_Facebook_HIver_Ete_2025.jpg
END:VEVENT
BEGIN:VEVENT
DTSTART;TZID=America/Montreal:20250513T093000
DTEND;TZID=America/Montreal:20250513T110000
DTSTAMP:20260420T154007
CREATED:20250118T034310Z
LAST-MODIFIED:20250121T045626Z
UID:10006833-1747128600-1747134000@www.lemontmartre.ca
SUMMARY:CAFÉ «BONNE NOUVELLE»
DESCRIPTION:
URL:https://www.lemontmartre.ca/event/cafe-bonne-nouvelle-3/2025-05-13/
LOCATION:Centre Le Montmartre
CATEGORIES:Formations
ATTACH;FMTTYPE=image/jpeg:https://www.lemontmartre.ca/wp-content/uploads/2025/01/CAFE-BONNE-NOUVELLE_HIver_Ete-2025-Facebook-Cover.jpg
END:VEVENT
BEGIN:VEVENT
DTSTART;TZID=America/Montreal:20250509T170000
DTEND;TZID=America/Montreal:20250509T190000
DTSTAMP:20260420T154007
CREATED:20250131T050823Z
LAST-MODIFIED:20250131T050823Z
UID:10007020-1746810000-1746817200@www.lemontmartre.ca
SUMMARY:Malades et espérance
DESCRIPTION:5 à 7 avec Ann Montreuil\, médecin de famille à la retraite et désireuse de partager une partie du legs laissé par ses patients au fil de ses trente-six années de pratique professionnelle.
URL:https://www.lemontmartre.ca/event/malades-et-esperance/
LOCATION:Centre Le Montmartre
CATEGORIES:Conférences et débats
END:VEVENT
BEGIN:VEVENT
DTSTART;TZID=America/Montreal:20250507T193000
DTEND;TZID=America/Montreal:20250507T210000
DTSTAMP:20260420T154007
CREATED:20250503T232604Z
LAST-MODIFIED:20250503T232604Z
UID:10007960-1746646200-1746651600@www.lemontmartre.ca
SUMMARY:Soirée-Échange: S’approprier l’héritage du pape François
DESCRIPTION:Avec Ann Montreuil et Lwanga Kambale\n 
URL:https://www.lemontmartre.ca/event/soiree-echange-sapproprier-lheritage-du-pape-francois/
LOCATION:Centre Le Montmartre
CATEGORIES:Conférences et débats
ATTACH;FMTTYPE=image/jpeg:https://www.lemontmartre.ca/wp-content/uploads/2025/05/Heritage-Pape-Francois-2025-Conference-Facebook-Cover-scaled.jpg
END:VEVENT
BEGIN:VEVENT
DTSTART;TZID=America/Montreal:20250504T114500
DTEND;TZID=America/Montreal:20250504T140000
DTSTAMP:20260420T154007
CREATED:20250122T044010Z
LAST-MODIFIED:20250131T052203Z
UID:10007023-1746359100-1746367200@www.lemontmartre.ca
SUMMARY:Repas communautaire
DESCRIPTION:
URL:https://www.lemontmartre.ca/event/repas-communautaire-2-2/2025-05-04/
LOCATION:Centre Le Montmartre
CATEGORIES:Espace de rencontres
END:VEVENT
BEGIN:VEVENT
DTSTART;TZID=America/Montreal:20250501T193000
DTEND;TZID=America/Montreal:20250501T210000
DTSTAMP:20260420T154007
CREATED:20250131T050257Z
LAST-MODIFIED:20250427T135347Z
UID:10007019-1746127800-1746133200@www.lemontmartre.ca
SUMMARY:La mort et l’art
DESCRIPTION:Conférence avec Catherine Mavrikakis\, écrivaine et professeure au département des littératures de langue française de l’Université de Montréal \nCette conférence n’aura pas lieu le 1er mai pour des raisons personnelles de la conférencière. Elle a été déplacée à l’automne 2025.
URL:https://www.lemontmartre.ca/event/la-mort-et-lart/
LOCATION:Centre Le Montmartre
CATEGORIES:Conférences et débats
ATTACH;FMTTYPE=image/jpeg:https://www.lemontmartre.ca/wp-content/uploads/2025/04/CONF-MMARTRE_2025_Mavrikakis_01052025_FB.jpg
END:VEVENT
BEGIN:VEVENT
DTSTART;TZID=America/Montreal:20250430T193000
DTEND;TZID=America/Montreal:20250430T210000
DTSTAMP:20260420T154007
CREATED:20250131T045550Z
LAST-MODIFIED:20250405T003802Z
UID:10007017-1746041400-1746046800@www.lemontmartre.ca
SUMMARY:Les signes d’espérance au cœur des conflits du Proche-Orient
DESCRIPTION:Conférence avec Sami Aoun\, professeur émérite à l’Université de Sherbrooke et directeur de l’observatoire du Moyen-Orient et de l’Afrique du Nord à la Chaire Raoul Dandurand
URL:https://www.lemontmartre.ca/event/les-signes-desperance-au-coeur-des-conflits-du-proche-orient/
LOCATION:Centre Le Montmartre
CATEGORIES:Conférences et débats
ATTACH;FMTTYPE=image/jpeg:https://www.lemontmartre.ca/wp-content/uploads/2025/04/CONF-MMARTRE_2025_SamiAoun_30042025_FB.jpg
END:VEVENT
BEGIN:VEVENT
DTSTART;TZID=America/Montreal:20250430T140000
DTEND;TZID=America/Montreal:20250430T153000
DTSTAMP:20260420T154007
CREATED:20250314T023451Z
LAST-MODIFIED:20250314T023451Z
UID:10007497-1746021600-1746027000@www.lemontmartre.ca
SUMMARY:LA BONTÉ QUI NOUS REND PLUS VIVANTS
DESCRIPTION:Ouvrir le Livre de Tobie
URL:https://www.lemontmartre.ca/event/la-bonte-qui-nous-rend-plus-vivants/2025-04-30/
LOCATION:Centre Le Montmartre
CATEGORIES:Formations
ATTACH;FMTTYPE=image/jpeg:https://www.lemontmartre.ca/wp-content/uploads/2025/01/Livre-de-Tobie_Hiver_Ete_2025.jpg
END:VEVENT
BEGIN:VEVENT
DTSTART;TZID=America/Montreal:20250429T093000
DTEND;TZID=America/Montreal:20250429T110000
DTSTAMP:20260420T154007
CREATED:20250118T034310Z
LAST-MODIFIED:20250121T045626Z
UID:10006832-1745919000-1745924400@www.lemontmartre.ca
SUMMARY:CAFÉ «BONNE NOUVELLE»
DESCRIPTION:
URL:https://www.lemontmartre.ca/event/cafe-bonne-nouvelle-3/2025-04-29/
LOCATION:Centre Le Montmartre
CATEGORIES:Formations
ATTACH;FMTTYPE=image/jpeg:https://www.lemontmartre.ca/wp-content/uploads/2025/01/CAFE-BONNE-NOUVELLE_HIver_Ete-2025-Facebook-Cover.jpg
END:VEVENT
BEGIN:VEVENT
DTSTART;TZID=America/Montreal:20250424T190000
DTEND;TZID=America/Montreal:20250424T203000
DTSTAMP:20260420T154007
CREATED:20250121T045422Z
LAST-MODIFIED:20250121T045422Z
UID:10006859-1745521200-1745526600@www.lemontmartre.ca
SUMMARY:Ateliers spirituels sur la pratique de la méditation
DESCRIPTION:
URL:https://www.lemontmartre.ca/event/ateliers-spirituels-sur-la-pratique-de-la-meditation/2025-04-24/
LOCATION:Centre Le Montmartre
CATEGORIES:Formations
ATTACH;FMTTYPE=image/jpeg:https://www.lemontmartre.ca/wp-content/uploads/2025/01/Ateliers-spirituels_Facebook_HIver_Ete_2025.jpg
END:VEVENT
BEGIN:VEVENT
DTSTART;TZID=America/Montreal:20250422T193000
DTEND;TZID=America/Montreal:20250422T210000
DTSTAMP:20260420T154007
CREATED:20250118T033728Z
LAST-MODIFIED:20250323T162457Z
UID:10006826-1745350200-1745355600@www.lemontmartre.ca
SUMMARY:«SE CONNAÎTRE ET SE TROUVER» avec Marie de l’Incarnation
DESCRIPTION:
URL:https://www.lemontmartre.ca/event/se-connaitre-et-se-trouver-avec-marie-de-lincarnation-3/2025-04-22/
LOCATION:Centre Le Montmartre
CATEGORIES:Formations
ATTACH;FMTTYPE=image/jpeg:https://www.lemontmartre.ca/wp-content/uploads/2025/01/Formation-Marie-de-lIncarnation-HIver_Ete-2025-Facebook-Cover.jpg
END:VEVENT
BEGIN:VEVENT
DTSTART;TZID=America/Montreal:20250419T100000
DTEND;TZID=America/Montreal:20250419T113000
DTSTAMP:20260420T154007
CREATED:20250412T141751Z
LAST-MODIFIED:20250412T141751Z
UID:10007927-1745056800-1745062200@www.lemontmartre.ca
SUMMARY:Montée pascale
DESCRIPTION:NOTRE IDENTIFICATION À JÉSUS-CHRIST DANS SON SACRIFICE\nPrédicateur: Lwanga Kambale Kalolerya\, assomptionniste
URL:https://www.lemontmartre.ca/event/montee-pascale/2025-04-19/
LOCATION:Centre Le Montmartre
CATEGORIES:Prière et intériorité
END:VEVENT
BEGIN:VEVENT
DTSTART;TZID=America/Montreal:20250418T100000
DTEND;TZID=America/Montreal:20250418T113000
DTSTAMP:20260420T154007
CREATED:20250412T141751Z
LAST-MODIFIED:20250412T141751Z
UID:10007926-1744970400-1744975800@www.lemontmartre.ca
SUMMARY:Montée pascale
DESCRIPTION:NOTRE IDENTIFICATION À JÉSUS-CHRIST DANS SON SACRIFICE\nPrédicateur: Lwanga Kambale Kalolerya\, assomptionniste
URL:https://www.lemontmartre.ca/event/montee-pascale/2025-04-18/
LOCATION:Centre Le Montmartre
CATEGORIES:Prière et intériorité
END:VEVENT
BEGIN:VEVENT
DTSTART;TZID=America/Montreal:20250417T100000
DTEND;TZID=America/Montreal:20250417T113000
DTSTAMP:20260420T154007
CREATED:20250412T141751Z
LAST-MODIFIED:20250412T141751Z
UID:10007925-1744884000-1744889400@www.lemontmartre.ca
SUMMARY:Montée pascale
DESCRIPTION:NOTRE IDENTIFICATION À JÉSUS-CHRIST DANS SON SACRIFICE\nPrédicateur: Lwanga Kambale Kalolerya\, assomptionniste
URL:https://www.lemontmartre.ca/event/montee-pascale/2025-04-17/
LOCATION:Centre Le Montmartre
CATEGORIES:Prière et intériorité
END:VEVENT
BEGIN:VEVENT
DTSTART;TZID=America/Montreal:20250416T140000
DTEND;TZID=America/Montreal:20250416T153000
DTSTAMP:20260420T154007
CREATED:20250314T023451Z
LAST-MODIFIED:20250314T023451Z
UID:10007496-1744812000-1744817400@www.lemontmartre.ca
SUMMARY:LA BONTÉ QUI NOUS REND PLUS VIVANTS
DESCRIPTION:Ouvrir le Livre de Tobie
URL:https://www.lemontmartre.ca/event/la-bonte-qui-nous-rend-plus-vivants/2025-04-16/
LOCATION:Centre Le Montmartre
CATEGORIES:Formations
ATTACH;FMTTYPE=image/jpeg:https://www.lemontmartre.ca/wp-content/uploads/2025/01/Livre-de-Tobie_Hiver_Ete_2025.jpg
END:VEVENT
BEGIN:VEVENT
DTSTART;TZID=America/Montreal:20250411T170000
DTEND;TZID=America/Montreal:20250411T190000
DTSTAMP:20260420T154008
CREATED:20250131T045926Z
LAST-MODIFIED:20250405T004138Z
UID:10007018-1744390800-1744398000@www.lemontmartre.ca
SUMMARY:Vieillesse et espérance
DESCRIPTION:
URL:https://www.lemontmartre.ca/event/vieillesse-et-esperance/
LOCATION:Centre Le Montmartre
CATEGORIES:Conférences et débats
ATTACH;FMTTYPE=image/jpeg:https://www.lemontmartre.ca/wp-content/uploads/2025/04/5-A-7-DU-MONTMARTRE-11-avril-2025-Facebook-Cover.jpg
END:VEVENT
END:VCALENDAR