BEGIN:VCALENDAR
VERSION:2.0
PRODID:-//Le Montmartre - ECPv6.15.13//NONSGML v1.0//EN
CALSCALE:GREGORIAN
METHOD:PUBLISH
X-WR-CALNAME:Le Montmartre
X-ORIGINAL-URL:https://www.lemontmartre.ca
X-WR-CALDESC:Évènements pour Le Montmartre
REFRESH-INTERVAL;VALUE=DURATION:PT1H
X-Robots-Tag:noindex
X-PUBLISHED-TTL:PT1H
BEGIN:VTIMEZONE
TZID:America/Montreal
BEGIN:DAYLIGHT
TZOFFSETFROM:-0500
TZOFFSETTO:-0400
TZNAME:EDT
DTSTART:20240310T070000
END:DAYLIGHT
BEGIN:STANDARD
TZOFFSETFROM:-0400
TZOFFSETTO:-0500
TZNAME:EST
DTSTART:20241103T060000
END:STANDARD
BEGIN:DAYLIGHT
TZOFFSETFROM:-0500
TZOFFSETTO:-0400
TZNAME:EDT
DTSTART:20250309T070000
END:DAYLIGHT
BEGIN:STANDARD
TZOFFSETFROM:-0400
TZOFFSETTO:-0500
TZNAME:EST
DTSTART:20251102T060000
END:STANDARD
BEGIN:DAYLIGHT
TZOFFSETFROM:-0500
TZOFFSETTO:-0400
TZNAME:EDT
DTSTART:20260308T070000
END:DAYLIGHT
BEGIN:STANDARD
TZOFFSETFROM:-0400
TZOFFSETTO:-0500
TZNAME:EST
DTSTART:20261101T060000
END:STANDARD
BEGIN:DAYLIGHT
TZOFFSETFROM:-0500
TZOFFSETTO:-0400
TZNAME:EDT
DTSTART:20270314T070000
END:DAYLIGHT
BEGIN:STANDARD
TZOFFSETFROM:-0400
TZOFFSETTO:-0500
TZNAME:EST
DTSTART:20271107T060000
END:STANDARD
END:VTIMEZONE
BEGIN:VEVENT
DTSTART;TZID=America/Montreal:20260222T103000
DTEND;TZID=America/Montreal:20260222T114500
DTSTAMP:20260420T015915
CREATED:20260105T003828Z
LAST-MODIFIED:20260105T003828Z
UID:10012232-1771756200-1771760700@www.lemontmartre.ca
SUMMARY:Messe
DESCRIPTION:
URL:https://www.lemontmartre.ca/event/messe/2026-02-22/
LOCATION:Centre Le Montmartre
CATEGORIES:Offices religieux
END:VEVENT
BEGIN:VEVENT
DTSTART;TZID=America/Montreal:20260215T103000
DTEND;TZID=America/Montreal:20260215T114500
DTSTAMP:20260420T015916
CREATED:20260105T003828Z
LAST-MODIFIED:20260105T003828Z
UID:10012231-1771151400-1771155900@www.lemontmartre.ca
SUMMARY:Messe
DESCRIPTION:
URL:https://www.lemontmartre.ca/event/messe/2026-02-15/
LOCATION:Centre Le Montmartre
CATEGORIES:Offices religieux
END:VEVENT
BEGIN:VEVENT
DTSTART;TZID=America/Montreal:20260211T183000
DTEND;TZID=America/Montreal:20260211T193000
DTSTAMP:20260420T015916
CREATED:20260124T012346Z
LAST-MODIFIED:20260124T012514Z
UID:10012304-1770834600-1770838200@www.lemontmartre.ca
SUMMARY:Journée mondiale des malades. Célébration de l'Eucharistie avec l'Onction des malades à 18h30
DESCRIPTION:À la Chapelle du Centre « Culture et Foi »\n(En partenariat avec les Chevaliers de Malte) \nInformation : Edouard Shatov 418-681-7357\, poste 2023
URL:https://www.lemontmartre.ca/event/journee-mondiale-des-malades-celebration-de-leucharistie-avec-lonction-des-malades-a-18h30/
LOCATION:Centre Le Montmartre
CATEGORIES:Offices religieux
END:VEVENT
BEGIN:VEVENT
DTSTART;TZID=America/Montreal:20260210T093000
DTEND;TZID=America/Montreal:20260210T110000
DTSTAMP:20260420T015916
CREATED:20260124T010726Z
LAST-MODIFIED:20260124T011436Z
UID:10012270-1770715800-1770721200@www.lemontmartre.ca
SUMMARY:CAFÉ «BONNE NOUVELLE»
DESCRIPTION:Regard chrétien sur les événements du monde
URL:https://www.lemontmartre.ca/event/cafe-bonne-nouvelle-5/2026-02-10/
LOCATION:Centre Le Montmartre
CATEGORIES:Espace de rencontres
ATTACH;FMTTYPE=image/jpeg:https://www.lemontmartre.ca/wp-content/uploads/2025/09/CAFE-BONNE-NOUVELLE-2025-Facebook-Cover-Facebook-Cover-scaled.jpg
END:VEVENT
BEGIN:VEVENT
DTSTART;TZID=America/Montreal:20260208T103000
DTEND;TZID=America/Montreal:20260208T114500
DTSTAMP:20260420T015916
CREATED:20260105T003828Z
LAST-MODIFIED:20260105T003828Z
UID:10012230-1770546600-1770551100@www.lemontmartre.ca
SUMMARY:Messe
DESCRIPTION:
URL:https://www.lemontmartre.ca/event/messe/2026-02-08/
LOCATION:Centre Le Montmartre
CATEGORIES:Offices religieux
END:VEVENT
BEGIN:VEVENT
DTSTART;TZID=America/Montreal:20260201T103000
DTEND;TZID=America/Montreal:20260201T114500
DTSTAMP:20260420T015916
CREATED:20260105T003828Z
LAST-MODIFIED:20260105T003828Z
UID:10012229-1769941800-1769946300@www.lemontmartre.ca
SUMMARY:Messe
DESCRIPTION:
URL:https://www.lemontmartre.ca/event/messe/2026-02-01/
LOCATION:Centre Le Montmartre
CATEGORIES:Offices religieux
END:VEVENT
BEGIN:VEVENT
DTSTART;TZID=America/Montreal:20260127T093000
DTEND;TZID=America/Montreal:20260127T110000
DTSTAMP:20260420T015916
CREATED:20260124T010726Z
LAST-MODIFIED:20260124T011436Z
UID:10012269-1769506200-1769511600@www.lemontmartre.ca
SUMMARY:CAFÉ «BONNE NOUVELLE»
DESCRIPTION:Regard chrétien sur les événements du monde
URL:https://www.lemontmartre.ca/event/cafe-bonne-nouvelle-5/2026-01-27/
LOCATION:Centre Le Montmartre
CATEGORIES:Espace de rencontres
ATTACH;FMTTYPE=image/jpeg:https://www.lemontmartre.ca/wp-content/uploads/2025/09/CAFE-BONNE-NOUVELLE-2025-Facebook-Cover-Facebook-Cover-scaled.jpg
END:VEVENT
BEGIN:VEVENT
DTSTART;TZID=America/Montreal:20260125T103000
DTEND;TZID=America/Montreal:20260125T114500
DTSTAMP:20260420T015916
CREATED:20260105T003828Z
LAST-MODIFIED:20260105T003828Z
UID:10012228-1769337000-1769341500@www.lemontmartre.ca
SUMMARY:Messe
DESCRIPTION:
URL:https://www.lemontmartre.ca/event/messe/2026-01-25/
LOCATION:Centre Le Montmartre
CATEGORIES:Offices religieux
END:VEVENT
BEGIN:VEVENT
DTSTART;TZID=America/Montreal:20260123T193000
DTEND;TZID=America/Montreal:20260123T210000
DTSTAMP:20260420T015916
CREATED:20251220T061421Z
LAST-MODIFIED:20251220T061421Z
UID:10011561-1769196600-1769202000@www.lemontmartre.ca
SUMMARY:Veillée de prière autour de la croix à la manière de Taizé
DESCRIPTION:Dans le cadre de la Semaine de prière pour l’unité des chrétiens
URL:https://www.lemontmartre.ca/event/veillee-de-priere-autour-de-la-croix-a-la-maniere-de-taize-2/
LOCATION:Centre Le Montmartre
CATEGORIES:Prière et intériorité
ATTACH;FMTTYPE=image/jpeg:https://www.lemontmartre.ca/wp-content/uploads/2025/12/VEILLEE-PRIERE_23jan26_FB.jpg
END:VEVENT
BEGIN:VEVENT
DTSTART;TZID=America/Montreal:20260118T103000
DTEND;TZID=America/Montreal:20260118T114500
DTSTAMP:20260420T015916
CREATED:20260105T003828Z
LAST-MODIFIED:20260105T003828Z
UID:10012227-1768732200-1768736700@www.lemontmartre.ca
SUMMARY:Messe
DESCRIPTION:
URL:https://www.lemontmartre.ca/event/messe/2026-01-18/
LOCATION:Centre Le Montmartre
CATEGORIES:Offices religieux
END:VEVENT
BEGIN:VEVENT
DTSTART;TZID=America/Montreal:20260111T114500
DTEND;TZID=America/Montreal:20260111T140000
DTSTAMP:20260420T015916
CREATED:20251220T060041Z
LAST-MODIFIED:20251220T060041Z
UID:10011560-1768131900-1768140000@www.lemontmartre.ca
SUMMARY:Lorsque j’entends monter la prière
DESCRIPTION:LES « CAUSERIES CROQUANTES » DU MONTMARTRE avec Céline Morissette
URL:https://www.lemontmartre.ca/event/lorsque-jentends-monter-la-priere/
LOCATION:Centre Le Montmartre
CATEGORIES:Espace de rencontres
ATTACH;FMTTYPE=image/jpeg:https://www.lemontmartre.ca/wp-content/uploads/2025/12/CONF-MMARTRE-11Jan26_Morisette_FB.jpg
END:VEVENT
BEGIN:VEVENT
DTSTART;TZID=America/Montreal:20260111T103000
DTEND;TZID=America/Montreal:20260111T114500
DTSTAMP:20260420T015916
CREATED:20260105T003828Z
LAST-MODIFIED:20260105T003828Z
UID:10012226-1768127400-1768131900@www.lemontmartre.ca
SUMMARY:Messe
DESCRIPTION:
URL:https://www.lemontmartre.ca/event/messe/2026-01-11/
LOCATION:Centre Le Montmartre
CATEGORIES:Offices religieux
END:VEVENT
BEGIN:VEVENT
DTSTART;TZID=America/Montreal:20260104T103000
DTEND;TZID=America/Montreal:20260104T114500
DTSTAMP:20260420T015916
CREATED:20260105T003828Z
LAST-MODIFIED:20260105T003828Z
UID:10012225-1767522600-1767527100@www.lemontmartre.ca
SUMMARY:Messe
DESCRIPTION:
URL:https://www.lemontmartre.ca/event/messe/2026-01-04/
LOCATION:Centre Le Montmartre
CATEGORIES:Offices religieux
END:VEVENT
BEGIN:VEVENT
DTSTART;TZID=America/Montreal:20251231T203000
DTEND;TZID=America/Montreal:20260101T000000
DTSTAMP:20260420T015916
CREATED:20251227T001731Z
LAST-MODIFIED:20251227T001731Z
UID:10011562-1767213000-1767225600@www.lemontmartre.ca
SUMMARY:Le réveillon du Nouvel An
DESCRIPTION:Après l’eucharistie de fin d’année à 19h30 venez réveillonner à la cafétéria avec un repas et de l’animation jusqu’à l’arrivée du Nouvel An.
URL:https://www.lemontmartre.ca/event/le-reveillon-du-nouvel-an-2/
LOCATION:Centre Le Montmartre
CATEGORIES:Espace de rencontres
END:VEVENT
BEGIN:VEVENT
DTSTART;TZID=America/Montreal:20251228T103000
DTEND;TZID=America/Montreal:20251228T120000
DTSTAMP:20260420T015916
CREATED:20251024T120048Z
LAST-MODIFIED:20260103T040758Z
UID:10010150-1766917800-1766923200@www.lemontmartre.ca
SUMMARY:Célébration d'ouverture du Centenaire
DESCRIPTION:Vidéo de cette célébration
URL:https://www.lemontmartre.ca/event/celebration-douverture-du-centenaire/
LOCATION:Centre Le Montmartre
CATEGORIES:Offices religieux
ATTACH;FMTTYPE=image/jpeg:https://www.lemontmartre.ca/wp-content/uploads/2025/12/Logo-centenaire.jpg
END:VEVENT
BEGIN:VEVENT
DTSTART;TZID=America/Montreal:20251228T103000
DTEND;TZID=America/Montreal:20251228T114500
DTSTAMP:20260420T015916
CREATED:20250918T015957Z
LAST-MODIFIED:20250918T020212Z
UID:10009587-1766917800-1766922300@www.lemontmartre.ca
SUMMARY:Eucharistie
DESCRIPTION:
URL:https://www.lemontmartre.ca/event/laudes-2-3/2025-12-28/
LOCATION:Centre Le Montmartre
CATEGORIES:Offices religieux
END:VEVENT
BEGIN:VEVENT
DTSTART;TZID=America/Montreal:20251227T090000
DTEND;TZID=America/Montreal:20251227T120000
DTSTAMP:20260420T015916
CREATED:20251219T005736Z
LAST-MODIFIED:20251219T020742Z
UID:10011559-1766826000-1766836800@www.lemontmartre.ca
SUMMARY:JOURNÉE DE LA SPIRITUALITÉ ASSOMPTIONNISTE
DESCRIPTION:Je me souviens de la fondation du Montmartre à Québec\nAvec Chi Ai Nguyen\, Supérieur provincial de la province de l’Amérique du Nord des Augustins de l’Assomption \n9h00 -11h00 – une rencontre-échange au Centre \n11h15 – Célébration Eucharistique au Sanctuaire
URL:https://www.lemontmartre.ca/event/journee-de-la-spiritualite-assomptionniste/
LOCATION:Centre Le Montmartre
CATEGORIES:Espace de rencontres
ATTACH;FMTTYPE=image/jpeg:https://www.lemontmartre.ca/wp-content/uploads/2025/12/Journee-Spiritualite-Assomption-2025_1.1.1.jpg
END:VEVENT
BEGIN:VEVENT
DTSTART;TZID=America/Montreal:20251224T200000
DTEND;TZID=America/Montreal:20251224T213000
DTSTAMP:20260420T015916
CREATED:20250918T033632Z
LAST-MODIFIED:20250918T033632Z
UID:10009948-1766606400-1766611800@www.lemontmartre.ca
SUMMARY:Eucharistie
DESCRIPTION:
URL:https://www.lemontmartre.ca/event/eucharistie/
LOCATION:Centre Le Montmartre
CATEGORIES:Offices religieux
END:VEVENT
BEGIN:VEVENT
DTSTART;TZID=America/Montreal:20251221T103000
DTEND;TZID=America/Montreal:20251221T114500
DTSTAMP:20260420T015916
CREATED:20250918T015957Z
LAST-MODIFIED:20250918T020212Z
UID:10009586-1766313000-1766317500@www.lemontmartre.ca
SUMMARY:Eucharistie
DESCRIPTION:
URL:https://www.lemontmartre.ca/event/laudes-2-3/2025-12-21/
LOCATION:Centre Le Montmartre
CATEGORIES:Offices religieux
END:VEVENT
BEGIN:VEVENT
DTSTART;TZID=America/Montreal:20251220T140000
DTEND;TZID=America/Montreal:20251220T153000
DTSTAMP:20260420T015916
CREATED:20251118T205443Z
LAST-MODIFIED:20251118T215225Z
UID:10010564-1766239200-1766244600@www.lemontmartre.ca
SUMMARY:Ensemble chantons Noël
DESCRIPTION:Sous la forme d’un conte\, nous nous plongerons dans l’histoire de Noël et nous chanterons ensemble des cantiques et des chants du Temps des Fêtes qu’il fait si bon fredonner.
URL:https://www.lemontmartre.ca/event/ensemble-chantons-noel-2/
LOCATION:Centre Le Montmartre
CATEGORIES:Prière et intériorité
ATTACH;FMTTYPE=image/jpeg:https://www.lemontmartre.ca/wp-content/uploads/2025/11/Chantons_Noel_2025_Facebook_Cover_2025.jpg
END:VEVENT
BEGIN:VEVENT
DTSTART;TZID=America/Montreal:20251214T103000
DTEND;TZID=America/Montreal:20251214T114500
DTSTAMP:20260420T015916
CREATED:20250918T015957Z
LAST-MODIFIED:20250918T020212Z
UID:10009585-1765708200-1765712700@www.lemontmartre.ca
SUMMARY:Eucharistie
DESCRIPTION:
URL:https://www.lemontmartre.ca/event/laudes-2-3/2025-12-14/
LOCATION:Centre Le Montmartre
CATEGORIES:Offices religieux
END:VEVENT
BEGIN:VEVENT
DTSTART;TZID=America/Montreal:20251212T170000
DTEND;TZID=America/Montreal:20251212T190000
DTSTAMP:20260420T015916
CREATED:20251206T022334Z
LAST-MODIFIED:20251206T022335Z
UID:10011500-1765558800-1765566000@www.lemontmartre.ca
SUMMARY:Transmettre comme chemin pour faire fleurir nos vies. Ce que nous nous apportons les uns aux autres
DESCRIPTION:5 à 7 DU MONTMARTRE — CAUSERIE\, COLLATION\, PARTAGE \nPersonne-ressource : Édouard Shatov\, augustin de l’Assomption
URL:https://www.lemontmartre.ca/event/transmettre-comme-chemin-pour-faire-fleurir-nos-vies-ce-que-nous-nous-apportons-les-uns-aux-autres/
LOCATION:Centre Le Montmartre
CATEGORIES:Espace de rencontres
ATTACH;FMTTYPE=image/jpeg:https://www.lemontmartre.ca/wp-content/uploads/2025/12/5-A-7-DU-MONTMARTRE-12-decembre-2025-Facebook-Cover.jpg
END:VEVENT
BEGIN:VEVENT
DTSTART;TZID=America/Montreal:20251210T193000
DTEND;TZID=America/Montreal:20251210T203000
DTSTAMP:20260420T015916
CREATED:20251107T221723Z
LAST-MODIFIED:20251107T223308Z
UID:10010188-1765395000-1765398600@www.lemontmartre.ca
SUMMARY:Halte Spirituelle «Aux Portes de L’Avent»
DESCRIPTION:Thème: Jésus ou une nouvelle manière de vivre\nPrédication: Pacifique Kambale\, augustin de l’Assomption
URL:https://www.lemontmartre.ca/event/halte-spirituelle-aux-portes-de-lavent-2/2025-12-10/
LOCATION:Centre Le Montmartre
CATEGORIES:Prière et intériorité
ATTACH;FMTTYPE=image/jpeg:https://www.lemontmartre.ca/wp-content/uploads/2025/11/Halte-Spirituelle-Avent-2025-Montmartre_1.1.1.jpg
END:VEVENT
BEGIN:VEVENT
DTSTART;TZID=America/Montreal:20251209T193000
DTEND;TZID=America/Montreal:20251209T203000
DTSTAMP:20260420T015916
CREATED:20251107T221723Z
LAST-MODIFIED:20251107T223308Z
UID:10010187-1765308600-1765312200@www.lemontmartre.ca
SUMMARY:Halte Spirituelle «Aux Portes de L’Avent»
DESCRIPTION:Thème: Jésus ou une nouvelle manière de vivre\nPrédication: Pacifique Kambale\, augustin de l’Assomption
URL:https://www.lemontmartre.ca/event/halte-spirituelle-aux-portes-de-lavent-2/2025-12-09/
LOCATION:Centre Le Montmartre
CATEGORIES:Prière et intériorité
ATTACH;FMTTYPE=image/jpeg:https://www.lemontmartre.ca/wp-content/uploads/2025/11/Halte-Spirituelle-Avent-2025-Montmartre_1.1.1.jpg
END:VEVENT
BEGIN:VEVENT
DTSTART;TZID=America/Montreal:20251209T093000
DTEND;TZID=America/Montreal:20251209T110000
DTSTAMP:20260420T015916
CREATED:20250904T033527Z
LAST-MODIFIED:20250917T015536Z
UID:10008618-1765272600-1765278000@www.lemontmartre.ca
SUMMARY:CAFÉ «BONNE NOUVELLE»
DESCRIPTION:Regard chrétien sur les événements du monde \nAvec Marcel Poirier\, augustin de l’Assomption
URL:https://www.lemontmartre.ca/event/cafe-bonne-nouvelle-4/2025-12-09/
LOCATION:Centre Le Montmartre
CATEGORIES:Espace de rencontres
ATTACH;FMTTYPE=image/jpeg:https://www.lemontmartre.ca/wp-content/uploads/2025/09/CAFE-BONNE-NOUVELLE-2025-Facebook-Cover-Facebook-Cover-scaled.jpg
END:VEVENT
BEGIN:VEVENT
DTSTART;TZID=America/Montreal:20251208T193000
DTEND;TZID=America/Montreal:20251208T203000
DTSTAMP:20260420T015916
CREATED:20251107T221723Z
LAST-MODIFIED:20251107T223308Z
UID:10010186-1765222200-1765225800@www.lemontmartre.ca
SUMMARY:Halte Spirituelle «Aux Portes de L’Avent»
DESCRIPTION:Thème: Jésus ou une nouvelle manière de vivre\nPrédication: Pacifique Kambale\, augustin de l’Assomption
URL:https://www.lemontmartre.ca/event/halte-spirituelle-aux-portes-de-lavent-2/2025-12-08/
LOCATION:Centre Le Montmartre
CATEGORIES:Prière et intériorité
ATTACH;FMTTYPE=image/jpeg:https://www.lemontmartre.ca/wp-content/uploads/2025/11/Halte-Spirituelle-Avent-2025-Montmartre_1.1.1.jpg
END:VEVENT
BEGIN:VEVENT
DTSTART;TZID=America/Montreal:20251207T103000
DTEND;TZID=America/Montreal:20251207T114500
DTSTAMP:20260420T015916
CREATED:20250918T015957Z
LAST-MODIFIED:20250918T020212Z
UID:10009584-1765103400-1765107900@www.lemontmartre.ca
SUMMARY:Eucharistie
DESCRIPTION:
URL:https://www.lemontmartre.ca/event/laudes-2-3/2025-12-07/
LOCATION:Centre Le Montmartre
CATEGORIES:Offices religieux
END:VEVENT
BEGIN:VEVENT
DTSTART;TZID=America/Montreal:20251130T103000
DTEND;TZID=America/Montreal:20251130T114500
DTSTAMP:20260420T015916
CREATED:20250918T015957Z
LAST-MODIFIED:20250918T020212Z
UID:10009583-1764498600-1764503100@www.lemontmartre.ca
SUMMARY:Eucharistie
DESCRIPTION:
URL:https://www.lemontmartre.ca/event/laudes-2-3/2025-11-30/
LOCATION:Centre Le Montmartre
CATEGORIES:Offices religieux
END:VEVENT
BEGIN:VEVENT
DTSTART;TZID=America/Montreal:20251125T093000
DTEND;TZID=America/Montreal:20251125T110000
DTSTAMP:20260420T015916
CREATED:20250904T033527Z
LAST-MODIFIED:20250917T015536Z
UID:10008617-1764063000-1764068400@www.lemontmartre.ca
SUMMARY:CAFÉ «BONNE NOUVELLE»
DESCRIPTION:Regard chrétien sur les événements du monde \nAvec Marcel Poirier\, augustin de l’Assomption
URL:https://www.lemontmartre.ca/event/cafe-bonne-nouvelle-4/2025-11-25/
LOCATION:Centre Le Montmartre
CATEGORIES:Espace de rencontres
ATTACH;FMTTYPE=image/jpeg:https://www.lemontmartre.ca/wp-content/uploads/2025/09/CAFE-BONNE-NOUVELLE-2025-Facebook-Cover-Facebook-Cover-scaled.jpg
END:VEVENT
BEGIN:VEVENT
DTSTART;TZID=America/Montreal:20251123T103000
DTEND;TZID=America/Montreal:20251123T114500
DTSTAMP:20260420T015916
CREATED:20250918T015957Z
LAST-MODIFIED:20250918T020212Z
UID:10009582-1763893800-1763898300@www.lemontmartre.ca
SUMMARY:Eucharistie
DESCRIPTION:
URL:https://www.lemontmartre.ca/event/laudes-2-3/2025-11-23/
LOCATION:Centre Le Montmartre
CATEGORIES:Offices religieux
END:VEVENT
END:VCALENDAR