BEGIN:VCALENDAR
VERSION:2.0
PRODID:-//Le Montmartre - ECPv6.15.13//NONSGML v1.0//EN
CALSCALE:GREGORIAN
METHOD:PUBLISH
X-ORIGINAL-URL:https://www.lemontmartre.ca
X-WR-CALDESC:Évènements pour Le Montmartre
REFRESH-INTERVAL;VALUE=DURATION:PT1H
X-Robots-Tag:noindex
X-PUBLISHED-TTL:PT1H
BEGIN:VTIMEZONE
TZID:America/Montreal
BEGIN:DAYLIGHT
TZOFFSETFROM:-0500
TZOFFSETTO:-0400
TZNAME:EDT
DTSTART:20230312T070000
END:DAYLIGHT
BEGIN:STANDARD
TZOFFSETFROM:-0400
TZOFFSETTO:-0500
TZNAME:EST
DTSTART:20231105T060000
END:STANDARD
BEGIN:DAYLIGHT
TZOFFSETFROM:-0500
TZOFFSETTO:-0400
TZNAME:EDT
DTSTART:20240310T070000
END:DAYLIGHT
BEGIN:STANDARD
TZOFFSETFROM:-0400
TZOFFSETTO:-0500
TZNAME:EST
DTSTART:20241103T060000
END:STANDARD
BEGIN:DAYLIGHT
TZOFFSETFROM:-0500
TZOFFSETTO:-0400
TZNAME:EDT
DTSTART:20250309T070000
END:DAYLIGHT
BEGIN:STANDARD
TZOFFSETFROM:-0400
TZOFFSETTO:-0500
TZNAME:EST
DTSTART:20251102T060000
END:STANDARD
END:VTIMEZONE
BEGIN:VEVENT
DTSTART;TZID=America/Montreal:20240923T193000
DTEND;TZID=America/Montreal:20240923T210000
DTSTAMP:20260422T233827
CREATED:20240914T025305Z
LAST-MODIFIED:20240914T025342Z
UID:10005352-1727119800-1727125200@www.lemontmartre.ca
SUMMARY:«  SE CONNAÎTRE ET SE TROUVER »  avec Marie de l’Incarnation
DESCRIPTION:« C’est en vous aimant que je vous connaîtrai »\nEn PRÉSENTIEL et en ZOOM*\n*ZOOM sera accessible seulement aux personnes qui habitent à l’extérieur de la ville de Québec et pour qui il est impossible se rendre à la rencontre en présentiel.
URL:https://www.lemontmartre.ca/event/se-connaitre-et-se-trouver-avec-marie-de-lincarnation-2/2024-09-23/
LOCATION:Centre Le Montmartre
CATEGORIES:Formations
ATTACH;FMTTYPE=image/jpeg:https://www.lemontmartre.ca/wp-content/uploads/2024/09/Formation-Marie-de-lIncarnation-Automne-2024-Facebook-Cover.jpg
END:VEVENT
BEGIN:VEVENT
DTSTART;TZID=America/Montreal:20240918T140000
DTEND;TZID=America/Montreal:20240918T153000
DTSTAMP:20260422T233827
CREATED:20240914T023243Z
LAST-MODIFIED:20240914T023243Z
UID:10005338-1726668000-1726673400@www.lemontmartre.ca
SUMMARY:LE VERBE PAROLE EST DEVENU CHAIR
DESCRIPTION:Revisiter L’Incarnation avec l’Évangile de Jean\nEn PRÉSENTIEL et en ZOOM*\n*ZOOM sera accessible seulement aux personnes qui habitent à l’extérieur de la ville de Québec et pour qui il est impossible se rendre à la rencontre en présentiel
URL:https://www.lemontmartre.ca/event/le-verbe-parole-est-devenu-chair-2/2024-09-18/
LOCATION:Centre Le Montmartre
CATEGORIES:Formations
ATTACH;FMTTYPE=image/jpeg:https://www.lemontmartre.ca/wp-content/uploads/2024/09/Formation-Evangile-de-Jean-Automne-2024-Facebook-Cover.jpg
END:VEVENT
BEGIN:VEVENT
DTSTART;TZID=America/Montreal:20240913T170000
DTEND;TZID=America/Montreal:20240913T190000
DTSTAMP:20260422T233827
CREATED:20240907T174635Z
LAST-MODIFIED:20240907T174652Z
UID:10004474-1726246800-1726254000@www.lemontmartre.ca
SUMMARY:La Bonté au Quotidien
DESCRIPTION:5 à 7 avec Gilles Nadeau\, prêtre et accompagnateur spirituel à la maison des soins palliatifs Michel-Sarrazin\, Québec 
URL:https://www.lemontmartre.ca/event/la-bonte-au-quotidien/
LOCATION:Centre Le Montmartre
CATEGORIES:Agenda des activités,Conférences et débats
ATTACH;FMTTYPE=image/jpeg:https://www.lemontmartre.ca/wp-content/uploads/2024/09/5-A-7-DU-MONTMARTRE-13-Septembre-2024-Facebook-Cover.jpg
END:VEVENT
BEGIN:VEVENT
DTSTART;TZID=America/Montreal:20240815T193000
DTEND;TZID=America/Montreal:20240815T210000
DTSTAMP:20260422T233827
CREATED:20240701T134336Z
LAST-MODIFIED:20240805T014532Z
UID:10003977-1723750200-1723755600@www.lemontmartre.ca
SUMMARY:Retraite de l'Assomption
DESCRIPTION:Au cours des célébrations eucharistiques suivies de la vénération de l’icône de la Vierge Marie \nThème : De Visitation en Visitation. Histoires de famille\n* Le 13 août: – Visitation de l’ange à Zacharie\n* Le 14 août: – Visitation de l’ange à Joseph\n* Le 15 août: – Visitation: Marie et Élisabeth \nPrédication assurée par Sylvie Latreille\, de la fraternité dominicaine de Montréal\, précédemment professeure de théologie à l’Institut Pastoral des Dominicains à Montréal
URL:https://www.lemontmartre.ca/event/retraite-de-lassomption/2024-08-15/
LOCATION:Centre Le Montmartre
CATEGORIES:Agenda des activités,Prière et intériorité
ATTACH;FMTTYPE=image/jpeg:https://www.lemontmartre.ca/wp-content/uploads/2024/07/Retraite-de-lAssomption_2024-scaled.jpg
END:VEVENT
BEGIN:VEVENT
DTSTART;TZID=America/Montreal:20240814T193000
DTEND;TZID=America/Montreal:20240814T210000
DTSTAMP:20260422T233827
CREATED:20240701T134336Z
LAST-MODIFIED:20240805T014532Z
UID:10003976-1723663800-1723669200@www.lemontmartre.ca
SUMMARY:Retraite de l'Assomption
DESCRIPTION:Au cours des célébrations eucharistiques suivies de la vénération de l’icône de la Vierge Marie \nThème : De Visitation en Visitation. Histoires de famille\n* Le 13 août: – Visitation de l’ange à Zacharie\n* Le 14 août: – Visitation de l’ange à Joseph\n* Le 15 août: – Visitation: Marie et Élisabeth \nPrédication assurée par Sylvie Latreille\, de la fraternité dominicaine de Montréal\, précédemment professeure de théologie à l’Institut Pastoral des Dominicains à Montréal
URL:https://www.lemontmartre.ca/event/retraite-de-lassomption/2024-08-14/
LOCATION:Centre Le Montmartre
CATEGORIES:Agenda des activités,Prière et intériorité
ATTACH;FMTTYPE=image/jpeg:https://www.lemontmartre.ca/wp-content/uploads/2024/07/Retraite-de-lAssomption_2024-scaled.jpg
END:VEVENT
BEGIN:VEVENT
DTSTART;TZID=America/Montreal:20240813T193000
DTEND;TZID=America/Montreal:20240813T210000
DTSTAMP:20260422T233827
CREATED:20240701T134336Z
LAST-MODIFIED:20240805T014532Z
UID:10003975-1723577400-1723582800@www.lemontmartre.ca
SUMMARY:Retraite de l'Assomption
DESCRIPTION:Au cours des célébrations eucharistiques suivies de la vénération de l’icône de la Vierge Marie \nThème : De Visitation en Visitation. Histoires de famille\n* Le 13 août: – Visitation de l’ange à Zacharie\n* Le 14 août: – Visitation de l’ange à Joseph\n* Le 15 août: – Visitation: Marie et Élisabeth \nPrédication assurée par Sylvie Latreille\, de la fraternité dominicaine de Montréal\, précédemment professeure de théologie à l’Institut Pastoral des Dominicains à Montréal
URL:https://www.lemontmartre.ca/event/retraite-de-lassomption/2024-08-13/
LOCATION:Centre Le Montmartre
CATEGORIES:Agenda des activités,Prière et intériorité
ATTACH;FMTTYPE=image/jpeg:https://www.lemontmartre.ca/wp-content/uploads/2024/07/Retraite-de-lAssomption_2024-scaled.jpg
END:VEVENT
BEGIN:VEVENT
DTSTART;VALUE=DATE:20240715
DTEND;VALUE=DATE:20240721
DTSTAMP:20260422T233827
CREATED:20240701T133805Z
LAST-MODIFIED:20240701T133805Z
UID:10003974-1721001600-1721519999@www.lemontmartre.ca
SUMMARY:Retraite des Augustins de l'Assomption
DESCRIPTION:Titre : Laisser grandir la grâce de Dieu dans nos vies\nPrédicateur : P. Vincent Leclercq\, assomptionniste \nLieu : Communauté assomptionniste du Montmartre à Québec
URL:https://www.lemontmartre.ca/event/retraite-des-augustins-de-lassomption/
LOCATION:Centre Le Montmartre
CATEGORIES:Agenda des activités,Prière et intériorité
END:VEVENT
BEGIN:VEVENT
DTSTART;TZID=America/Montreal:20240713T190000
DTEND;TZID=America/Montreal:20240713T203000
DTSTAMP:20260422T233827
CREATED:20240701T132441Z
LAST-MODIFIED:20240701T132441Z
UID:10003972-1720897200-1720902600@www.lemontmartre.ca
SUMMARY:Taizé estival en plein air
DESCRIPTION:
URL:https://www.lemontmartre.ca/event/taize-estival-en-plein-air/
LOCATION:Centre Le Montmartre
CATEGORIES:Agenda des activités,Prière et intériorité
END:VEVENT
BEGIN:VEVENT
DTSTART;TZID=America/Montreal:20240610T140000
DTEND;TZID=America/Montreal:20240610T153000
DTSTAMP:20260422T233827
CREATED:20240423T212914Z
LAST-MODIFIED:20240612T133427Z
UID:10002376-1718028000-1718033400@www.lemontmartre.ca
SUMMARY:Maisonnée 2 : Partage spirituel inspiré de la série L'Élu (The Chosen)
DESCRIPTION:S’inspirant de la méthode Lectio Divina avec les couleurs de la série The Chosen/L’Élu. À la salle des formations anciennement de la Guilde\, sous-sol de la chapelle du Sacré-Cœur.
URL:https://www.lemontmartre.ca/event/maisonnee-2-partage-spirituel-inspire-de-la-serie-lelu-the-chosen-3/2024-06-10/
LOCATION:Centre Le Montmartre
CATEGORIES:Espace de rencontres
END:VEVENT
BEGIN:VEVENT
DTSTART;TZID=America/Montreal:20240609T114500
DTEND;TZID=America/Montreal:20240609T140000
DTSTAMP:20260422T233827
CREATED:20240525T034311Z
LAST-MODIFIED:20240526T023713Z
UID:10002785-1717933500-1717941600@www.lemontmartre.ca
SUMMARY:Repas communautaire
DESCRIPTION:
URL:https://www.lemontmartre.ca/event/repas-communautaire/
LOCATION:Centre Le Montmartre
CATEGORIES:Agenda des activités,Espace de rencontres
END:VEVENT
BEGIN:VEVENT
DTSTART;TZID=America/Montreal:20240607T193000
DTEND;TZID=America/Montreal:20240607T210000
DTSTAMP:20260422T233827
CREATED:20240601T005854Z
LAST-MODIFIED:20240601T005854Z
UID:10002788-1717788600-1717794000@www.lemontmartre.ca
SUMMARY:Retraite du Sacré-Cœur
DESCRIPTION:Thème par le Père Marcel Poirier
URL:https://www.lemontmartre.ca/event/retraite-du-sacre-coeur/2024-06-07/
LOCATION:Centre Le Montmartre
CATEGORIES:Agenda des activités,Prière et intériorité
END:VEVENT
BEGIN:VEVENT
DTSTART;TZID=America/Montreal:20240606T193000
DTEND;TZID=America/Montreal:20240606T210000
DTSTAMP:20260422T233827
CREATED:20240601T005854Z
LAST-MODIFIED:20240601T005854Z
UID:10002787-1717702200-1717707600@www.lemontmartre.ca
SUMMARY:Retraite du Sacré-Cœur
DESCRIPTION:Thème par le Père Marcel Poirier
URL:https://www.lemontmartre.ca/event/retraite-du-sacre-coeur/2024-06-06/
LOCATION:Centre Le Montmartre
CATEGORIES:Agenda des activités,Prière et intériorité
END:VEVENT
BEGIN:VEVENT
DTSTART;TZID=America/Montreal:20240605T193000
DTEND;TZID=America/Montreal:20240605T210000
DTSTAMP:20260422T233827
CREATED:20240601T005854Z
LAST-MODIFIED:20240601T005854Z
UID:10002786-1717615800-1717621200@www.lemontmartre.ca
SUMMARY:Retraite du Sacré-Cœur
DESCRIPTION:Thème par le Père Marcel Poirier
URL:https://www.lemontmartre.ca/event/retraite-du-sacre-coeur/2024-06-05/
LOCATION:Centre Le Montmartre
CATEGORIES:Agenda des activités,Prière et intériorité
END:VEVENT
BEGIN:VEVENT
DTSTART;TZID=America/Montreal:20240530T193000
DTEND;TZID=America/Montreal:20240530T210000
DTSTAMP:20260422T233827
CREATED:20240525T034055Z
LAST-MODIFIED:20240525T051913Z
UID:10002784-1717097400-1717102800@www.lemontmartre.ca
SUMMARY:Histoire nationale. Valeurs\, nation\, mythes fondateurs
DESCRIPTION:Conférence dans le cadre des défis et débats actuels au Montmartre\nAvec Gérard Bouchard\, historien et sociologue professeur à l’Université du Québec à Chicoutimi
URL:https://www.lemontmartre.ca/event/histoire-nationale-valeurs-nation-mythes-fondateurs/
LOCATION:Centre Le Montmartre
CATEGORIES:Agenda des activités,Conférences et débats
ATTACH;FMTTYPE=image/jpeg:https://www.lemontmartre.ca/wp-content/uploads/2024/05/Gerard-Bouchard.jpg
END:VEVENT
BEGIN:VEVENT
DTSTART;TZID=America/Montreal:20240527T193000
DTEND;TZID=America/Montreal:20240527T210000
DTSTAMP:20260422T233827
CREATED:20240423T211418Z
LAST-MODIFIED:20240423T211418Z
UID:10002359-1716838200-1716843600@www.lemontmartre.ca
SUMMARY:« SE CONNAÎTRE ET SE TROUVER » avec Marie de l’Incarnation
DESCRIPTION:
URL:https://www.lemontmartre.ca/event/se-connaitre-et-se-trouver-avec-marie-de-lincarnation/2024-05-27/
LOCATION:Centre Le Montmartre
CATEGORIES:Formations
ATTACH;FMTTYPE=image/jpeg:https://www.lemontmartre.ca/wp-content/uploads/2024/04/formation-marie-de-lIncarnation.jpg
END:VEVENT
BEGIN:VEVENT
DTSTART;TZID=America/Montreal:20240527T140000
DTEND;TZID=America/Montreal:20240527T153000
DTSTAMP:20260422T233827
CREATED:20240423T212914Z
LAST-MODIFIED:20240612T133427Z
UID:10002375-1716818400-1716823800@www.lemontmartre.ca
SUMMARY:Maisonnée 2 : Partage spirituel inspiré de la série L'Élu (The Chosen)
DESCRIPTION:S’inspirant de la méthode Lectio Divina avec les couleurs de la série The Chosen/L’Élu. À la salle des formations anciennement de la Guilde\, sous-sol de la chapelle du Sacré-Cœur.
URL:https://www.lemontmartre.ca/event/maisonnee-2-partage-spirituel-inspire-de-la-serie-lelu-the-chosen-3/2024-05-27/
LOCATION:Centre Le Montmartre
CATEGORIES:Espace de rencontres
END:VEVENT
BEGIN:VEVENT
DTSTART;TZID=America/Montreal:20240513T140000
DTEND;TZID=America/Montreal:20240513T153000
DTSTAMP:20260422T233827
CREATED:20240423T212914Z
LAST-MODIFIED:20240612T133427Z
UID:10002217-1715608800-1715614200@www.lemontmartre.ca
SUMMARY:Maisonnée 2 : Partage spirituel inspiré de la série L'Élu (The Chosen)
DESCRIPTION:S’inspirant de la méthode Lectio Divina avec les couleurs de la série The Chosen/L’Élu. À la salle des formations anciennement de la Guilde\, sous-sol de la chapelle du Sacré-Cœur.
URL:https://www.lemontmartre.ca/event/maisonnee-2-partage-spirituel-inspire-de-la-serie-lelu-the-chosen-3/2024-05-13/
LOCATION:Centre Le Montmartre
CATEGORIES:Espace de rencontres
END:VEVENT
BEGIN:VEVENT
DTSTART;TZID=America/Montreal:20240429T193000
DTEND;TZID=America/Montreal:20240429T210000
DTSTAMP:20260422T233827
CREATED:20240423T211418Z
LAST-MODIFIED:20240423T211418Z
UID:10002358-1714419000-1714424400@www.lemontmartre.ca
SUMMARY:« SE CONNAÎTRE ET SE TROUVER » avec Marie de l’Incarnation
DESCRIPTION:
URL:https://www.lemontmartre.ca/event/se-connaitre-et-se-trouver-avec-marie-de-lincarnation/2024-04-29/
LOCATION:Centre Le Montmartre
CATEGORIES:Formations
ATTACH;FMTTYPE=image/jpeg:https://www.lemontmartre.ca/wp-content/uploads/2024/04/formation-marie-de-lIncarnation.jpg
END:VEVENT
BEGIN:VEVENT
DTSTART;TZID=America/Montreal:20240429T140000
DTEND;TZID=America/Montreal:20240429T153000
DTSTAMP:20260422T233827
CREATED:20240423T212406Z
LAST-MODIFIED:20240423T212635Z
UID:10002374-1714399200-1714404600@www.lemontmartre.ca
SUMMARY:Maisonnée 2 : Partage spirituel inspiré de la série L'Élu (The Chosen)
DESCRIPTION:S’inspirant de la méthode Lectio Divina avec les couleurs de la série The Chosen/L’Élu. À la salle des formations anciennement de la Guilde\, sous-sol de la chapelle du Sacré-Cœur.
URL:https://www.lemontmartre.ca/event/maisonnee-2-partage-spirituel-inspire-de-la-serie-lelu-the-chosen-2/2024-04-29/
LOCATION:Centre Le Montmartre
CATEGORIES:Espace de rencontres
END:VEVENT
BEGIN:VEVENT
DTSTART;TZID=America/Montreal:20240428T114500
DTEND;TZID=America/Montreal:20240428T140000
DTSTAMP:20260422T233827
CREATED:20240423T211950Z
LAST-MODIFIED:20240423T211950Z
UID:10002362-1714304700-1714312800@www.lemontmartre.ca
SUMMARY:Causerie Croquante avec Anne-Marie Rodrigue
DESCRIPTION:Causerie Croquante / “Avidité de vivre\, en compagnie de Blaise Pascal\, du Pape François et des réseaux sociaux” \navec Anne-Marie Rodrigue \nACTIVITÉ ANNULÉE ET REPORTÉE À UNE DATE ULTÉRIEURE ! 
URL:https://www.lemontmartre.ca/event/causerie-croquante-avec-anne-marie-rodrigue/
LOCATION:Centre Le Montmartre
CATEGORIES:Conférences et débats
END:VEVENT
BEGIN:VEVENT
DTSTART;TZID=America/Montreal:20240426T170000
DTEND;TZID=America/Montreal:20240426T190000
DTSTAMP:20260422T233827
CREATED:20240423T211713Z
LAST-MODIFIED:20240423T211713Z
UID:10002361-1714150800-1714158000@www.lemontmartre.ca
SUMMARY:Pour une bonne fin du voyage... de la vie
DESCRIPTION:5 à 7 avec Roger Thériault \n 
URL:https://www.lemontmartre.ca/event/pour-une-bonne-fin-du-voyage-de-la-vie/
LOCATION:Centre Le Montmartre
CATEGORIES:Conférences et débats
END:VEVENT
BEGIN:VEVENT
DTSTART;TZID=America/Montreal:20240423T190000
DTEND;TZID=America/Montreal:20240423T200000
DTSTAMP:20260422T233827
CREATED:20240423T211555Z
LAST-MODIFIED:20240423T211555Z
UID:10002360-1713898800-1713902400@www.lemontmartre.ca
SUMMARY:La beauté de la liturgie de la messe
DESCRIPTION:
URL:https://www.lemontmartre.ca/event/la-beaute-de-la-liturgie-de-la-messe/
LOCATION:Centre Le Montmartre
CATEGORIES:Formations
END:VEVENT
BEGIN:VEVENT
DTSTART;TZID=America/Montreal:20240415T193000
DTEND;TZID=America/Montreal:20240415T210000
DTSTAMP:20260422T233827
CREATED:20240423T211418Z
LAST-MODIFIED:20240423T211418Z
UID:10002357-1713209400-1713214800@www.lemontmartre.ca
SUMMARY:« SE CONNAÎTRE ET SE TROUVER » avec Marie de l’Incarnation
DESCRIPTION:
URL:https://www.lemontmartre.ca/event/se-connaitre-et-se-trouver-avec-marie-de-lincarnation/2024-04-15/
LOCATION:Centre Le Montmartre
CATEGORIES:Formations
ATTACH;FMTTYPE=image/jpeg:https://www.lemontmartre.ca/wp-content/uploads/2024/04/formation-marie-de-lIncarnation.jpg
END:VEVENT
BEGIN:VEVENT
DTSTART;TZID=America/Montreal:20240415T140000
DTEND;TZID=America/Montreal:20240415T153000
DTSTAMP:20260422T233827
CREATED:20240423T212406Z
LAST-MODIFIED:20240423T212635Z
UID:10002219-1713189600-1713195000@www.lemontmartre.ca
SUMMARY:Maisonnée 2 : Partage spirituel inspiré de la série L'Élu (The Chosen)
DESCRIPTION:S’inspirant de la méthode Lectio Divina avec les couleurs de la série The Chosen/L’Élu. À la salle des formations anciennement de la Guilde\, sous-sol de la chapelle du Sacré-Cœur.
URL:https://www.lemontmartre.ca/event/maisonnee-2-partage-spirituel-inspire-de-la-serie-lelu-the-chosen-2/2024-04-15/
LOCATION:Centre Le Montmartre
CATEGORIES:Espace de rencontres
END:VEVENT
BEGIN:VEVENT
DTSTART;TZID=America/Montreal:20240411T193000
DTEND;TZID=America/Montreal:20240411T210000
DTSTAMP:20260422T233827
CREATED:20240423T211056Z
LAST-MODIFIED:20240423T211145Z
UID:10002356-1712863800-1712869200@www.lemontmartre.ca
SUMMARY:Le pouvoir de l’image
DESCRIPTION:DÉFIS ET DÉBATS ACTUELS AU MONTMARTRE \nAvec Serge Chapleau\, caricaturiste québécois
URL:https://www.lemontmartre.ca/event/le-pouvoir-de-limage/
LOCATION:Centre Le Montmartre
CATEGORIES:Conférences et débats
ATTACH;FMTTYPE=image/jpeg:https://www.lemontmartre.ca/wp-content/uploads/2024/04/aff-conf-mmartre-2024_chapleau1.jpg
END:VEVENT
BEGIN:VEVENT
DTSTART;TZID=America/Montreal:20240408T140000
DTEND;TZID=America/Montreal:20240408T153000
DTSTAMP:20260422T233827
CREATED:20240423T212406Z
LAST-MODIFIED:20240423T212635Z
UID:10002373-1712584800-1712590200@www.lemontmartre.ca
SUMMARY:Maisonnée 2 : Partage spirituel inspiré de la série L'Élu (The Chosen)
DESCRIPTION:S’inspirant de la méthode Lectio Divina avec les couleurs de la série The Chosen/L’Élu. À la salle des formations anciennement de la Guilde\, sous-sol de la chapelle du Sacré-Cœur.
URL:https://www.lemontmartre.ca/event/maisonnee-2-partage-spirituel-inspire-de-la-serie-lelu-the-chosen-2/2024-04-08/
LOCATION:Centre Le Montmartre
CATEGORIES:Espace de rencontres
END:VEVENT
END:VCALENDAR