BEGIN:VCALENDAR
VERSION:2.0
PRODID:-//Le Montmartre - ECPv6.15.13//NONSGML v1.0//EN
CALSCALE:GREGORIAN
METHOD:PUBLISH
X-WR-CALNAME:Le Montmartre
X-ORIGINAL-URL:https://www.lemontmartre.ca
X-WR-CALDESC:Évènements pour Le Montmartre
REFRESH-INTERVAL;VALUE=DURATION:PT1H
X-Robots-Tag:noindex
X-PUBLISHED-TTL:PT1H
BEGIN:VTIMEZONE
TZID:America/Montreal
BEGIN:DAYLIGHT
TZOFFSETFROM:-0500
TZOFFSETTO:-0400
TZNAME:EDT
DTSTART:20230312T070000
END:DAYLIGHT
BEGIN:STANDARD
TZOFFSETFROM:-0400
TZOFFSETTO:-0500
TZNAME:EST
DTSTART:20231105T060000
END:STANDARD
BEGIN:DAYLIGHT
TZOFFSETFROM:-0500
TZOFFSETTO:-0400
TZNAME:EDT
DTSTART:20240310T070000
END:DAYLIGHT
BEGIN:STANDARD
TZOFFSETFROM:-0400
TZOFFSETTO:-0500
TZNAME:EST
DTSTART:20241103T060000
END:STANDARD
BEGIN:DAYLIGHT
TZOFFSETFROM:-0500
TZOFFSETTO:-0400
TZNAME:EDT
DTSTART:20250309T070000
END:DAYLIGHT
BEGIN:STANDARD
TZOFFSETFROM:-0400
TZOFFSETTO:-0500
TZNAME:EST
DTSTART:20251102T060000
END:STANDARD
END:VTIMEZONE
BEGIN:VEVENT
DTSTART;TZID=America/Montreal:20241108T170000
DTEND;TZID=America/Montreal:20241108T190000
DTSTAMP:20260422T183812
CREATED:20241017T045039Z
LAST-MODIFIED:20241027T200601Z
UID:10005429-1731085200-1731092400@www.lemontmartre.ca
SUMMARY:Au cœur du deuil : l'espérance!
DESCRIPTION:5 À 7 avec Nicolas Desbiens\, intervenant en soins spirituels
URL:https://www.lemontmartre.ca/event/au-coeur-du-deuil-lesperance/
LOCATION:Centre Le Montmartre
CATEGORIES:Conférences et débats
ATTACH;FMTTYPE=image/jpeg:https://www.lemontmartre.ca/wp-content/uploads/2024/10/5-A-7-DU-MONTMARTRE20241108-N.Desbiens-1.jpg
END:VEVENT
BEGIN:VEVENT
DTSTART;TZID=America/Montreal:20241106T140000
DTEND;TZID=America/Montreal:20241106T153000
DTSTAMP:20260422T183812
CREATED:20240914T023243Z
LAST-MODIFIED:20240914T023243Z
UID:10005341-1730901600-1730907000@www.lemontmartre.ca
SUMMARY:LE VERBE PAROLE EST DEVENU CHAIR
DESCRIPTION:Revisiter L’Incarnation avec l’Évangile de Jean\nEn PRÉSENTIEL et en ZOOM*\n*ZOOM sera accessible seulement aux personnes qui habitent à l’extérieur de la ville de Québec et pour qui il est impossible se rendre à la rencontre en présentiel
URL:https://www.lemontmartre.ca/event/le-verbe-parole-est-devenu-chair-2/2024-11-06/
LOCATION:Centre Le Montmartre
CATEGORIES:Formations
ATTACH;FMTTYPE=image/jpeg:https://www.lemontmartre.ca/wp-content/uploads/2024/09/Formation-Evangile-de-Jean-Automne-2024-Facebook-Cover.jpg
END:VEVENT
BEGIN:VEVENT
DTSTART;TZID=America/Montreal:20241105T093000
DTEND;TZID=America/Montreal:20241105T110000
DTSTAMP:20260422T183812
CREATED:20240914T030041Z
LAST-MODIFIED:20240914T030042Z
UID:10005362-1730799000-1730804400@www.lemontmartre.ca
SUMMARY:CAFÉ «BONNE NOUVELLE»
DESCRIPTION:Regard chrétien sur les événements du monde \n 
URL:https://www.lemontmartre.ca/event/cafe-bonne-nouvelle/2024-11-05/
LOCATION:Centre Le Montmartre
CATEGORIES:Formations
ATTACH;FMTTYPE=image/jpeg:https://www.lemontmartre.ca/wp-content/uploads/2024/09/CAFE-BONNE-NOUVELLE-2024-Facebook-Cover.jpg
END:VEVENT
BEGIN:VEVENT
DTSTART;TZID=America/Montreal:20241104T193000
DTEND;TZID=America/Montreal:20241104T210000
DTSTAMP:20260422T183812
CREATED:20240914T025305Z
LAST-MODIFIED:20240914T025342Z
UID:10005355-1730748600-1730754000@www.lemontmartre.ca
SUMMARY:«  SE CONNAÎTRE ET SE TROUVER »  avec Marie de l’Incarnation
DESCRIPTION:« C’est en vous aimant que je vous connaîtrai »\nEn PRÉSENTIEL et en ZOOM*\n*ZOOM sera accessible seulement aux personnes qui habitent à l’extérieur de la ville de Québec et pour qui il est impossible se rendre à la rencontre en présentiel.
URL:https://www.lemontmartre.ca/event/se-connaitre-et-se-trouver-avec-marie-de-lincarnation-2/2024-11-04/
LOCATION:Centre Le Montmartre
CATEGORIES:Formations
ATTACH;FMTTYPE=image/jpeg:https://www.lemontmartre.ca/wp-content/uploads/2024/09/Formation-Marie-de-lIncarnation-Automne-2024-Facebook-Cover.jpg
END:VEVENT
BEGIN:VEVENT
DTSTART;TZID=America/Montreal:20241104T140000
DTEND;TZID=America/Montreal:20241104T153000
DTSTAMP:20260422T183812
CREATED:20241004T014557Z
LAST-MODIFIED:20241004T014845Z
UID:10004478-1730728800-1730734200@www.lemontmartre.ca
SUMMARY:MAISONNÉE: Approfondir et Partager notre Foi en compagnie de « l’Élu » (The Chosen)
DESCRIPTION:Partage inspiré de la méthode Lectio Divina : vécu spirituel \nSalle Staub\, Centre « Culture et Foi » Montmartre\,\n1669\, Chemin Saint Louis\, Québec\, QC G1S 1G5
URL:https://www.lemontmartre.ca/event/maisonnee-2-partage-spirituel-inspire-de-la-serie-lelu-the-chosen-4-2/2024-11-04/
LOCATION:Centre Le Montmartre
CATEGORIES:Agenda des activités,Espace de rencontres
ATTACH;FMTTYPE=image/jpeg:https://www.lemontmartre.ca/wp-content/uploads/2024/09/Maisonnee-Elu-2024-Automne-Banner-Landscape.jpg
END:VEVENT
BEGIN:VEVENT
DTSTART;TZID=America/Montreal:20241103T114500
DTEND;TZID=America/Montreal:20241103T140000
DTSTAMP:20260422T183812
CREATED:20240921T030833Z
LAST-MODIFIED:20250122T043906Z
UID:10005430-1730634300-1730642400@www.lemontmartre.ca
SUMMARY:Repas communautaire
DESCRIPTION:
URL:https://www.lemontmartre.ca/event/repas-communautaire-2/2024-11-03/
LOCATION:Centre Le Montmartre
CATEGORIES:Espace de rencontres
END:VEVENT
BEGIN:VEVENT
DTSTART;TZID=America/Montreal:20241101T173000
DTEND;TZID=America/Montreal:20241101T190000
DTSTAMP:20260422T183812
CREATED:20241018T233959Z
LAST-MODIFIED:20241026T191315Z
UID:10005432-1730482200-1730487600@www.lemontmartre.ca
SUMMARY:À l’orgue de Notre-Dame.  Être le passeur du Souffle et de l’Éternel
DESCRIPTION:SOIRÉE-RENCONTRE AU MONTMARTRE Avec Olivier Latry\, organiste\, professeur d’orgue au Conservatoire de Paris\, concertiste\, improvisateur et titulaire du grand orgue de Notre-Dame de Paris
URL:https://www.lemontmartre.ca/event/33662/
LOCATION:Centre Le Montmartre
CATEGORIES:Conférences et débats
ATTACH;FMTTYPE=image/jpeg:https://www.lemontmartre.ca/wp-content/uploads/2024/10/SOIREE_RENCONTRE-AU-MONTMARTRE_1_NOVEMBRE_2024.jpg
END:VEVENT
BEGIN:VEVENT
DTSTART;TZID=America/Montreal:20241031T193000
DTEND;TZID=America/Montreal:20241031T210000
DTSTAMP:20260422T183812
CREATED:20241004T021248Z
LAST-MODIFIED:20241004T021248Z
UID:10005397-1730403000-1730408400@www.lemontmartre.ca
SUMMARY:Vivre et prendre soin de l’irréparé\, alors que l’irréparable a eu lieu ?
DESCRIPTION:DÉFIS ET DÉBATS ACTUELS AU MONTMARTRE avec Isabelle le Bourgeois
URL:https://www.lemontmartre.ca/event/vivre-et-prendre-soin-de-lirrepare-alors-que-lirreparable-a-eu-lieu/
LOCATION:Centre Le Montmartre
CATEGORIES:Conférences et débats
ATTACH;FMTTYPE=image/jpeg:https://www.lemontmartre.ca/wp-content/uploads/2024/10/CONF-MMARTRE-31oct2024__LeBourgeois_FB.jpg
END:VEVENT
BEGIN:VEVENT
DTSTART;TZID=America/Montreal:20241027T114500
DTEND;TZID=America/Montreal:20241027T140000
DTSTAMP:20260422T183812
CREATED:20241004T020710Z
LAST-MODIFIED:20241004T020750Z
UID:10005396-1730029500-1730037600@www.lemontmartre.ca
SUMMARY:Écologie intégrale. Prendre soin de notre monde et de nous-mêmes
DESCRIPTION:LES « CAUSERIES CROQUANTES » DU MONTMARTRE Avec Sandra Côté\, agente de pastorale\, responsable de la transition écologique
URL:https://www.lemontmartre.ca/event/ecologie-integrale-prendre-soin-de-notre-monde-et-de-nous-memes/
LOCATION:Centre Le Montmartre
CATEGORIES:Conférences et débats
ATTACH;FMTTYPE=image/jpeg:https://www.lemontmartre.ca/wp-content/uploads/2024/10/CONF-MMARTRE-27-oct-2024_SandraCote_FB.jpg
END:VEVENT
BEGIN:VEVENT
DTSTART;TZID=America/Montreal:20241024T193000
DTEND;TZID=America/Montreal:20241024T210000
DTSTAMP:20260422T183812
CREATED:20241004T020152Z
LAST-MODIFIED:20241004T020152Z
UID:10005395-1729798200-1729803600@www.lemontmartre.ca
SUMMARY:Et si nous parlions de la synodalité\, des femmes et d’autres défis dans l’Église !
DESCRIPTION:SOIRÉE-RENCONTRE AU MONTMARTRE Avec Gisèle Turcot\, sbc
URL:https://www.lemontmartre.ca/event/et-si-nous-parlions-de-la-synodalite-des-femmes-et-dautres-defis-dans-leglise/
LOCATION:Centre Le Montmartre
CATEGORIES:Conférences et débats
ATTACH;FMTTYPE=image/jpeg:https://www.lemontmartre.ca/wp-content/uploads/2024/10/CONF-MMARTRE-24-oct-2024_Turcot-Gisele-FB.jpg
END:VEVENT
BEGIN:VEVENT
DTSTART;TZID=America/Montreal:20241023T140000
DTEND;TZID=America/Montreal:20241023T153000
DTSTAMP:20260422T183812
CREATED:20240914T023243Z
LAST-MODIFIED:20240914T023243Z
UID:10005340-1729692000-1729697400@www.lemontmartre.ca
SUMMARY:LE VERBE PAROLE EST DEVENU CHAIR
DESCRIPTION:Revisiter L’Incarnation avec l’Évangile de Jean\nEn PRÉSENTIEL et en ZOOM*\n*ZOOM sera accessible seulement aux personnes qui habitent à l’extérieur de la ville de Québec et pour qui il est impossible se rendre à la rencontre en présentiel
URL:https://www.lemontmartre.ca/event/le-verbe-parole-est-devenu-chair-2/2024-10-23/
LOCATION:Centre Le Montmartre
CATEGORIES:Formations
ATTACH;FMTTYPE=image/jpeg:https://www.lemontmartre.ca/wp-content/uploads/2024/09/Formation-Evangile-de-Jean-Automne-2024-Facebook-Cover.jpg
END:VEVENT
BEGIN:VEVENT
DTSTART;TZID=America/Montreal:20241022T093000
DTEND;TZID=America/Montreal:20241022T110000
DTSTAMP:20260422T183812
CREATED:20240914T030041Z
LAST-MODIFIED:20240914T030042Z
UID:10005361-1729589400-1729594800@www.lemontmartre.ca
SUMMARY:CAFÉ «BONNE NOUVELLE»
DESCRIPTION:Regard chrétien sur les événements du monde \n 
URL:https://www.lemontmartre.ca/event/cafe-bonne-nouvelle/2024-10-22/
LOCATION:Centre Le Montmartre
CATEGORIES:Formations
ATTACH;FMTTYPE=image/jpeg:https://www.lemontmartre.ca/wp-content/uploads/2024/09/CAFE-BONNE-NOUVELLE-2024-Facebook-Cover.jpg
END:VEVENT
BEGIN:VEVENT
DTSTART;TZID=America/Montreal:20241021T193000
DTEND;TZID=America/Montreal:20241021T210000
DTSTAMP:20260422T183812
CREATED:20240914T025305Z
LAST-MODIFIED:20240914T025342Z
UID:10005354-1729539000-1729544400@www.lemontmartre.ca
SUMMARY:«  SE CONNAÎTRE ET SE TROUVER »  avec Marie de l’Incarnation
DESCRIPTION:« C’est en vous aimant que je vous connaîtrai »\nEn PRÉSENTIEL et en ZOOM*\n*ZOOM sera accessible seulement aux personnes qui habitent à l’extérieur de la ville de Québec et pour qui il est impossible se rendre à la rencontre en présentiel.
URL:https://www.lemontmartre.ca/event/se-connaitre-et-se-trouver-avec-marie-de-lincarnation-2/2024-10-21/
LOCATION:Centre Le Montmartre
CATEGORIES:Formations
ATTACH;FMTTYPE=image/jpeg:https://www.lemontmartre.ca/wp-content/uploads/2024/09/Formation-Marie-de-lIncarnation-Automne-2024-Facebook-Cover.jpg
END:VEVENT
BEGIN:VEVENT
DTSTART;TZID=America/Montreal:20241021T140000
DTEND;TZID=America/Montreal:20241021T153000
DTSTAMP:20260422T183812
CREATED:20241004T014557Z
LAST-MODIFIED:20241004T014845Z
UID:10004477-1729519200-1729524600@www.lemontmartre.ca
SUMMARY:MAISONNÉE: Approfondir et Partager notre Foi en compagnie de « l’Élu » (The Chosen)
DESCRIPTION:Partage inspiré de la méthode Lectio Divina : vécu spirituel \nSalle Staub\, Centre « Culture et Foi » Montmartre\,\n1669\, Chemin Saint Louis\, Québec\, QC G1S 1G5
URL:https://www.lemontmartre.ca/event/maisonnee-2-partage-spirituel-inspire-de-la-serie-lelu-the-chosen-4-2/2024-10-21/
LOCATION:Centre Le Montmartre
CATEGORIES:Agenda des activités,Espace de rencontres
ATTACH;FMTTYPE=image/jpeg:https://www.lemontmartre.ca/wp-content/uploads/2024/09/Maisonnee-Elu-2024-Automne-Banner-Landscape.jpg
END:VEVENT
BEGIN:VEVENT
DTSTART;TZID=America/Montreal:20241015T190000
DTEND;TZID=America/Montreal:20241015T210000
DTSTAMP:20260422T183812
CREATED:20240914T030923Z
LAST-MODIFIED:20240914T030923Z
UID:10005366-1729018800-1729026000@www.lemontmartre.ca
SUMMARY:Augustin – l’homme – l’œuvre
DESCRIPTION:
URL:https://www.lemontmartre.ca/event/augustin-lhomme-loeuvre/2024-10-15/
LOCATION:Centre Le Montmartre
CATEGORIES:Formations
ATTACH;FMTTYPE=image/jpeg:https://www.lemontmartre.ca/wp-content/uploads/2024/09/Augustin-Marcel-Poirier-2024-Facebook-Cover1.jpg
END:VEVENT
BEGIN:VEVENT
DTSTART;TZID=America/Montreal:20241015T140000
DTEND;TZID=America/Montreal:20241015T153000
DTSTAMP:20260422T183812
CREATED:20241004T015134Z
LAST-MODIFIED:20241004T015134Z
UID:10005339-1729000800-1729006200@www.lemontmartre.ca
SUMMARY:LE VERBE PAROLE EST DEVENU CHAIR
DESCRIPTION:Revisiter L’Incarnation avec l’Évangile de Jean\nEn PRÉSENTIEL et en ZOOM*\n*ZOOM sera accessible seulement aux personnes qui habitent à l’extérieur de la ville de Québec et pour qui il est impossible se rendre à la rencontre en présentiel
URL:https://www.lemontmartre.ca/event/le-verbe-parole-est-devenu-chair-2-2/
LOCATION:Centre Le Montmartre
CATEGORIES:Formations
ATTACH;FMTTYPE=image/jpeg:https://www.lemontmartre.ca/wp-content/uploads/2024/09/Formation-Evangile-de-Jean-Automne-2024-Facebook-Cover.jpg
END:VEVENT
BEGIN:VEVENT
DTSTART;TZID=America/Montreal:20241011T170000
DTEND;TZID=America/Montreal:20241011T190000
DTSTAMP:20260422T183812
CREATED:20241004T015710Z
LAST-MODIFIED:20241004T015711Z
UID:10005394-1728666000-1728673200@www.lemontmartre.ca
SUMMARY:Quand survient le choc d’une maladie
DESCRIPTION:5 à 7 du MONTMARTRE — CAUSERIE\, COLLATION\, PARTAGE \nPersonne-ressource : Marie-Françoise Panisset
URL:https://www.lemontmartre.ca/event/quand-survient-le-choc-dune-maladie/
LOCATION:Centre Le Montmartre
CATEGORIES:Conférences et débats
ATTACH;FMTTYPE=image/jpeg:https://www.lemontmartre.ca/wp-content/uploads/2024/10/5-A-7-DU-MONTMARTRE-11-octobre-2024-Facebook-Cover.jpg
END:VEVENT
BEGIN:VEVENT
DTSTART;TZID=America/Montreal:20241008T093000
DTEND;TZID=America/Montreal:20241008T110000
DTSTAMP:20260422T183812
CREATED:20240914T030041Z
LAST-MODIFIED:20240914T030042Z
UID:10005360-1728379800-1728385200@www.lemontmartre.ca
SUMMARY:CAFÉ «BONNE NOUVELLE»
DESCRIPTION:Regard chrétien sur les événements du monde \n 
URL:https://www.lemontmartre.ca/event/cafe-bonne-nouvelle/2024-10-08/
LOCATION:Centre Le Montmartre
CATEGORIES:Formations
ATTACH;FMTTYPE=image/jpeg:https://www.lemontmartre.ca/wp-content/uploads/2024/09/CAFE-BONNE-NOUVELLE-2024-Facebook-Cover.jpg
END:VEVENT
BEGIN:VEVENT
DTSTART;TZID=America/Montreal:20241007T193000
DTEND;TZID=America/Montreal:20241007T210000
DTSTAMP:20260422T183812
CREATED:20240914T025305Z
LAST-MODIFIED:20240914T025342Z
UID:10005353-1728329400-1728334800@www.lemontmartre.ca
SUMMARY:«  SE CONNAÎTRE ET SE TROUVER »  avec Marie de l’Incarnation
DESCRIPTION:« C’est en vous aimant que je vous connaîtrai »\nEn PRÉSENTIEL et en ZOOM*\n*ZOOM sera accessible seulement aux personnes qui habitent à l’extérieur de la ville de Québec et pour qui il est impossible se rendre à la rencontre en présentiel.
URL:https://www.lemontmartre.ca/event/se-connaitre-et-se-trouver-avec-marie-de-lincarnation-2/2024-10-07/
LOCATION:Centre Le Montmartre
CATEGORIES:Formations
ATTACH;FMTTYPE=image/jpeg:https://www.lemontmartre.ca/wp-content/uploads/2024/09/Formation-Marie-de-lIncarnation-Automne-2024-Facebook-Cover.jpg
END:VEVENT
BEGIN:VEVENT
DTSTART;TZID=America/Montreal:20241007T140000
DTEND;TZID=America/Montreal:20241007T153000
DTSTAMP:20260422T183812
CREATED:20241004T014557Z
LAST-MODIFIED:20241004T014845Z
UID:10004476-1728309600-1728315000@www.lemontmartre.ca
SUMMARY:MAISONNÉE: Approfondir et Partager notre Foi en compagnie de « l’Élu » (The Chosen)
DESCRIPTION:Partage inspiré de la méthode Lectio Divina : vécu spirituel \nSalle Staub\, Centre « Culture et Foi » Montmartre\,\n1669\, Chemin Saint Louis\, Québec\, QC G1S 1G5
URL:https://www.lemontmartre.ca/event/maisonnee-2-partage-spirituel-inspire-de-la-serie-lelu-the-chosen-4-2/2024-10-07/
LOCATION:Centre Le Montmartre
CATEGORIES:Agenda des activités,Espace de rencontres
ATTACH;FMTTYPE=image/jpeg:https://www.lemontmartre.ca/wp-content/uploads/2024/09/Maisonnee-Elu-2024-Automne-Banner-Landscape.jpg
END:VEVENT
BEGIN:VEVENT
DTSTART;TZID=America/Montreal:20241006T114500
DTEND;TZID=America/Montreal:20241006T140000
DTSTAMP:20260422T183812
CREATED:20240921T030833Z
LAST-MODIFIED:20250122T043906Z
UID:10005379-1728215100-1728223200@www.lemontmartre.ca
SUMMARY:Repas communautaire
DESCRIPTION:
URL:https://www.lemontmartre.ca/event/repas-communautaire-2/2024-10-06/
LOCATION:Centre Le Montmartre
CATEGORIES:Espace de rencontres
END:VEVENT
BEGIN:VEVENT
DTSTART;TZID=America/Montreal:20240926T193000
DTEND;TZID=America/Montreal:20240926T210000
DTSTAMP:20260422T183812
CREATED:20240907T180708Z
LAST-MODIFIED:20240907T180734Z
UID:10004509-1727379000-1727384400@www.lemontmartre.ca
SUMMARY:COMMENT CROIRE ENCORE ?
DESCRIPTION:Conférence dans le cadre des défis et débats actuels\, avec Jacques Lison
URL:https://www.lemontmartre.ca/event/comment-croire-encore/
LOCATION:Centre Le Montmartre
CATEGORIES:Conférences et débats
ATTACH;FMTTYPE=image/jpeg:https://www.lemontmartre.ca/wp-content/uploads/2024/09/CONF-MMARTRE-2024_J-Lison_FB.jpg
END:VEVENT
BEGIN:VEVENT
DTSTART;TZID=America/Montreal:20240924T190000
DTEND;TZID=America/Montreal:20240924T210000
DTSTAMP:20260422T183812
CREATED:20240914T030923Z
LAST-MODIFIED:20240914T030923Z
UID:10005365-1727204400-1727211600@www.lemontmartre.ca
SUMMARY:Augustin – l’homme – l’œuvre
DESCRIPTION:
URL:https://www.lemontmartre.ca/event/augustin-lhomme-loeuvre/2024-09-24/
LOCATION:Centre Le Montmartre
CATEGORIES:Formations
ATTACH;FMTTYPE=image/jpeg:https://www.lemontmartre.ca/wp-content/uploads/2024/09/Augustin-Marcel-Poirier-2024-Facebook-Cover1.jpg
END:VEVENT
BEGIN:VEVENT
DTSTART;TZID=America/Montreal:20240924T093000
DTEND;TZID=America/Montreal:20240924T110000
DTSTAMP:20260422T183812
CREATED:20240914T030041Z
LAST-MODIFIED:20240914T030042Z
UID:10005359-1727170200-1727175600@www.lemontmartre.ca
SUMMARY:CAFÉ «BONNE NOUVELLE»
DESCRIPTION:Regard chrétien sur les événements du monde \n 
URL:https://www.lemontmartre.ca/event/cafe-bonne-nouvelle/2024-09-24/
LOCATION:Centre Le Montmartre
CATEGORIES:Formations
ATTACH;FMTTYPE=image/jpeg:https://www.lemontmartre.ca/wp-content/uploads/2024/09/CAFE-BONNE-NOUVELLE-2024-Facebook-Cover.jpg
END:VEVENT
BEGIN:VEVENT
DTSTART;TZID=America/Montreal:20240923T193000
DTEND;TZID=America/Montreal:20240923T210000
DTSTAMP:20260422T183812
CREATED:20240914T025305Z
LAST-MODIFIED:20240914T025342Z
UID:10005352-1727119800-1727125200@www.lemontmartre.ca
SUMMARY:«  SE CONNAÎTRE ET SE TROUVER »  avec Marie de l’Incarnation
DESCRIPTION:« C’est en vous aimant que je vous connaîtrai »\nEn PRÉSENTIEL et en ZOOM*\n*ZOOM sera accessible seulement aux personnes qui habitent à l’extérieur de la ville de Québec et pour qui il est impossible se rendre à la rencontre en présentiel.
URL:https://www.lemontmartre.ca/event/se-connaitre-et-se-trouver-avec-marie-de-lincarnation-2/2024-09-23/
LOCATION:Centre Le Montmartre
CATEGORIES:Formations
ATTACH;FMTTYPE=image/jpeg:https://www.lemontmartre.ca/wp-content/uploads/2024/09/Formation-Marie-de-lIncarnation-Automne-2024-Facebook-Cover.jpg
END:VEVENT
BEGIN:VEVENT
DTSTART;TZID=America/Montreal:20240918T140000
DTEND;TZID=America/Montreal:20240918T153000
DTSTAMP:20260422T183812
CREATED:20240914T023243Z
LAST-MODIFIED:20240914T023243Z
UID:10005338-1726668000-1726673400@www.lemontmartre.ca
SUMMARY:LE VERBE PAROLE EST DEVENU CHAIR
DESCRIPTION:Revisiter L’Incarnation avec l’Évangile de Jean\nEn PRÉSENTIEL et en ZOOM*\n*ZOOM sera accessible seulement aux personnes qui habitent à l’extérieur de la ville de Québec et pour qui il est impossible se rendre à la rencontre en présentiel
URL:https://www.lemontmartre.ca/event/le-verbe-parole-est-devenu-chair-2/2024-09-18/
LOCATION:Centre Le Montmartre
CATEGORIES:Formations
ATTACH;FMTTYPE=image/jpeg:https://www.lemontmartre.ca/wp-content/uploads/2024/09/Formation-Evangile-de-Jean-Automne-2024-Facebook-Cover.jpg
END:VEVENT
BEGIN:VEVENT
DTSTART;TZID=America/Montreal:20240913T170000
DTEND;TZID=America/Montreal:20240913T190000
DTSTAMP:20260422T183812
CREATED:20240907T174635Z
LAST-MODIFIED:20240907T174652Z
UID:10004474-1726246800-1726254000@www.lemontmartre.ca
SUMMARY:La Bonté au Quotidien
DESCRIPTION:5 à 7 avec Gilles Nadeau\, prêtre et accompagnateur spirituel à la maison des soins palliatifs Michel-Sarrazin\, Québec 
URL:https://www.lemontmartre.ca/event/la-bonte-au-quotidien/
LOCATION:Centre Le Montmartre
CATEGORIES:Agenda des activités,Conférences et débats
ATTACH;FMTTYPE=image/jpeg:https://www.lemontmartre.ca/wp-content/uploads/2024/09/5-A-7-DU-MONTMARTRE-13-Septembre-2024-Facebook-Cover.jpg
END:VEVENT
BEGIN:VEVENT
DTSTART;TZID=America/Montreal:20240815T193000
DTEND;TZID=America/Montreal:20240815T210000
DTSTAMP:20260422T183812
CREATED:20240701T134336Z
LAST-MODIFIED:20240805T014532Z
UID:10003977-1723750200-1723755600@www.lemontmartre.ca
SUMMARY:Retraite de l'Assomption
DESCRIPTION:Au cours des célébrations eucharistiques suivies de la vénération de l’icône de la Vierge Marie \nThème : De Visitation en Visitation. Histoires de famille\n* Le 13 août: – Visitation de l’ange à Zacharie\n* Le 14 août: – Visitation de l’ange à Joseph\n* Le 15 août: – Visitation: Marie et Élisabeth \nPrédication assurée par Sylvie Latreille\, de la fraternité dominicaine de Montréal\, précédemment professeure de théologie à l’Institut Pastoral des Dominicains à Montréal
URL:https://www.lemontmartre.ca/event/retraite-de-lassomption/2024-08-15/
LOCATION:Centre Le Montmartre
CATEGORIES:Agenda des activités,Prière et intériorité
ATTACH;FMTTYPE=image/jpeg:https://www.lemontmartre.ca/wp-content/uploads/2024/07/Retraite-de-lAssomption_2024-scaled.jpg
END:VEVENT
BEGIN:VEVENT
DTSTART;TZID=America/Montreal:20240814T193000
DTEND;TZID=America/Montreal:20240814T210000
DTSTAMP:20260422T183812
CREATED:20240701T134336Z
LAST-MODIFIED:20240805T014532Z
UID:10003976-1723663800-1723669200@www.lemontmartre.ca
SUMMARY:Retraite de l'Assomption
DESCRIPTION:Au cours des célébrations eucharistiques suivies de la vénération de l’icône de la Vierge Marie \nThème : De Visitation en Visitation. Histoires de famille\n* Le 13 août: – Visitation de l’ange à Zacharie\n* Le 14 août: – Visitation de l’ange à Joseph\n* Le 15 août: – Visitation: Marie et Élisabeth \nPrédication assurée par Sylvie Latreille\, de la fraternité dominicaine de Montréal\, précédemment professeure de théologie à l’Institut Pastoral des Dominicains à Montréal
URL:https://www.lemontmartre.ca/event/retraite-de-lassomption/2024-08-14/
LOCATION:Centre Le Montmartre
CATEGORIES:Agenda des activités,Prière et intériorité
ATTACH;FMTTYPE=image/jpeg:https://www.lemontmartre.ca/wp-content/uploads/2024/07/Retraite-de-lAssomption_2024-scaled.jpg
END:VEVENT
BEGIN:VEVENT
DTSTART;TZID=America/Montreal:20240813T193000
DTEND;TZID=America/Montreal:20240813T210000
DTSTAMP:20260422T183812
CREATED:20240701T134336Z
LAST-MODIFIED:20240805T014532Z
UID:10003975-1723577400-1723582800@www.lemontmartre.ca
SUMMARY:Retraite de l'Assomption
DESCRIPTION:Au cours des célébrations eucharistiques suivies de la vénération de l’icône de la Vierge Marie \nThème : De Visitation en Visitation. Histoires de famille\n* Le 13 août: – Visitation de l’ange à Zacharie\n* Le 14 août: – Visitation de l’ange à Joseph\n* Le 15 août: – Visitation: Marie et Élisabeth \nPrédication assurée par Sylvie Latreille\, de la fraternité dominicaine de Montréal\, précédemment professeure de théologie à l’Institut Pastoral des Dominicains à Montréal
URL:https://www.lemontmartre.ca/event/retraite-de-lassomption/2024-08-13/
LOCATION:Centre Le Montmartre
CATEGORIES:Agenda des activités,Prière et intériorité
ATTACH;FMTTYPE=image/jpeg:https://www.lemontmartre.ca/wp-content/uploads/2024/07/Retraite-de-lAssomption_2024-scaled.jpg
END:VEVENT
END:VCALENDAR