BEGIN:VCALENDAR
VERSION:2.0
PRODID:-//Le Montmartre - ECPv6.15.13//NONSGML v1.0//EN
CALSCALE:GREGORIAN
METHOD:PUBLISH
X-WR-CALNAME:Le Montmartre
X-ORIGINAL-URL:https://www.lemontmartre.ca
X-WR-CALDESC:Évènements pour Le Montmartre
REFRESH-INTERVAL;VALUE=DURATION:PT1H
X-Robots-Tag:noindex
X-PUBLISHED-TTL:PT1H
BEGIN:VTIMEZONE
TZID:America/Montreal
BEGIN:DAYLIGHT
TZOFFSETFROM:-0500
TZOFFSETTO:-0400
TZNAME:EDT
DTSTART:20230312T070000
END:DAYLIGHT
BEGIN:STANDARD
TZOFFSETFROM:-0400
TZOFFSETTO:-0500
TZNAME:EST
DTSTART:20231105T060000
END:STANDARD
BEGIN:DAYLIGHT
TZOFFSETFROM:-0500
TZOFFSETTO:-0400
TZNAME:EDT
DTSTART:20240310T070000
END:DAYLIGHT
BEGIN:STANDARD
TZOFFSETFROM:-0400
TZOFFSETTO:-0500
TZNAME:EST
DTSTART:20241103T060000
END:STANDARD
BEGIN:DAYLIGHT
TZOFFSETFROM:-0500
TZOFFSETTO:-0400
TZNAME:EDT
DTSTART:20250309T070000
END:DAYLIGHT
BEGIN:STANDARD
TZOFFSETFROM:-0400
TZOFFSETTO:-0500
TZNAME:EST
DTSTART:20251102T060000
END:STANDARD
BEGIN:DAYLIGHT
TZOFFSETFROM:-0500
TZOFFSETTO:-0400
TZNAME:EDT
DTSTART:20260308T070000
END:DAYLIGHT
BEGIN:STANDARD
TZOFFSETFROM:-0400
TZOFFSETTO:-0500
TZNAME:EST
DTSTART:20261101T060000
END:STANDARD
END:VTIMEZONE
BEGIN:VEVENT
DTSTART;TZID=America/Montreal:20250314T170000
DTEND;TZID=America/Montreal:20250314T190000
DTSTAMP:20260422T123112
CREATED:20250131T051611Z
LAST-MODIFIED:20250131T051634Z
UID:10007022-1741971600-1741978800@www.lemontmartre.ca
SUMMARY:Solidarité et espérance
DESCRIPTION:5 à 7 avec Marcel Poirier\, augustin de l’Assomption
URL:https://www.lemontmartre.ca/event/solidarite-et-esperance/
LOCATION:Centre Le Montmartre
CATEGORIES:Conférences et débats
END:VEVENT
BEGIN:VEVENT
DTSTART;TZID=America/Montreal:20250310T193000
DTEND;TZID=America/Montreal:20250310T210000
DTSTAMP:20260422T123112
CREATED:20250118T033728Z
LAST-MODIFIED:20250323T162457Z
UID:10006824-1741635000-1741640400@www.lemontmartre.ca
SUMMARY:«SE CONNAÎTRE ET SE TROUVER» avec Marie de l’Incarnation
DESCRIPTION:
URL:https://www.lemontmartre.ca/event/se-connaitre-et-se-trouver-avec-marie-de-lincarnation-3/2025-03-10/
LOCATION:Centre Le Montmartre
CATEGORIES:Formations
ATTACH;FMTTYPE=image/jpeg:https://www.lemontmartre.ca/wp-content/uploads/2025/01/Formation-Marie-de-lIncarnation-HIver_Ete-2025-Facebook-Cover.jpg
END:VEVENT
BEGIN:VEVENT
DTSTART;TZID=America/Montreal:20250305T140000
DTEND;TZID=America/Montreal:20250305T153000
DTSTAMP:20260422T123112
CREATED:20250314T023451Z
LAST-MODIFIED:20250314T023451Z
UID:10007493-1741183200-1741188600@www.lemontmartre.ca
SUMMARY:LA BONTÉ QUI NOUS REND PLUS VIVANTS
DESCRIPTION:Ouvrir le Livre de Tobie
URL:https://www.lemontmartre.ca/event/la-bonte-qui-nous-rend-plus-vivants/2025-03-05/
LOCATION:Centre Le Montmartre
CATEGORIES:Formations
ATTACH;FMTTYPE=image/jpeg:https://www.lemontmartre.ca/wp-content/uploads/2025/01/Livre-de-Tobie_Hiver_Ete_2025.jpg
END:VEVENT
BEGIN:VEVENT
DTSTART;TZID=America/Montreal:20250304T093000
DTEND;TZID=America/Montreal:20250304T110000
DTSTAMP:20260422T123112
CREATED:20250118T034310Z
LAST-MODIFIED:20250121T045626Z
UID:10006830-1741080600-1741086000@www.lemontmartre.ca
SUMMARY:CAFÉ «BONNE NOUVELLE»
DESCRIPTION:
URL:https://www.lemontmartre.ca/event/cafe-bonne-nouvelle-3/2025-03-04/
LOCATION:Centre Le Montmartre
CATEGORIES:Formations
ATTACH;FMTTYPE=image/jpeg:https://www.lemontmartre.ca/wp-content/uploads/2025/01/CAFE-BONNE-NOUVELLE_HIver_Ete-2025-Facebook-Cover.jpg
END:VEVENT
BEGIN:VEVENT
DTSTART;TZID=America/Montreal:20250303T133000
DTEND;TZID=America/Montreal:20250303T153000
DTSTAMP:20260422T123112
CREATED:20250118T033021Z
LAST-MODIFIED:20250304T032157Z
UID:10006813-1741008600-1741015800@www.lemontmartre.ca
SUMMARY:MAISONNÉE – Approfondir et Partager notre Foi en compagnie de «l’Elu» (The Chosen)
DESCRIPTION:
URL:https://www.lemontmartre.ca/event/maisonnee-approfondir-et-partager-notre-foi-en-compagnie-de-lelu-the-chosen/2025-03-03/
LOCATION:Centre Le Montmartre
CATEGORIES:Espace de rencontres
ATTACH;FMTTYPE=image/jpeg:https://www.lemontmartre.ca/wp-content/uploads/2025/01/Maisonnee-Elu_Hiver_Ete_2025-Banner-Landscape.jpg
END:VEVENT
BEGIN:VEVENT
DTSTART;TZID=America/Montreal:20250227T190000
DTEND;TZID=America/Montreal:20250227T203000
DTSTAMP:20260422T123112
CREATED:20250121T045422Z
LAST-MODIFIED:20250121T045422Z
UID:10006857-1740682800-1740688200@www.lemontmartre.ca
SUMMARY:Ateliers spirituels sur la pratique de la méditation
DESCRIPTION:
URL:https://www.lemontmartre.ca/event/ateliers-spirituels-sur-la-pratique-de-la-meditation/2025-02-27/
LOCATION:Centre Le Montmartre
CATEGORIES:Formations
ATTACH;FMTTYPE=image/jpeg:https://www.lemontmartre.ca/wp-content/uploads/2025/01/Ateliers-spirituels_Facebook_HIver_Ete_2025.jpg
END:VEVENT
BEGIN:VEVENT
DTSTART;TZID=America/Montreal:20250224T193000
DTEND;TZID=America/Montreal:20250224T210000
DTSTAMP:20260422T123112
CREATED:20250118T033728Z
LAST-MODIFIED:20250323T162457Z
UID:10006823-1740425400-1740430800@www.lemontmartre.ca
SUMMARY:«SE CONNAÎTRE ET SE TROUVER» avec Marie de l’Incarnation
DESCRIPTION:
URL:https://www.lemontmartre.ca/event/se-connaitre-et-se-trouver-avec-marie-de-lincarnation-3/2025-02-24/
LOCATION:Centre Le Montmartre
CATEGORIES:Formations
ATTACH;FMTTYPE=image/jpeg:https://www.lemontmartre.ca/wp-content/uploads/2025/01/Formation-Marie-de-lIncarnation-HIver_Ete-2025-Facebook-Cover.jpg
END:VEVENT
BEGIN:VEVENT
DTSTART;TZID=America/Montreal:20250219T140000
DTEND;TZID=America/Montreal:20250219T153000
DTSTAMP:20260422T123112
CREATED:20250314T023451Z
LAST-MODIFIED:20250314T023451Z
UID:10007492-1739973600-1739979000@www.lemontmartre.ca
SUMMARY:LA BONTÉ QUI NOUS REND PLUS VIVANTS
DESCRIPTION:Ouvrir le Livre de Tobie
URL:https://www.lemontmartre.ca/event/la-bonte-qui-nous-rend-plus-vivants/2025-02-19/
LOCATION:Centre Le Montmartre
CATEGORIES:Formations
ATTACH;FMTTYPE=image/jpeg:https://www.lemontmartre.ca/wp-content/uploads/2025/01/Livre-de-Tobie_Hiver_Ete_2025.jpg
END:VEVENT
BEGIN:VEVENT
DTSTART;TZID=America/Montreal:20250217T133000
DTEND;TZID=America/Montreal:20250217T153000
DTSTAMP:20260422T123112
CREATED:20250118T033021Z
LAST-MODIFIED:20250304T032157Z
UID:10006812-1739799000-1739806200@www.lemontmartre.ca
SUMMARY:MAISONNÉE – Approfondir et Partager notre Foi en compagnie de «l’Elu» (The Chosen)
DESCRIPTION:
URL:https://www.lemontmartre.ca/event/maisonnee-approfondir-et-partager-notre-foi-en-compagnie-de-lelu-the-chosen/2025-02-17/
LOCATION:Centre Le Montmartre
CATEGORIES:Espace de rencontres
ATTACH;FMTTYPE=image/jpeg:https://www.lemontmartre.ca/wp-content/uploads/2025/01/Maisonnee-Elu_Hiver_Ete_2025-Banner-Landscape.jpg
END:VEVENT
BEGIN:VEVENT
DTSTART;TZID=America/Montreal:20250211T093000
DTEND;TZID=America/Montreal:20250211T110000
DTSTAMP:20260422T123112
CREATED:20250118T034310Z
LAST-MODIFIED:20250121T045626Z
UID:10006829-1739266200-1739271600@www.lemontmartre.ca
SUMMARY:CAFÉ «BONNE NOUVELLE»
DESCRIPTION:
URL:https://www.lemontmartre.ca/event/cafe-bonne-nouvelle-3/2025-02-11/
LOCATION:Centre Le Montmartre
CATEGORIES:Formations
ATTACH;FMTTYPE=image/jpeg:https://www.lemontmartre.ca/wp-content/uploads/2025/01/CAFE-BONNE-NOUVELLE_HIver_Ete-2025-Facebook-Cover.jpg
END:VEVENT
BEGIN:VEVENT
DTSTART;TZID=America/Montreal:20250210T193000
DTEND;TZID=America/Montreal:20250210T210000
DTSTAMP:20260422T123112
CREATED:20250118T033728Z
LAST-MODIFIED:20250323T162457Z
UID:10006822-1739215800-1739221200@www.lemontmartre.ca
SUMMARY:«SE CONNAÎTRE ET SE TROUVER» avec Marie de l’Incarnation
DESCRIPTION:
URL:https://www.lemontmartre.ca/event/se-connaitre-et-se-trouver-avec-marie-de-lincarnation-3/2025-02-10/
LOCATION:Centre Le Montmartre
CATEGORIES:Formations
ATTACH;FMTTYPE=image/jpeg:https://www.lemontmartre.ca/wp-content/uploads/2025/01/Formation-Marie-de-lIncarnation-HIver_Ete-2025-Facebook-Cover.jpg
END:VEVENT
BEGIN:VEVENT
DTSTART;TZID=America/Montreal:20250207T170000
DTEND;TZID=America/Montreal:20250207T190000
DTSTAMP:20260422T123112
CREATED:20250131T051224Z
LAST-MODIFIED:20250131T051236Z
UID:10007021-1738947600-1738954800@www.lemontmartre.ca
SUMMARY:Espoir et espérance
DESCRIPTION:5 à 7 avec Édouard Shatov\, augustin de l’Assomption
URL:https://www.lemontmartre.ca/event/espoir-et-esperance/
LOCATION:Centre Le Montmartre
CATEGORIES:Conférences et débats
END:VEVENT
BEGIN:VEVENT
DTSTART;TZID=America/Montreal:20250205T140000
DTEND;TZID=America/Montreal:20250205T153000
DTSTAMP:20260422T123112
CREATED:20250314T023451Z
LAST-MODIFIED:20250314T023451Z
UID:10007491-1738764000-1738769400@www.lemontmartre.ca
SUMMARY:LA BONTÉ QUI NOUS REND PLUS VIVANTS
DESCRIPTION:Ouvrir le Livre de Tobie
URL:https://www.lemontmartre.ca/event/la-bonte-qui-nous-rend-plus-vivants/2025-02-05/
LOCATION:Centre Le Montmartre
CATEGORIES:Formations
ATTACH;FMTTYPE=image/jpeg:https://www.lemontmartre.ca/wp-content/uploads/2025/01/Livre-de-Tobie_Hiver_Ete_2025.jpg
END:VEVENT
BEGIN:VEVENT
DTSTART;TZID=America/Montreal:20250203T133000
DTEND;TZID=America/Montreal:20250203T153000
DTSTAMP:20260422T123112
CREATED:20250118T033021Z
LAST-MODIFIED:20250304T032157Z
UID:10006811-1738589400-1738596600@www.lemontmartre.ca
SUMMARY:MAISONNÉE – Approfondir et Partager notre Foi en compagnie de «l’Elu» (The Chosen)
DESCRIPTION:
URL:https://www.lemontmartre.ca/event/maisonnee-approfondir-et-partager-notre-foi-en-compagnie-de-lelu-the-chosen/2025-02-03/
LOCATION:Centre Le Montmartre
CATEGORIES:Espace de rencontres
ATTACH;FMTTYPE=image/jpeg:https://www.lemontmartre.ca/wp-content/uploads/2025/01/Maisonnee-Elu_Hiver_Ete_2025-Banner-Landscape.jpg
END:VEVENT
BEGIN:VEVENT
DTSTART;TZID=America/Montreal:20250202T114500
DTEND;TZID=America/Montreal:20250202T140000
DTSTAMP:20260422T123112
CREATED:20250122T044010Z
LAST-MODIFIED:20250131T052203Z
UID:10005431-1738496700-1738504800@www.lemontmartre.ca
SUMMARY:Repas communautaire
DESCRIPTION:
URL:https://www.lemontmartre.ca/event/repas-communautaire-2-2/2025-02-02/
LOCATION:Centre Le Montmartre
CATEGORIES:Espace de rencontres
END:VEVENT
BEGIN:VEVENT
DTSTART;TZID=America/Montreal:20250130T190000
DTEND;TZID=America/Montreal:20250130T203000
DTSTAMP:20260422T123112
CREATED:20250121T045422Z
LAST-MODIFIED:20250121T045422Z
UID:10006856-1738263600-1738269000@www.lemontmartre.ca
SUMMARY:Ateliers spirituels sur la pratique de la méditation
DESCRIPTION:
URL:https://www.lemontmartre.ca/event/ateliers-spirituels-sur-la-pratique-de-la-meditation/2025-01-30/
LOCATION:Centre Le Montmartre
CATEGORIES:Formations
ATTACH;FMTTYPE=image/jpeg:https://www.lemontmartre.ca/wp-content/uploads/2025/01/Ateliers-spirituels_Facebook_HIver_Ete_2025.jpg
END:VEVENT
BEGIN:VEVENT
DTSTART;TZID=America/Montreal:20250129T140000
DTEND;TZID=America/Montreal:20250129T153000
DTSTAMP:20260422T123112
CREATED:20250314T023451Z
LAST-MODIFIED:20250314T023451Z
UID:10007490-1738159200-1738164600@www.lemontmartre.ca
SUMMARY:LA BONTÉ QUI NOUS REND PLUS VIVANTS
DESCRIPTION:Ouvrir le Livre de Tobie
URL:https://www.lemontmartre.ca/event/la-bonte-qui-nous-rend-plus-vivants/2025-01-29/
LOCATION:Centre Le Montmartre
CATEGORIES:Formations
ATTACH;FMTTYPE=image/jpeg:https://www.lemontmartre.ca/wp-content/uploads/2025/01/Livre-de-Tobie_Hiver_Ete_2025.jpg
END:VEVENT
BEGIN:VEVENT
DTSTART;TZID=America/Montreal:20250128T093000
DTEND;TZID=America/Montreal:20250128T110000
DTSTAMP:20260422T123112
CREATED:20250118T034310Z
LAST-MODIFIED:20250121T045626Z
UID:10006828-1738056600-1738062000@www.lemontmartre.ca
SUMMARY:CAFÉ «BONNE NOUVELLE»
DESCRIPTION:
URL:https://www.lemontmartre.ca/event/cafe-bonne-nouvelle-3/2025-01-28/
LOCATION:Centre Le Montmartre
CATEGORIES:Formations
ATTACH;FMTTYPE=image/jpeg:https://www.lemontmartre.ca/wp-content/uploads/2025/01/CAFE-BONNE-NOUVELLE_HIver_Ete-2025-Facebook-Cover.jpg
END:VEVENT
BEGIN:VEVENT
DTSTART;TZID=America/Montreal:20250127T193000
DTEND;TZID=America/Montreal:20250127T210000
DTSTAMP:20260422T123112
CREATED:20250118T033728Z
LAST-MODIFIED:20250323T162457Z
UID:10006821-1738006200-1738011600@www.lemontmartre.ca
SUMMARY:«SE CONNAÎTRE ET SE TROUVER» avec Marie de l’Incarnation
DESCRIPTION:
URL:https://www.lemontmartre.ca/event/se-connaitre-et-se-trouver-avec-marie-de-lincarnation-3/2025-01-27/
LOCATION:Centre Le Montmartre
CATEGORIES:Formations
ATTACH;FMTTYPE=image/jpeg:https://www.lemontmartre.ca/wp-content/uploads/2025/01/Formation-Marie-de-lIncarnation-HIver_Ete-2025-Facebook-Cover.jpg
END:VEVENT
BEGIN:VEVENT
DTSTART;TZID=America/Montreal:20250124T193000
DTEND;TZID=America/Montreal:20250124T210000
DTSTAMP:20260422T123112
CREATED:20250103T195938Z
LAST-MODIFIED:20250121T045717Z
UID:10006809-1737747000-1737752400@www.lemontmartre.ca
SUMMARY:Veillée de prière autour de la Croix à la manière de Taizé
DESCRIPTION:Dans le cadre de la Semaine de prière pour l’unité des chrétiens ayant pour thème: «Crois-tu cela?» (Jean 11\,26)
URL:https://www.lemontmartre.ca/event/veillee-de-priere-autour-de-la-croix-a-la-maniere-de-taize/
LOCATION:Centre Le Montmartre
CATEGORIES:Prière et intériorité
ATTACH;FMTTYPE=image/jpeg:https://www.lemontmartre.ca/wp-content/uploads/2024/05/417116887_773845938092285_1749679536784533805_n.jpg
END:VEVENT
BEGIN:VEVENT
DTSTART;TZID=America/Montreal:20250120T133000
DTEND;TZID=America/Montreal:20250120T153000
DTSTAMP:20260422T123112
CREATED:20250118T033021Z
LAST-MODIFIED:20250304T032157Z
UID:10006810-1737379800-1737387000@www.lemontmartre.ca
SUMMARY:MAISONNÉE – Approfondir et Partager notre Foi en compagnie de «l’Elu» (The Chosen)
DESCRIPTION:
URL:https://www.lemontmartre.ca/event/maisonnee-approfondir-et-partager-notre-foi-en-compagnie-de-lelu-the-chosen/2025-01-20/
LOCATION:Centre Le Montmartre
CATEGORIES:Espace de rencontres
ATTACH;FMTTYPE=image/jpeg:https://www.lemontmartre.ca/wp-content/uploads/2025/01/Maisonnee-Elu_Hiver_Ete_2025-Banner-Landscape.jpg
END:VEVENT
BEGIN:VEVENT
DTSTART;TZID=America/Montreal:20250115T140000
DTEND;TZID=America/Montreal:20250115T153000
DTSTAMP:20260422T123112
CREATED:20250314T023451Z
LAST-MODIFIED:20250314T023451Z
UID:10007489-1736949600-1736955000@www.lemontmartre.ca
SUMMARY:LA BONTÉ QUI NOUS REND PLUS VIVANTS
DESCRIPTION:Ouvrir le Livre de Tobie
URL:https://www.lemontmartre.ca/event/la-bonte-qui-nous-rend-plus-vivants/2025-01-15/
LOCATION:Centre Le Montmartre
CATEGORIES:Formations
ATTACH;FMTTYPE=image/jpeg:https://www.lemontmartre.ca/wp-content/uploads/2025/01/Livre-de-Tobie_Hiver_Ete_2025.jpg
END:VEVENT
BEGIN:VEVENT
DTSTART;TZID=America/Montreal:20250113T193000
DTEND;TZID=America/Montreal:20250113T210000
DTSTAMP:20260422T123112
CREATED:20250118T033728Z
LAST-MODIFIED:20250323T162457Z
UID:10006820-1736796600-1736802000@www.lemontmartre.ca
SUMMARY:«SE CONNAÎTRE ET SE TROUVER» avec Marie de l’Incarnation
DESCRIPTION:
URL:https://www.lemontmartre.ca/event/se-connaitre-et-se-trouver-avec-marie-de-lincarnation-3/2025-01-13/
LOCATION:Centre Le Montmartre
CATEGORIES:Formations
ATTACH;FMTTYPE=image/jpeg:https://www.lemontmartre.ca/wp-content/uploads/2025/01/Formation-Marie-de-lIncarnation-HIver_Ete-2025-Facebook-Cover.jpg
END:VEVENT
BEGIN:VEVENT
DTSTART;TZID=America/Montreal:20241231T210000
DTEND;TZID=America/Montreal:20250101T000000
DTSTAMP:20260422T123112
CREATED:20241017T042013Z
LAST-MODIFIED:20241219T012510Z
UID:10005423-1735678800-1735689600@www.lemontmartre.ca
SUMMARY:Le réveillon du Nouvel An
DESCRIPTION:Après l’eucharistie de fin d’année qui commencera à 20 heures
URL:https://www.lemontmartre.ca/event/le-reveillon-du-nouvel-an/
LOCATION:Centre Le Montmartre
CATEGORIES:Espace de rencontres
END:VEVENT
BEGIN:VEVENT
DTSTART;TZID=America/Montreal:20241231T200000
DTEND;TZID=America/Montreal:20241231T210000
DTSTAMP:20260422T123112
CREATED:20241218T021937Z
LAST-MODIFIED:20241218T021937Z
UID:10006291-1735675200-1735678800@www.lemontmartre.ca
SUMMARY:Messe de l’action de grâce pour l’année 2024 – Sainte Marie Mère de Dieu  à 20h00 (Centre)
DESCRIPTION:À noter: Messe de l’octave de la Nativité à 11h15 (Sanctuaire) 
URL:https://www.lemontmartre.ca/event/messe-de-laction-de-grace-pour-lannee-2024-sainte-marie-mere-de-dieu-a-20h00-centre/
LOCATION:Centre Le Montmartre
CATEGORIES:Offices religieux
END:VEVENT
BEGIN:VEVENT
DTSTART;TZID=America/Montreal:20241224T190000
DTEND;TZID=America/Montreal:20241224T203000
DTSTAMP:20260422T123112
CREATED:20241218T021108Z
LAST-MODIFIED:20241218T022301Z
UID:10006289-1735066800-1735072200@www.lemontmartre.ca
SUMMARY:Messe de la Nuit de la Nativité du Seigneur à 19h (Centre)
DESCRIPTION:À noter: Messe de 24 décembre au matin à 11h15 (Sanctuaire) 
URL:https://www.lemontmartre.ca/event/messe-de-la-nuit-de-la-nativite-du-seigneur/
LOCATION:Centre Le Montmartre
CATEGORIES:Offices religieux
END:VEVENT
BEGIN:VEVENT
DTSTART;TZID=America/Montreal:20241218T190000
DTEND;TZID=America/Montreal:20241218T210000
DTSTAMP:20260422T123112
CREATED:20241126T024352Z
LAST-MODIFIED:20241126T024352Z
UID:10005900-1734548400-1734555600@www.lemontmartre.ca
SUMMARY:Célébration de Réconciliation
DESCRIPTION:
URL:https://www.lemontmartre.ca/event/celebration-de-reconciliation/
LOCATION:Centre Le Montmartre
CATEGORIES:Prière et intériorité
END:VEVENT
BEGIN:VEVENT
DTSTART;TZID=America/Montreal:20241218T140000
DTEND;TZID=America/Montreal:20241218T153000
DTSTAMP:20260422T123112
CREATED:20240914T023243Z
LAST-MODIFIED:20240914T023243Z
UID:10005344-1734530400-1734535800@www.lemontmartre.ca
SUMMARY:LE VERBE PAROLE EST DEVENU CHAIR
DESCRIPTION:Revisiter L’Incarnation avec l’Évangile de Jean\nEn PRÉSENTIEL et en ZOOM*\n*ZOOM sera accessible seulement aux personnes qui habitent à l’extérieur de la ville de Québec et pour qui il est impossible se rendre à la rencontre en présentiel
URL:https://www.lemontmartre.ca/event/le-verbe-parole-est-devenu-chair-2/2024-12-18/
LOCATION:Centre Le Montmartre
CATEGORIES:Formations
ATTACH;FMTTYPE=image/jpeg:https://www.lemontmartre.ca/wp-content/uploads/2024/09/Formation-Evangile-de-Jean-Automne-2024-Facebook-Cover.jpg
END:VEVENT
BEGIN:VEVENT
DTSTART;TZID=America/Montreal:20241217T190000
DTEND;TZID=America/Montreal:20241217T210000
DTSTAMP:20260422T123112
CREATED:20240914T030923Z
LAST-MODIFIED:20240914T030923Z
UID:10005368-1734462000-1734469200@www.lemontmartre.ca
SUMMARY:Augustin – l’homme – l’œuvre
DESCRIPTION:
URL:https://www.lemontmartre.ca/event/augustin-lhomme-loeuvre/2024-12-17/
LOCATION:Centre Le Montmartre
CATEGORIES:Formations
ATTACH;FMTTYPE=image/jpeg:https://www.lemontmartre.ca/wp-content/uploads/2024/09/Augustin-Marcel-Poirier-2024-Facebook-Cover1.jpg
END:VEVENT
BEGIN:VEVENT
DTSTART;TZID=America/Montreal:20241217T093000
DTEND;TZID=America/Montreal:20241217T110000
DTSTAMP:20260422T123112
CREATED:20241207T215435Z
LAST-MODIFIED:20241207T215609Z
UID:10005364-1734427800-1734433200@www.lemontmartre.ca
SUMMARY:CAFÉ «BONNE NOUVELLE»
DESCRIPTION:Regard chrétien sur les événements du monde \n 
URL:https://www.lemontmartre.ca/event/cafe-bonne-nouvelle-2/
LOCATION:Centre Le Montmartre
CATEGORIES:Formations
ATTACH;FMTTYPE=image/jpeg:https://www.lemontmartre.ca/wp-content/uploads/2024/09/CAFE-BONNE-NOUVELLE-2024-Facebook-Cover.jpg
END:VEVENT
END:VCALENDAR